BEGIN:VCALENDAR
VERSION:2.0
PRODID:-//Saluspace 2.0 - ECPv6.15.20//NONSGML v1.0//EN
CALSCALE:GREGORIAN
METHOD:PUBLISH
X-WR-CALNAME:Saluspace 2.0
X-ORIGINAL-URL:https://saluspace.eu
X-WR-CALDESC:Eventi per Saluspace 2.0
REFRESH-INTERVAL;VALUE=DURATION:PT1H
X-Robots-Tag:noindex
X-PUBLISHED-TTL:PT1H
BEGIN:VTIMEZONE
TZID:UTC
BEGIN:STANDARD
TZOFFSETFROM:+0000
TZOFFSETTO:+0000
TZNAME:UTC
DTSTART:20250101T000000
END:STANDARD
END:VTIMEZONE
BEGIN:VEVENT
DTSTART;TZID=UTC:20260420T193000
DTEND;TZID=UTC:20260420T213000
DTSTAMP:20260420T032223
CREATED:20260310T110941Z
LAST-MODIFIED:20260310T110941Z
UID:6953-1776713400-1776720600@saluspace.eu
SUMMARY:Quartieri Teatrali
DESCRIPTION:Ogni lunedì dalle 19.30 alle 21.30 appuntamento con il laboratorio a cura di Cantieri Meticci che si concluderà a maggio\, con esito finale a Salus Space. \nQuesto laboratorio di teatro dà occasione di incrociare con i propri sguardi le storie di un luogo che ha ospitato per anni un ex ospedale\, oggi spazio rigenerato. Una locanda\, un’orto di comunità\, una sala studio\, un teatro\, le persone che vi abitano e le storie dei personaggi non ancora inventati: sono questi gli elementi di partenza del lavoro che condurrà Anna Luigia Autiero\, incentrato sulla corporeità e sul teatro fisico e di parola. \nUn percorso coinvolgente\, che fonde teatro e musica\, guidato attraverso i metodi di arte partecipata. \nEsplorazione creativa di teatro e musica.\nMetodi innovativi di arte partecipata.\nCreazione collettiva di uno spettacolo unico.\nQuanto costa: 380€ rateizzabili. Per partecipare all’attività è necessaria la tessera ARCI. Se ne sei sprovvisto\, è possibile farla in loco al costo di 10€. Per gli abitanti di Salus e per chi non è italiano\, il corso è gratuito. \nPer maggiori informazioni e iscrizioni:\nTelefono 051 709 2602\nWhatsApp 351 545 3899\nE-Mail formazione@cantierimeticci.it
URL:https://saluspace.eu/event/quartieri-teatrali-22/
LOCATION:Salus Space\, via Malvezza 2/2\, Bologna
END:VEVENT
END:VCALENDAR