BEGIN:VCALENDAR
VERSION:2.0
PRODID:-//Saluspace 2.0 - ECPv6.15.20//NONSGML v1.0//EN
CALSCALE:GREGORIAN
METHOD:PUBLISH
X-WR-CALNAME:Saluspace 2.0
X-ORIGINAL-URL:https://saluspace.eu
X-WR-CALDESC:Eventi per Saluspace 2.0
REFRESH-INTERVAL;VALUE=DURATION:PT1H
X-Robots-Tag:noindex
X-PUBLISHED-TTL:PT1H
BEGIN:VTIMEZONE
TZID:UTC
BEGIN:STANDARD
TZOFFSETFROM:+0000
TZOFFSETTO:+0000
TZNAME:UTC
DTSTART:20250101T000000
END:STANDARD
END:VTIMEZONE
BEGIN:VEVENT
DTSTART;TZID=UTC:20260422T173000
DTEND;TZID=UTC:20260422T183000
DTSTAMP:20260422T020429
CREATED:20260310T111643Z
LAST-MODIFIED:20260310T111643Z
UID:6961-1776879000-1776882600@saluspace.eu
SUMMARY:Danzando con Salus
DESCRIPTION:Il collettivo “Danzando con Salus” si ritrova con un appuntamento settimanale\, nel centro studi di Salus Space\, dedicato alla libertà espressiva e alla relazione con gli altri attraverso il linguaggio della danza. \nLa proposta dell’associazione Incontriamoci a Salus è aperta a tutte e tutti\, non serve esperienza\, solo voglia di mettersi in gioco e… un paio di calzini! A condurre\, anche quest’anno\, Fernanda Canino.\nQuando: tutti i mercoledì dalle 17:30 alle 18:30 fino a maggio\nMusiche a cura di: Fernanda Canino e Filippo Fabbri\n \nFlyer \nGli incontri si svolgono in un clima accogliente e informale\, dove ogni gesto può diventare danza e ogni persona può sentirsi parte di un gruppo.\nInfo e iscrizioni ️ incontriamociasalus@gmail.com  cell. 338 286 9055
URL:https://saluspace.eu/event/danzando-con-salus-25/
LOCATION:Salus Space\, via Malvezza 2/2\, Bologna
ORGANIZER;CN="Associazione Incontriamoci a Salus":MAILTO:incontriamociasalus@gmail.com
END:VEVENT
END:VCALENDAR