BEGIN:VCALENDAR
VERSION:2.0
PRODID:-//Saluspace 2.0 - ECPv6.15.20//NONSGML v1.0//EN
CALSCALE:GREGORIAN
METHOD:PUBLISH
X-WR-CALNAME:Saluspace 2.0
X-ORIGINAL-URL:https://saluspace.eu
X-WR-CALDESC:Eventi per Saluspace 2.0
REFRESH-INTERVAL;VALUE=DURATION:PT1H
X-Robots-Tag:noindex
X-PUBLISHED-TTL:PT1H
BEGIN:VTIMEZONE
TZID:UTC
BEGIN:STANDARD
TZOFFSETFROM:+0000
TZOFFSETTO:+0000
TZNAME:UTC
DTSTART:20200101T000000
END:STANDARD
END:VTIMEZONE
BEGIN:VEVENT
DTSTART;TZID=UTC:20210702T210000
DTEND;TZID=UTC:20210702T230000
DTSTAMP:20260423T023451
CREATED:20210614T150115Z
LAST-MODIFIED:20210701T083921Z
UID:1134-1625259600-1625266800@saluspace.eu
SUMMARY:Disintegrati - Storia corale di immigrazione
DESCRIPTION:Una serata di musica/performance/videoarte\, venerdì 2 luglio dalle ore 21. \nQuanto le condizioni di vita e di lavoro della prima generazione di immigrati determinano le esistenze anche dei loro figli nati in Italia?\nIn che misura e con che dinamiche il sentirsi trattati continuamente come un’umanità di serie B può innescare nei figli\, nelle cosiddette “seconde generazioni”\, sentimenti di rabbia e di “disintegrazione”?\nQueste alcune delle domande alla base della serata di performance che tramite i linguaggi artistici più diversi tocca questioni ineludibili nell’attuale dibattito sullo ius soli/ius sanguinis.\nSulla scena 5 artisti di grande potenza: il musicista e videomaker Reda Zine; la poeta\, performer\, scrittrice Wissal Houbabi; gli attori Youssef El Ghada e Younes El Bouzari (Vincitori del Premio Scenario per Ustica 2017); e la videoartista Sara Pour\, per creare un racconto collettivo  in cui i toni e i linguaggi si mescolano\, passando dall’ironia alla denuncia\, dalla narrazione alla musica\, dalle testimonianze alla videoarte.
URL:https://saluspace.eu/event/disintegrati-storia-corale-di-immigrazione/
ATTACH;FMTTYPE=image/jpeg:https://saluspace.eu/wp-content/uploads/2021/06/disintegrati-1.jpg
END:VEVENT
BEGIN:VEVENT
DTSTART;TZID=UTC:20210703T210000
DTEND;TZID=UTC:20210703T233000
DTSTAMP:20260423T023451
CREATED:20210614T150652Z
LAST-MODIFIED:20210701T084312Z
UID:1136-1625346000-1625355000@saluspace.eu
SUMMARY:Rap vs Poetry
DESCRIPTION:Rap vs Poetry è una serata in collaborazione con Zoopalco\, sabato 3 luglio dalle 21 (contest 21-23\, poi djset). \nE’ una sfida tra rapper e poetə che accoglie in sé le regole della battle e quelle del poetry slam. Due squadre capitanate da due MC d’eccezione: Wissal Houbabi e Matteo Di Genova. Quattro rapper\, quattro poetə e un beatboxer a disposizione di chi vorrà usarlo come strumento umano (in barba alle regole dello slam). L* sfidanti saranno con una open call.\nA decretare *l vincitorə sarà come sempre il pubblico\, che nelle prime due manches voterà secondo le modalità del poetry slam (5 giuratə sceltə a caso\, voti da 1 a 10 con eliminazione del più alto e del più basso). Per la finale a due vogliamo un po’ di casino: si vince per acclamazione come in una battle di freestyle.\nIn premio 150€ ma non solo: *l vincitorə avrà la possibilità di esibirsi al prossimo Slam X\, il festival di Agenzia X che ogni anno ospita sul palco del Cox18 (Milano) le esibizioni di rapper e poetə internazionali – e ovviamente la finale del Premio Alberto Dubito di poesia con musica.\nDj set finale: Pablito el drito – musica elettronica/tekno
URL:https://saluspace.eu/event/rap-vs-poetry/
ATTACH;FMTTYPE=image/jpeg:https://saluspace.eu/wp-content/uploads/2021/06/img-zoopalco-1.jpg
END:VEVENT
BEGIN:VEVENT
DTSTART;TZID=UTC:20210708T210000
DTEND;TZID=UTC:20210710T233000
DTSTAMP:20260423T023451
CREATED:20210614T151241Z
LAST-MODIFIED:20210701T084540Z
UID:1139-1625778000-1625959800@saluspace.eu
SUMMARY:Racconto di un'analfabeta
DESCRIPTION:Lavoro liberamente tratto da “L’analfabeta” di Agota Kristof\, dall’8 al 10 luglio\, a partire dalle ore 21. \nCon Stefania Alterio\, Anna Luigia Autiero\, Arianna Bartolucci\, Laura Bigoni\, Younes El Bouzari\, Nicola Gencarelli\, Emiliano Minoccheri\, Irene Maria Olavide\na cura di Nicola Bortolotti \nUndici capitoli\, undici episodi della vita dell’autrice di “Trilogia della città di K.”\, dalla bambina che divora i libri in Ungheria alla scrittura dei primi libri in francese. L’infanzia felice\, la povertà del dopoguerra\, gli anni di solitudine in collegio\, la morte di Stalin\, la lingua materna e le lingue nemiche\, la fuga in Austria e l’arrivo a Losanna\, profuga con un bebè.\nSenza compatimenti e\, anzi\, con una buona dose di humor\, Agota Kristof traccia la frontiera che nella sua opera separa invenzione romanzesca e vena biografica\, poli imprescindibili per la messa “in voce” di un racconto personalissimo e\, insieme\, universale.
URL:https://saluspace.eu/event/racconto-di-unanalfabeta/
ATTACH;FMTTYPE=image/jpeg:https://saluspace.eu/wp-content/uploads/2021/06/analfabeta.jpg
END:VEVENT
BEGIN:VEVENT
DTSTART;TZID=UTC:20210716T210000
DTEND;TZID=UTC:20210716T230000
DTSTAMP:20260423T023451
CREATED:20210614T151534Z
LAST-MODIFIED:20210701T084811Z
UID:1141-1626469200-1626476400@saluspace.eu
SUMMARY:La letteratura ci salverà dall’estinzione
DESCRIPTION:Una conversazione con Carla Benedetti\, il 16 luglio\, accompagnata da un reading musicale. Dalle ore 21. \nPer stimolare un radicale cambiamento di rotta di fronte ai rischi che corre la terra basterebbe mettersi nei panni di chi verrà dopo di noi. Farsi “acrobati nel tempo”\, afferma Carla Benedetti\, citando Gunther Anders\, nell’importante libro “La letteratura ci salverà dall’estinzione”.\nDel ruolo che può avere la parola nel mutare il nostro modo di ragionare e di sentire ne parleremo con l’autrice in una serata in cui le riflessioni si alterneranno a brani recitati dagli attori di Cantieri Meticci e musica dal vivo suonate dal Collettivo Radio Matassa.
URL:https://saluspace.eu/event/la-letteratura-ci-salvera-dallestinzione/
ATTACH;FMTTYPE=image/jpeg:https://saluspace.eu/wp-content/uploads/2021/06/benedetti.jpg
END:VEVENT
BEGIN:VEVENT
DTSTART;TZID=UTC:20210717T180000
DTEND;TZID=UTC:20210717T230000
DTSTAMP:20260423T023451
CREATED:20210614T153846Z
LAST-MODIFIED:20210701T085207Z
UID:1145-1626544800-1626562800@saluspace.eu
SUMMARY:Amazzonia. Storia di un Guaranì e del suo popolo
DESCRIPTION:Il 17 luglio\, una serata dedicata alla testimonianza di Atucà Guaranì\, Figlio del Vento\, messaggero della sua cultura. \nSi comincia alle ore 18 con un Laboratorio di empanadas condotto da Atucà Guaranì e Roberta Pizzi (numero massimo di partecipanti: 10). \nAlle 21 Amazzonia. Storia di un Guaranì e del suo popolo. \nAtucà è stato portavoce delle minoranze indigene per l’UNESCO. Oggi desidera raccontare la sua storia\, la cultura\, la spiritualità guaranì e come vive ora il suo popolo.
URL:https://saluspace.eu/event/amazzonia-storia-di-un-guarani-e-del-suo-popolo/
ATTACH;FMTTYPE=image/jpeg:https://saluspace.eu/wp-content/uploads/2021/06/guarani.jpg
END:VEVENT
BEGIN:VEVENT
DTSTART;TZID=UTC:20210722T203000
DTEND;TZID=UTC:20210722T233000
DTSTAMP:20260423T023451
CREATED:20210720T071605Z
LAST-MODIFIED:20210720T072109Z
UID:1474-1626985800-1626996600@saluspace.eu
SUMMARY:Il futuro non è più quello di una volta
DESCRIPTION:Giovedì 22 luglio uno spettacolo con le allieve e gli allievi dei Quartieri Teatrali di Cantieri Meticci\, a cura di Arianna Bartolucci e Francesca Di Paolo. Dalle 20.30.\n“Possono gli alberi rispondere alle nostre domande?\nNoi non lo sappiamo\, ma proveremo a chiedere.\nPerché il futuro non è più quello di una volta”.
URL:https://saluspace.eu/event/il-futuro-non-e-piu-quello-di-una-volta/
ATTACH;FMTTYPE=image/jpeg:https://saluspace.eu/wp-content/uploads/2021/07/Il_mondo.jpg
END:VEVENT
BEGIN:VEVENT
DTSTART;TZID=UTC:20210723T180000
DTEND;TZID=UTC:20210723T230000
DTSTAMP:20260423T023451
CREATED:20210617T193640Z
LAST-MODIFIED:20210721T083340Z
UID:1215-1627063200-1627081200@saluspace.eu
SUMMARY:Serata global-beats
DESCRIPTION:Venerdì 23 luglio Salus Space si trasforma in un eccezionale palcoscenico: la serata si apre alle 21 con lo showcase dei giovani artisti del corso di formazione musicale One Beat 2021\, che presentano in anteprima i pezzi scritti e composti con l’aiuto di professionisti.\nA seguire dj set global-beats di Giorgio Cencetti – in arte Dj Farrapo – con incursioni di Devon Miles e uno spazio open-mic per chiunque desideri esibirsi. \nh 21.00 – Dj Farrapo \nGiorgio Cencetti – in arte Farrapo – è un musicologo\, dj e producer bolognese. Nell’arco della sua ventennale carriera ha raggiunto le 2000 esibizioni esibizioni nei club e festival di tutta Europa\, Brasile e negli Stati Uniti. Influenzato dalle culture musicali di tutto il mondo\, Farrapo propone una musica poliedrica e coinvolgente\, ricca di suggestioni vintage miscelate con vari stili di musica elettronica per il dancefloor. I suoi brani o remix sono stati pubblicati da major come Sony\, Wagram\, Universal o label leggendarie come la Verve o la londinese Afro Art rec.
URL:https://saluspace.eu/event/dj-farrapo-e-devon-miles/
ATTACH;FMTTYPE=image/jpeg:https://saluspace.eu/wp-content/uploads/2021/06/dj-farrapo.jpg
END:VEVENT
BEGIN:VEVENT
DTSTART;TZID=UTC:20210724T210000
DTEND;TZID=UTC:20210724T233000
DTSTAMP:20260423T023451
CREATED:20210617T194028Z
LAST-MODIFIED:20210624T095352Z
UID:1218-1627160400-1627169400@saluspace.eu
SUMMARY:Diaspore\, Movimenti d’Africa
DESCRIPTION:Sabato 24 luglio alle 21 un’inedita contaminazione tra un ensemble musicale guidato da Devon Miles e Guglielmo Pagnozzi e gli attori africani della compagnia Cantieri Meticci\, per intrecciare racconti di diaspore: le esperienze di chi nel perenne movimento ha saputo intravedere l’occasione per un’incessante sperimentazione nei linguaggi dell’arte: poesie\, narrazioni\, danze\, nate da un costante travaso tra culture musicali e narrative del tutto eterogenee.
URL:https://saluspace.eu/event/concerto-bantubeat-afrofunk-ensemble/
END:VEVENT
BEGIN:VEVENT
DTSTART;TZID=UTC:20210730T210000
DTEND;TZID=UTC:20210730T230000
DTSTAMP:20260423T023451
CREATED:20210617T194242Z
LAST-MODIFIED:20210701T090022Z
UID:1220-1627678800-1627686000@saluspace.eu
SUMMARY:Il pranzo di Babette
DESCRIPTION:venerdì 30 luglio\, dalle 21\, uno spettacolo da tavolo\, un gioco di società\, una cena multietnica per spettatori-commensali che prende spunto dalle “carte del destino” disegnate dall’artista iraniana Sara Pour a partire dal capolavoro di Karen Blixen.\n“Il pranzo di Babette” nasce da una domanda semplice\, che ha guidato il progetto fin dai suoi esordi: “quali sono i talenti nascosti di chi arriva in Italia da lontano\, e come scoprirli e valorizzarli?”
URL:https://saluspace.eu/event/il-pranzo-di-babette/
ATTACH;FMTTYPE=image/jpeg:https://saluspace.eu/wp-content/uploads/2021/06/babette.jpg
END:VEVENT
BEGIN:VEVENT
DTSTART;TZID=UTC:20210731T210000
DTEND;TZID=UTC:20210731T230000
DTSTAMP:20260423T023451
CREATED:20210618T071700Z
LAST-MODIFIED:20210701T090314Z
UID:1226-1627765200-1627772400@saluspace.eu
SUMMARY:I loro piedi senza radici non si ferivano mai
DESCRIPTION:Leggono: Donatella Allegro e Nicola Bortolotti\nAlla fisarmonica: David Sarnelli\n\nQuesta è una storia senza tempo. La storia di ogni espatriato\, di ogni innamorato\, di ogni lavoratore di fabbrica\, di ogni sognatore – uomo o donna che sia. Questa è la storia di ognuno di noi\, poiché ciascuno\, in fondo\, è straniero di qualcosa o di qualcuno; una storia in cui passato e presente\, realtà e immaginazione si mescolano senza soluzione di continuità e senza una meta\, forse senza senso.\nA meno che il senso non sia nella potenza del desiderio: una potenza che immagina\, crea\, distrugge\, e che può creare di nuovo\, magari proprio a partire dalla scrittura.
URL:https://saluspace.eu/event/i-loro-piedi-senza-radici-non-si-ferivano-mai/
ATTACH;FMTTYPE=image/jpeg:https://saluspace.eu/wp-content/uploads/2021/06/loro-piedi.jpg
END:VEVENT
END:VCALENDAR