BEGIN:VCALENDAR
VERSION:2.0
PRODID:-//Saluspace 2.0 - ECPv6.15.20//NONSGML v1.0//EN
CALSCALE:GREGORIAN
METHOD:PUBLISH
X-ORIGINAL-URL:https://saluspace.eu
X-WR-CALDESC:Eventi per Saluspace 2.0
REFRESH-INTERVAL;VALUE=DURATION:PT1H
X-Robots-Tag:noindex
X-PUBLISHED-TTL:PT1H
BEGIN:VTIMEZONE
TZID:UTC
BEGIN:STANDARD
TZOFFSETFROM:+0000
TZOFFSETTO:+0000
TZNAME:UTC
DTSTART:20200101T000000
END:STANDARD
END:VTIMEZONE
BEGIN:VEVENT
DTSTART;TZID=UTC:20210807T210000
DTEND;TZID=UTC:20210807T233000
DTSTAMP:20260423T004850
CREATED:20210618T071947Z
LAST-MODIFIED:20210701T090544Z
UID:1228-1628370000-1628379000@saluspace.eu
SUMMARY:Come un uomo inseguito
DESCRIPTION:Una ritualità ibrida tra l’installazione multimediale e lo spettacolo dal vivo. Primo studio\, con la regia di Pietro Floridia \nLo spazio installativo e scenografico è il Treno del Ricomincio\, una struttura di oltre 30 metri in cui viene allestito un percorso di oggetti\, pezzi di mobili\, fotografie\, vecchi abiti\, valigie\, mappe\, passaporti… Sono ciò che resta di itinerari di fuga.\nLa drammaturgia si configura come un montaggio di citazioni e di testimonianze sulle “figure della fuga”: prende le mosse dagli ultimi mesi di esilio e di fuga di Walter Benjamin\, montati insieme all’epopea di un altro geniale ebreo errante\, ovvero Eduard Sam\, padre dello scrittore Danilo Kis\, protagonista del romanzo capolavoro “Giardino Cenere” e scomparso ad Auschwitz.
URL:https://saluspace.eu/event/come-un-uomo-inseguito/
ATTACH;FMTTYPE=image/jpeg:https://saluspace.eu/wp-content/uploads/2021/06/come-un-uomo-inseguito.jpg
END:VEVENT
END:VCALENDAR