BEGIN:VCALENDAR
VERSION:2.0
PRODID:-//Saluspace 2.0 - ECPv6.15.20//NONSGML v1.0//EN
CALSCALE:GREGORIAN
METHOD:PUBLISH
X-ORIGINAL-URL:https://saluspace.eu
X-WR-CALDESC:Eventi per Saluspace 2.0
REFRESH-INTERVAL;VALUE=DURATION:PT1H
X-Robots-Tag:noindex
X-PUBLISHED-TTL:PT1H
BEGIN:VTIMEZONE
TZID:UTC
BEGIN:STANDARD
TZOFFSETFROM:+0000
TZOFFSETTO:+0000
TZNAME:UTC
DTSTART:20210101T000000
END:STANDARD
END:VTIMEZONE
BEGIN:VEVENT
DTSTART;TZID=UTC:20220113T193000
DTEND;TZID=UTC:20220113T213000
DTSTAMP:20260422T162348
CREATED:20211221T091554Z
LAST-MODIFIED:20211221T091554Z
UID:2106-1642102200-1642109400@saluspace.eu
SUMMARY:Laboratorio teatrale QT
DESCRIPTION:Quartiere Teatrale Salus Space è una tappa dell’avventura del Quartiere Teatrale organizzato da Cantieri Meticci. \nIl Quartiere è un percorso di creazione collettiva in cui si mescolano arti performative\, drammaturgia e sperimentazione musicale: l’obiettivo è quello di fornire a tutti i partecipanti mezzi e linguaggi per esprimersi e confrontarsi creativamente – come individui ma soprattutto come collettivo – intorno alle tematiche più importanti del nostro presente.\nIl laboratorio è aperto a tutti\, non servono esperienze pregresse ed è possibile partecipare gratuitamente alla prima lezione di prova!\n\nQT Salus Space\ndal 4 novembre\, tutti i giovedì dalle 19.30 alle 21.30\, via Malvezza 2/2 Bologna – Quartiere Savena\nper info e iscrizioni: formazione@cantierimeticci.it – 328.6145699\nè possibile anche iscriversi online sul sito dei Cantieri Meticci
URL:https://saluspace.eu/event/laboratorio-teatrale-qt-9/
LOCATION:Salus Space\, via Malvezza 2/2\, Bologna
ATTACH;FMTTYPE=image/jpeg:https://saluspace.eu/wp-content/uploads/2021/10/quartieri-teatrali1.jpg
END:VEVENT
BEGIN:VEVENT
DTSTART;TZID=UTC:20220115T083000
DTEND;TZID=UTC:20220115T130000
DTSTAMP:20260422T162348
CREATED:20220118T143610Z
LAST-MODIFIED:20220118T143610Z
UID:2192-1642235400-1642251600@saluspace.eu
SUMMARY:Mercato Contadino
DESCRIPTION:Ogni sabato mattina\, dalle 8.30 alle 13\, al Mercato Contadino di Salus Space si trovano ortaggi\, frutta\, formaggio\, pane e uova\, ma anche prodotti artigianali. \nUn’offerta di qualità negli ampi spazi aperti di via Malvezza 2/2\, a Bologna. \nDa febbraio la Locanda e l’Emporio sono aperti nelle ore di mercato. \nLa Locanda propone i deliziosi piatti della cucina siriana\, qui trovi il menù e gli orari di apertura. \nL’Emporio dello sfuso mette a disposizione di tutta la città prodotti alimentari e artigianali del territorio. Si trovano farine\, pasta\, vino\, birre artigianali\, miele e altro ancora\, il tutto selezionato con grande attenzione alla qualità.\nTrovate inoltre oggetti per la tavola e non solo in vetro di recupero
URL:https://saluspace.eu/event/mercato-contadino-25/
LOCATION:Salus Space\, via Malvezza 2/2\, Bologna
END:VEVENT
BEGIN:VEVENT
DTSTART;TZID=UTC:20220120T193000
DTEND;TZID=UTC:20220120T213000
DTSTAMP:20260422T162348
CREATED:20211221T091746Z
LAST-MODIFIED:20211221T092514Z
UID:2108-1642707000-1642714200@saluspace.eu
SUMMARY:Laboratorio teatrale QT
DESCRIPTION:Quartiere Teatrale Salus Space è una tappa dell’avventura del Quartiere Teatrale organizzato da Cantieri Meticci. \nIl Quartiere è un percorso di creazione collettiva in cui si mescolano arti performative\, drammaturgia e sperimentazione musicale: l’obiettivo è quello di fornire a tutti i partecipanti mezzi e linguaggi per esprimersi e confrontarsi creativamente – come individui ma soprattutto come collettivo – intorno alle tematiche più importanti del nostro presente.\nIl laboratorio è aperto a tutti\, non servono esperienze pregresse ed è possibile partecipare gratuitamente alla prima lezione di prova!\n\nQT Salus Space\ndal 4 novembre\, tutti i giovedì dalle 19.30 alle 21.30\, via Malvezza 2/2 Bologna – Quartiere Savena\nper info e iscrizioni: formazione@cantierimeticci.it – 328.6145699\nè possibile anche iscriversi online sul sito dei Cantieri Meticci
URL:https://saluspace.eu/event/laboratori-teatrali-qt/
LOCATION:Salus Space\, via Malvezza 2/2\, Bologna
ATTACH;FMTTYPE=image/jpeg:https://saluspace.eu/wp-content/uploads/2021/10/quartieri-teatrali1.jpg
END:VEVENT
BEGIN:VEVENT
DTSTART;TZID=UTC:20220122T083000
DTEND;TZID=UTC:20220122T130000
DTSTAMP:20260422T162348
CREATED:20220118T143446Z
LAST-MODIFIED:20220118T143446Z
UID:2189-1642840200-1642856400@saluspace.eu
SUMMARY:Mercato Contadino
DESCRIPTION:Ogni sabato mattina\, dalle 8.30 alle 13\, al Mercato Contadino di Salus Space si trovano ortaggi\, frutta\, formaggio\, pane e uova\, ma anche prodotti artigianali. \nUn’offerta di qualità negli ampi spazi aperti di via Malvezza 2/2\, a Bologna. \nDa febbraio la Locanda e l’Emporio sono aperti nelle ore di mercato. \nLa Locanda propone i deliziosi piatti della cucina siriana\, qui trovi il menù e gli orari di apertura. \nL’Emporio dello sfuso mette a disposizione di tutta la città prodotti alimentari e artigianali del territorio. Si trovano farine\, pasta\, vino\, birre artigianali\, miele e altro ancora\, il tutto selezionato con grande attenzione alla qualità.\nTrovate inoltre oggetti per la tavola e non solo in vetro di recupero
URL:https://saluspace.eu/event/mercato-contadino-24/
LOCATION:Salus Space\, via Malvezza 2/2\, Bologna
ATTACH;FMTTYPE=image/jpeg:https://saluspace.eu/wp-content/uploads/2021/09/mercato-1.jpg
END:VEVENT
BEGIN:VEVENT
DTSTART;TZID=UTC:20220127T193000
DTEND;TZID=UTC:20220127T213000
DTSTAMP:20260422T162348
CREATED:20211221T092112Z
LAST-MODIFIED:20211221T092112Z
UID:2110-1643311800-1643319000@saluspace.eu
SUMMARY:Laboratorio teatrale QT
DESCRIPTION:Quartiere Teatrale Salus Space è una tappa dell’avventura del Quartiere Teatrale organizzato da Cantieri Meticci. \nIl Quartiere è un percorso di creazione collettiva in cui si mescolano arti performative\, drammaturgia e sperimentazione musicale: l’obiettivo è quello di fornire a tutti i partecipanti mezzi e linguaggi per esprimersi e confrontarsi creativamente – come individui ma soprattutto come collettivo – intorno alle tematiche più importanti del nostro presente.\nIl laboratorio è aperto a tutti\, non servono esperienze pregresse ed è possibile partecipare gratuitamente alla prima lezione di prova!\n\nQT Salus Space\ndal 4 novembre\, tutti i giovedì dalle 19.30 alle 21.30\, via Malvezza 2/2 Bologna – Quartiere Savena\nper info e iscrizioni: formazione@cantierimeticci.it – 328.6145699\nè possibile anche iscriversi online sul sito dei Cantieri Meticci
URL:https://saluspace.eu/event/laboratorio-teatrale-qt-10/
LOCATION:Salus Space\, via Malvezza 2/2\, Bologna
ATTACH;FMTTYPE=image/jpeg:https://saluspace.eu/wp-content/uploads/2021/10/quartieri-teatrali1.jpg
END:VEVENT
BEGIN:VEVENT
DTSTART;TZID=UTC:20220129T083000
DTEND;TZID=UTC:20220129T130000
DTSTAMP:20260422T162348
CREATED:20220118T143211Z
LAST-MODIFIED:20220118T143211Z
UID:2187-1643445000-1643461200@saluspace.eu
SUMMARY:Mercato Contadino
DESCRIPTION:Ogni sabato mattina\, dalle 8.30 alle 13\, al Mercato Contadino di Salus Space si trovano ortaggi\, frutta\, formaggio\, pane e uova\, ma anche prodotti artigianali. \nUn’offerta di qualità negli ampi spazi aperti di via Malvezza 2/2\, a Bologna. \nDa febbraio la Locanda e l’Emporio sono aperti nelle ore di mercato. \nLa Locanda propone i deliziosi piatti della cucina siriana\, qui trovi il menù e gli orari di apertura. \nL’Emporio dello sfuso mette a disposizione di tutta la città prodotti alimentari e artigianali del territorio. Si trovano farine\, pasta\, vino\, birre artigianali\, miele e altro ancora\, il tutto selezionato con grande attenzione alla qualità.\nTrovate inoltre oggetti per la tavola e non solo in vetro di recupero
URL:https://saluspace.eu/event/mercato-contadino-23/
LOCATION:Salus Space\, via Malvezza 2/2\, Bologna
ATTACH;FMTTYPE=image/jpeg:https://saluspace.eu/wp-content/uploads/2021/09/mercato-1.jpg
END:VEVENT
BEGIN:VEVENT
DTSTART;TZID=UTC:20220129T153000
DTEND;TZID=UTC:20220129T173000
DTSTAMP:20260422T162348
CREATED:20220107T093513Z
LAST-MODIFIED:20220107T093639Z
UID:2162-1643470200-1643477400@saluspace.eu
SUMMARY:Le donne di Villa Salus
DESCRIPTION:Un nuovo evento curato da “L’Angolo della storia a Salus Space”\, gruppo di volontariato culturale nato per studiare\, far conoscere meglio e conservare la memoria di Villa Salus\, casa di cura ortopedica creata da Oscar Scaglietti. \nSabato 29 gennaio 2022\, con inizio alle 15.30\, sarà presentato il nuovo numero dei “Quaderni di Villa Salus”\, dal titolo “Le donne di Villa Salus”. \nVi sarà l’introduzione di Marilena Frati\, la proiezione di un breve video e le letture di Manuela Cuscini. Alla fine distribuzione in omaggio del libro\, frutto del lavoro di Emanuele Grieco. \nIl tutto a Forum Salus\, il centro studi di via Malvezza 2/2 a Bologna.
URL:https://saluspace.eu/event/le-donne-di-villa-salus/
LOCATION:Salus Space\, via Malvezza 2/2\, Bologna
ATTACH;FMTTYPE=image/jpeg:https://saluspace.eu/wp-content/uploads/2022/01/donne.jpg
END:VEVENT
END:VCALENDAR