BEGIN:VCALENDAR
VERSION:2.0
PRODID:-//Saluspace 2.0 - ECPv6.15.20//NONSGML v1.0//EN
CALSCALE:GREGORIAN
METHOD:PUBLISH
X-WR-CALNAME:Saluspace 2.0
X-ORIGINAL-URL:https://saluspace.eu
X-WR-CALDESC:Eventi per Saluspace 2.0
REFRESH-INTERVAL;VALUE=DURATION:PT1H
X-Robots-Tag:noindex
X-PUBLISHED-TTL:PT1H
BEGIN:VTIMEZONE
TZID:UTC
BEGIN:STANDARD
TZOFFSETFROM:+0000
TZOFFSETTO:+0000
TZNAME:UTC
DTSTART:20210101T000000
END:STANDARD
END:VTIMEZONE
BEGIN:VEVENT
DTSTART;TZID=UTC:20220303T193000
DTEND;TZID=UTC:20220303T213000
DTSTAMP:20260422T125418
CREATED:20220329T131828Z
LAST-MODIFIED:20220329T131828Z
UID:2579-1646335800-1646343000@saluspace.eu
SUMMARY:Laboratorio teatrale QT
DESCRIPTION:Quartiere Teatrale Salus Space è una tappa dell’avventura del Quartiere Teatrale organizzato da Cantieri Meticci. \nIl Quartiere è un percorso di creazione collettiva in cui si mescolano arti performative\, drammaturgia e sperimentazione musicale: l’obiettivo è quello di fornire a tutti i partecipanti mezzi e linguaggi per esprimersi e confrontarsi creativamente – come individui ma soprattutto come collettivo – intorno alle tematiche più importanti del nostro presente.\nIl laboratorio è aperto a tutti\, non servono esperienze pregresse ed è possibile partecipare gratuitamente alla prima lezione di prova!\n\nQT Salus Space\ndal 4 novembre\, tutti i giovedì dalle 19.30 alle 21.30\, via Malvezza 2/2 Bologna – Quartiere Savena\nper info e iscrizioni: formazione@cantierimeticci.it – 328.6145699\nè possibile anche iscriversi online sul sito dei Cantieri Meticci
URL:https://saluspace.eu/event/laboratorio-teatrale-qt-15/
LOCATION:Salus Space\, via Malvezza 2/2\, Bologna
ATTACH;FMTTYPE=image/jpeg:https://saluspace.eu/wp-content/uploads/2021/10/quartieri-teatrali1.jpg
END:VEVENT
BEGIN:VEVENT
DTSTART;TZID=UTC:20220305T083000
DTEND;TZID=UTC:20220305T130000
DTSTAMP:20260422T125418
CREATED:20211221T112010Z
LAST-MODIFIED:20211221T112010Z
UID:2139-1646469000-1646485200@saluspace.eu
SUMMARY:Mercato Contadino
DESCRIPTION:Ogni sabato mattina\, dalle 8.30 alle 13\, al Mercato Contadino di Salus Space si trovano ortaggi\, frutta\, formaggio\, pane e uova\, ma anche prodotti artigianali. \nUn’offerta di qualità negli ampi spazi aperti di via Malvezza 2/2\, a Bologna. \nDa febbraio la Locanda e l’Emporio sono aperti nelle ore di mercato. \nLa Locanda propone i deliziosi piatti della cucina siriana\, qui trovi il menù e gli orari di apertura. \nL’Emporio dello sfuso mette a disposizione di tutta la città prodotti alimentari e artigianali del territorio. Si trovano farine\, pasta\, vino\, birre artigianali\, miele e altro ancora\, il tutto selezionato con grande attenzione alla qualità.\nTrovate inoltre oggetti per la tavola e non solo in vetro di recupero
URL:https://saluspace.eu/event/mercato-contadino-31/
LOCATION:Salus Space\, via Malvezza 2/2\, Bologna
ATTACH;FMTTYPE=image/jpeg:https://saluspace.eu/wp-content/uploads/2021/09/mercato-1.jpg
END:VEVENT
BEGIN:VEVENT
DTSTART;TZID=UTC:20220305T090000
DTEND;TZID=UTC:20220305T150000
DTSTAMP:20260422T125418
CREATED:20211209T143241Z
LAST-MODIFIED:20220219T105502Z
UID:1986-1646470800-1646492400@saluspace.eu
SUMMARY:RiViva\, il tuo mercato dell'usato
DESCRIPTION:Per dare una seconda vita ai tuoi vestiti e ai tuoi oggetti\, a Salus Space c’è Riviva\, il mercato dell’usato in cui puoi avere uno spazio al aperto gratis per esporre e vendere le tue vecchie cose. \nAppuntamento sabato 5 marzo\, dalle 9.00 alle 15.00. \nSi può portare: oggettistica\, vestiti\, libri\, mobili piccoli… \nIn caso di maltempo il mercato sarà sospeso. \nper info e prenotazioni:  \nmercato@saluspace.eu\nWhatsApp 3927330060
URL:https://saluspace.eu/event/riviva-il-tuo-mercato-dellusato-2/
LOCATION:Salus Space\, via Malvezza 2/2\, Bologna
ATTACH;FMTTYPE=image/jpeg:https://saluspace.eu/wp-content/uploads/2021/12/riviva-calendario.jpg
END:VEVENT
BEGIN:VEVENT
DTSTART;TZID=UTC:20220310T100000
DTEND;TZID=UTC:20220310T130000
DTSTAMP:20260422T125418
CREATED:20220307T174755Z
LAST-MODIFIED:20220307T174851Z
UID:2430-1646906400-1646917200@saluspace.eu
SUMMARY:L'agricoltura sociale a Bologna
DESCRIPTION:Al via un ciclo di incontri\, realizzati nell’ambito del progetto Savena Insieme\, che ha come obiettivo quello di creare legami e relazioni di comunità e al contempo far conoscere al quartiere Savena\, e non solo\, Salus Space. \nL’agricoltura sociale a Bologna – Modelli e pratiche di welfare a contatto con la natura \nGiovedì 10 marzo 2022 – ore 10.00-13.00\, Salus Space – Via Malvezza 2/2\, Bologna \nIn un clima di generale ridefinizione dei modelli di welfare\, l’agricoltura sociale rappresenta un’importante prospettiva legata alla multifunzionalità agricolo-sociale e alla sostenibilità\, finalizzata alla promozione di azioni di inclusione sociale e lavorativa\, di servizi utili per la vita quotidiana\, ma anche di attività educative e ricreative o che affiancano le terapie. \nL’iniziativa “L’Agricoltura Sociale a Bologna. Modelli e pratiche di welfare a contatto con la natura”\, vuole essere un momento di dialogo attorno a questi temi\, a partire innanzitutto dalle pratiche messe in campo da alcuni protagonisti del panorama locale. \nInterverranno: Costantina Righetto\, Teresa Schipani\, Benedetto Liguerri\, Stefano Ramazza\, Elena Legnani\, Mirco Alboresi e rappresentanti di Fattoria Urbana Pilastro\, CopAPS e Coop Agriverde. Modera Stefano Spillare.\nIl programma \nPer iscrizione: https://forms.office.com/r/7dMDmakrVF \nIl seminario è promosso da DAMSLab del Dipartimento delle Arti\, Università di Bologna e ARS\, in collaborazione con IRS\, nell’ambito del progetto Savena Insieme
URL:https://saluspace.eu/event/lagricoltura-sociale-a-bologna/
LOCATION:Salus Space\, via Malvezza 2/2\, Bologna
ATTACH;FMTTYPE=image/jpeg:https://saluspace.eu/wp-content/uploads/2022/03/orto.jpg
END:VEVENT
BEGIN:VEVENT
DTSTART;TZID=UTC:20220310T193000
DTEND;TZID=UTC:20220310T213000
DTSTAMP:20260422T125418
CREATED:20220329T132002Z
LAST-MODIFIED:20220329T132002Z
UID:2581-1646940600-1646947800@saluspace.eu
SUMMARY:Laboratorio teatrale QT
DESCRIPTION:Quartiere Teatrale Salus Space è una tappa dell’avventura del Quartiere Teatrale organizzato da Cantieri Meticci. \nIl Quartiere è un percorso di creazione collettiva in cui si mescolano arti performative\, drammaturgia e sperimentazione musicale: l’obiettivo è quello di fornire a tutti i partecipanti mezzi e linguaggi per esprimersi e confrontarsi creativamente – come individui ma soprattutto come collettivo – intorno alle tematiche più importanti del nostro presente.\nIl laboratorio è aperto a tutti\, non servono esperienze pregresse ed è possibile partecipare gratuitamente alla prima lezione di prova!\n\nQT Salus Space\ndal 4 novembre\, tutti i giovedì dalle 19.30 alle 21.30\, via Malvezza 2/2 Bologna – Quartiere Savena\nper info e iscrizioni: formazione@cantierimeticci.it – 328.6145699\nè possibile anche iscriversi online sul sito dei Cantieri Meticci
URL:https://saluspace.eu/event/laboratorio-teatrale-qt-16/
LOCATION:Salus Space\, via Malvezza 2/2\, Bologna
ATTACH;FMTTYPE=image/jpeg:https://saluspace.eu/wp-content/uploads/2021/10/quartieri-teatrali1.jpg
END:VEVENT
BEGIN:VEVENT
DTSTART;TZID=UTC:20220312T000000
DTEND;TZID=UTC:20220312T130000
DTSTAMP:20260422T125418
CREATED:20220315T104638Z
LAST-MODIFIED:20220315T104638Z
UID:2459-1647043200-1647090000@saluspace.eu
SUMMARY:Coro babajaga
DESCRIPTION:Sabato 12 marzo oltre al mercato contadino\, all’emporio\, al bar e alla locanda con le sue specialità\, a Salus Space troverete il coro Baba jaga. Nove giovani donne che da poco hanno cominciato a cantare insieme e due tra loro abitano proprio qui a Salus. \nAlle 12 potrete gustarvi il loro repertorio di canzoni.
URL:https://saluspace.eu/event/coro-babajaga/
LOCATION:Salus Space\, via Malvezza 2/2\, Bologna
END:VEVENT
BEGIN:VEVENT
DTSTART;TZID=UTC:20220312T083000
DTEND;TZID=UTC:20220312T130000
DTSTAMP:20260422T125418
CREATED:20220222T111647Z
LAST-MODIFIED:20220222T111923Z
UID:2350-1647073800-1647090000@saluspace.eu
SUMMARY:Mercato Contadino
DESCRIPTION:Ogni sabato mattina\, dalle 8.30 alle 13\, al Mercato Contadino di Salus Space si trovano ortaggi\, frutta\, formaggio\, pane e uova\, ma anche prodotti artigianali. \nUn’offerta di qualità negli ampi spazi aperti di via Malvezza 2/2\, a Bologna. \nDa febbraio la Locanda e l’Emporio sono aperti nelle ore di mercato. \nLa Locanda propone i deliziosi piatti della cucina siriana\, qui trovi il menù e gli orari di apertura. \nL’Emporio dello sfuso mette a disposizione di tutta la città prodotti alimentari e artigianali del territorio. Si trovano farine\, pasta\, vino\, birre artigianali\, miele e altro ancora\, il tutto selezionato con grande attenzione alla qualità.\nTrovate inoltre oggetti per la tavola e non solo in vetro di recupero
URL:https://saluspace.eu/event/mercato-contadino-26/
LOCATION:Salus Space\, via Malvezza 2/2\, Bologna
ATTACH;FMTTYPE=image/jpeg:https://saluspace.eu/wp-content/uploads/2022/02/mercato-1.jpg
END:VEVENT
BEGIN:VEVENT
DTSTART;TZID=UTC:20220312T100000
DTEND;TZID=UTC:20220312T100000
DTSTAMP:20260422T125418
CREATED:20220307T164906Z
LAST-MODIFIED:20220307T174316Z
UID:2424-1647079200-1647079200@saluspace.eu
SUMMARY:Per conoscerci meglio - la Repubblica Dominicana
DESCRIPTION:Quarto incontro curato dagli abitanti di Salus Space per raccontare il proprio paese d’origine\, anche questa volta l’invito è aperto a tutta la cittadinanza: tocca alla Repubblica Dominicana!  \nSabato 12 marzo\, dalle 10 alle 12\, Solangy descriverà\, nella sala del centro studi di Salus\, i paesaggi dell’isola da cui proviene\, isola divisa tra la Repubblica Dominicana e Haiti\, nel Mar dei caraibi. La città di Solangy\, Montecristi\, è proprio al confine con Haiti. \nLa comunità degli abitanti di Salus invita tutte e tutti\, per condividere storie di vita e sguardi sul mondo da nuove prospettive. \nChiediamo ai partecipanti di indossare la mascherina\, è richiesto il Green Pass.
URL:https://saluspace.eu/event/per-conoscerci-meglio-la-repubblica-dominicana/
LOCATION:Salus Space\, via Malvezza 2/2\, Bologna
ATTACH;FMTTYPE=image/jpeg:https://saluspace.eu/wp-content/uploads/2022/03/dominicana2.jpg
END:VEVENT
BEGIN:VEVENT
DTSTART;TZID=UTC:20220316T173000
DTEND;TZID=UTC:20220316T190000
DTSTAMP:20260422T125418
CREATED:20220307T180334Z
LAST-MODIFIED:20220307T180334Z
UID:2435-1647451800-1647457200@saluspace.eu
SUMMARY:Welfare culturale e innovazione sociale
DESCRIPTION:Welfare culturale e innovazione sociale – Sguardi ed esperienze a confronto \nMercoledì 16 marzo 2022 – 17.30\, Salus Space – Via Malvezza 2/2\, Bologna \nl tema del welfare culturale è oggi al centro di un importante dibattito che pone in evidenza il ruolo della cultura nella produzione di cambiamento sociale e nella generazione di cittadinanza\, nonché l’idea di un modello integrato di promozione di benessere. Una tale prospettiva sollecita la riflessione su come favorire l’accesso e la distribuzione delle opportunità culturali e su quali pratiche sono in grado di incidere in chiave trasformativa sul piano degli immaginari sociali. \nL’iniziativa “Welfare culturale e innovazione sociale. Sguardi ed esperienze a confronto” vuole essere un momento di dialogo attorno a questi temi\, a partire dalle pratiche creative e culturali messe in campo da alcuni protagonisti del panorama locale. \nInterverranno: Elena Di Gioia\, Veronica Ceruti\, Pietro Floridia\, Silvia Spadoni\, Emilio Varrà\, Daniele Del Pozzo. Modera Giulia Allegrini.\nIl programma \nPer iscrizione: https://forms.office.com/r/8hAupeSQZR \nIl seminario è promosso da DAMSLab del Dipartimento delle Arti\, Università di Bologna e ARS\, in collaborazione con IRS e Cantieri Meticci\, nell’ambito del progetto Savena Insieme
URL:https://saluspace.eu/event/welfare-culturale-e-innovazione-sociale/
LOCATION:Salus Space\, via Malvezza 2/2\, Bologna
ATTACH;FMTTYPE=image/jpeg:https://saluspace.eu/wp-content/uploads/2022/03/danza.jpg
END:VEVENT
BEGIN:VEVENT
DTSTART;TZID=UTC:20220317T193000
DTEND;TZID=UTC:20220317T213000
DTSTAMP:20260422T125418
CREATED:20220329T132147Z
LAST-MODIFIED:20220329T132147Z
UID:2583-1647545400-1647552600@saluspace.eu
SUMMARY:Laboratorio teatrale QT
DESCRIPTION:Quartiere Teatrale Salus Space è una tappa dell’avventura del Quartiere Teatrale organizzato da Cantieri Meticci. \nIl Quartiere è un percorso di creazione collettiva in cui si mescolano arti performative\, drammaturgia e sperimentazione musicale: l’obiettivo è quello di fornire a tutti i partecipanti mezzi e linguaggi per esprimersi e confrontarsi creativamente – come individui ma soprattutto come collettivo – intorno alle tematiche più importanti del nostro presente.\nIl laboratorio è aperto a tutti\, non servono esperienze pregresse ed è possibile partecipare gratuitamente alla prima lezione di prova!\n\nQT Salus Space\ndal 4 novembre\, tutti i giovedì dalle 19.30 alle 21.30\, via Malvezza 2/2 Bologna – Quartiere Savena\nper info e iscrizioni: formazione@cantierimeticci.it – 328.6145699\nè possibile anche iscriversi online sul sito dei Cantieri Meticci
URL:https://saluspace.eu/event/laboratorio-teatrale-qt-17/
LOCATION:Salus Space\, via Malvezza 2/2\, Bologna
ATTACH;FMTTYPE=image/jpeg:https://saluspace.eu/wp-content/uploads/2021/10/quartieri-teatrali1.jpg
END:VEVENT
BEGIN:VEVENT
DTSTART;TZID=UTC:20220319T000000
DTEND;TZID=UTC:20220319T130000
DTSTAMP:20260422T125418
CREATED:20220315T105114Z
LAST-MODIFIED:20220315T105306Z
UID:2461-1647648000-1647694800@saluspace.eu
SUMMARY:Les Copains d'abord
DESCRIPTION:I sabati di Salus Space diventano sempre più intensi! Sabato 19 marzo alle 12.00 musica dal vivo con il concerto del gruppo Les Copains d’abord\, trio gipsy jazz.\nIngresso gratuito\, il sabato a Salus è mattina di mercato contadino! La Locanda è aperta.
URL:https://saluspace.eu/event/les-copains-dabord/
LOCATION:Salus Space\, via Malvezza 2/2\, Bologna
ATTACH;FMTTYPE=image/jpeg:https://saluspace.eu/wp-content/uploads/2022/03/Copain2.jpg
END:VEVENT
BEGIN:VEVENT
DTSTART;TZID=UTC:20220319T083000
DTEND;TZID=UTC:20220319T130000
DTSTAMP:20260422T125418
CREATED:20220222T112109Z
LAST-MODIFIED:20220222T112109Z
UID:2353-1647678600-1647694800@saluspace.eu
SUMMARY:Mercato Contadino
DESCRIPTION:Ogni sabato mattina\, dalle 8.30 alle 13\, al Mercato Contadino di Salus Space si trovano ortaggi\, frutta\, formaggio\, pane e uova\, ma anche prodotti artigianali. \nUn’offerta di qualità negli ampi spazi aperti di via Malvezza 2/2\, a Bologna. \nDa febbraio la Locanda e l’Emporio sono aperti nelle ore di mercato. \nLa Locanda propone i deliziosi piatti della cucina siriana\, qui trovi il menù e gli orari di apertura. \nL’Emporio dello sfuso mette a disposizione di tutta la città prodotti alimentari e artigianali del territorio. Si trovano farine\, pasta\, vino\, birre artigianali\, miele e altro ancora\, il tutto selezionato con grande attenzione alla qualità.\nTrovate inoltre oggetti per la tavola e non solo in vetro di recupero
URL:https://saluspace.eu/event/mercato-contadino-32/
LOCATION:Salus Space\, via Malvezza 2/2\, Bologna
ATTACH;FMTTYPE=image/jpeg:https://saluspace.eu/wp-content/uploads/2022/02/mercato-1.jpg
END:VEVENT
BEGIN:VEVENT
DTSTART;TZID=UTC:20220319T100000
DTEND;TZID=UTC:20220319T100000
DTSTAMP:20260422T125418
CREATED:20220315T105921Z
LAST-MODIFIED:20220315T105921Z
UID:2466-1647684000-1647684000@saluspace.eu
SUMMARY:Laboratorio per i bimbi
DESCRIPTION:Sabato 19 marzo appuntamento alle 10 sotto la bandiera della pace a Salus Space. Ci aspetta un laboratorio per bambini e bambine\, insieme creeremo un regalo per la festa del papà.
URL:https://saluspace.eu/event/laboratorio-per-i-bimbi/
LOCATION:Salus Space\, via Malvezza 2/2\, Bologna
ATTACH;FMTTYPE=image/jpeg:https://saluspace.eu/wp-content/uploads/2022/03/laboratori_bambini.jpg
END:VEVENT
BEGIN:VEVENT
DTSTART;TZID=UTC:20220324T193000
DTEND;TZID=UTC:20220324T213000
DTSTAMP:20260422T125418
CREATED:20220329T132334Z
LAST-MODIFIED:20220329T132334Z
UID:2585-1648150200-1648157400@saluspace.eu
SUMMARY:Laboratorio teatrale QT
DESCRIPTION:Quartiere Teatrale Salus Space è una tappa dell’avventura del Quartiere Teatrale organizzato da Cantieri Meticci. \nIl Quartiere è un percorso di creazione collettiva in cui si mescolano arti performative\, drammaturgia e sperimentazione musicale: l’obiettivo è quello di fornire a tutti i partecipanti mezzi e linguaggi per esprimersi e confrontarsi creativamente – come individui ma soprattutto come collettivo – intorno alle tematiche più importanti del nostro presente.\nIl laboratorio è aperto a tutti\, non servono esperienze pregresse ed è possibile partecipare gratuitamente alla prima lezione di prova!\n\nQT Salus Space\ndal 4 novembre\, tutti i giovedì dalle 19.30 alle 21.30\, via Malvezza 2/2 Bologna – Quartiere Savena\nper info e iscrizioni: formazione@cantierimeticci.it – 328.6145699\nè possibile anche iscriversi online sul sito dei Cantieri Meticci
URL:https://saluspace.eu/event/laboratorio-teatrale-qt-18/
LOCATION:Salus Space\, via Malvezza 2/2\, Bologna
ATTACH;FMTTYPE=image/jpeg:https://saluspace.eu/wp-content/uploads/2021/10/quartieri-teatrali1.jpg
END:VEVENT
BEGIN:VEVENT
DTSTART;TZID=UTC:20220326T000000
DTEND;TZID=UTC:20220326T130000
DTSTAMP:20260422T125418
CREATED:20220321T160720Z
LAST-MODIFIED:20220321T160744Z
UID:2511-1648252800-1648299600@saluspace.eu
SUMMARY:Danza con Mohamed Careca Bangoura
DESCRIPTION:Sabato 26 marzo alle 12 a Salus Space danza tradizionale africana con Mohamed Careca Bangoura.\nOriginario della Guinea Conakry\, Mohamed ha uno stile energico e intriso di pura tradizione della Guinea. Cresce immerso nella musica e la sua formazione artistica professionale comincia molto presto. Conakry è la capitale dei grandi balletti\, dove gli artisti vengono plasmati attraverso una formazione dura e severa.\nNel 2002\, è già coreografo dell “Balletto Folonko” che lo porta prima in Gambia e poi in Mali. Arriva in Francia dove viene immediatamente notato dal grande coreografo Moustapha Bangoura che lo vuole nel suo progetto “Ballet Wontanara”. Da allora Mohamed continua il suo percorso di ricerca artistica e tiene stage e corsi in tutta Europa. \nL’evento è gratuito e in contemporanea con il mercato contadino. Laboratori per bambini dalle 10 alle 12.
URL:https://saluspace.eu/event/danza-con-mohamed-careca-bangoura/
LOCATION:Salus Space\, via Malvezza 2/2\, Bologna
ATTACH;FMTTYPE=image/jpeg:https://saluspace.eu/wp-content/uploads/2022/03/careca-1.jpg
END:VEVENT
BEGIN:VEVENT
DTSTART;TZID=UTC:20220326T083000
DTEND;TZID=UTC:20220326T130000
DTSTAMP:20260422T125418
CREATED:20220222T112501Z
LAST-MODIFIED:20220222T112501Z
UID:2357-1648283400-1648299600@saluspace.eu
SUMMARY:Mercato Contadino
DESCRIPTION:Ogni sabato mattina\, dalle 8.30 alle 13\, al Mercato Contadino di Salus Space si trovano ortaggi\, frutta\, formaggio\, pane e uova\, ma anche prodotti artigianali. \nUn’offerta di qualità negli ampi spazi aperti di via Malvezza 2/2\, a Bologna. \nDa febbraio la Locanda e l’Emporio sono aperti nelle ore di mercato. \nLa Locanda propone i deliziosi piatti della cucina siriana\, qui trovi il menù e gli orari di apertura. \nL’Emporio dello sfuso mette a disposizione di tutta la città prodotti alimentari e artigianali del territorio. Si trovano farine\, pasta\, vino\, birre artigianali\, miele e altro ancora\, il tutto selezionato con grande attenzione alla qualità.\nTrovate inoltre oggetti per la tavola e non solo in vetro di recupero
URL:https://saluspace.eu/event/mercato-contadino-34/
LOCATION:Salus Space\, via Malvezza 2/2\, Bologna
ATTACH;FMTTYPE=image/jpeg:https://saluspace.eu/wp-content/uploads/2022/02/mercato-1.jpg
END:VEVENT
BEGIN:VEVENT
DTSTART;TZID=UTC:20220326T100000
DTEND;TZID=UTC:20220326T100000
DTSTAMP:20260422T125418
CREATED:20220321T113444Z
LAST-MODIFIED:20220321T113444Z
UID:2480-1648288800-1648288800@saluspace.eu
SUMMARY:Laboratorio per i bimbi
DESCRIPTION:Sono tornati i laboratori del sabato mattina a Salus Space con gli ARTIgiani di Cantieri Meticci!\nAppuntamenti per bambine e bambini\, dai sei agli 11 anni\, ma anche i più piccoli sono i benvenuti se accompagnati da un genitore.\nDalle 10 alle 12\, in contemporanea con il mercato contadino.\n• 26 marzo: Facciamo che…\nUn laboratorio per creare insieme personaggi immaginari e divertirsi a impersonarli con travestimenti\, giochi teatrali\, piccoli oggetti di scena e musica.\n\n\nVi aspettiamo sotto la bandiera della Pace!\n\nI laboratori sono gratuiti e non occorre prenotazione.
URL:https://saluspace.eu/event/laboratorio-per-i-bimbi-2/
LOCATION:Salus Space\, via Malvezza 2/2\, Bologna
ATTACH;FMTTYPE=image/jpeg:https://saluspace.eu/wp-content/uploads/2022/03/laboratori_bambini.jpg
END:VEVENT
BEGIN:VEVENT
DTSTART;TZID=UTC:20220331T170000
DTEND;TZID=UTC:20220331T190000
DTSTAMP:20260422T125418
CREATED:20220321T144717Z
LAST-MODIFIED:20220329T123445Z
UID:2504-1648746000-1648753200@saluspace.eu
SUMMARY:Modelli di convivenza e partecipazione
DESCRIPTION:Terzo appuntamento del ciclo di incontri\, realizzati nell’ambito del progetto Savena Insieme\, che ha come obiettivo quello di creare legami e relazioni di comunità e al contempo far conoscere al quartiere Savena\, e non solo\, Salus Space. \nModelli di convivenza e partecipazione – tra comunità e condominio. Quale equilibrio? \nGiovedì 31 marzo 2022 – ore 17\, Salus Space – Via Malvezza 2/2\, Bologna \nIl seminario intende aprire una riflessione sui modelli di convivenza e partecipazione\, a partire dalla presentazione di alcune esperienze che nel corso degli ultimi anni sono state sperimentate e che si stanno consolidando sul territorio bolognese\, ma non solo. Un incontro per dialogare su questi temi\, con attenzione agli elementi che possono ostacolare o favorire il successo delle esperienze di convivenza collaborativa. \nIl programma \nPer iscrizione: https://forms.office.com/r/LVuVkpJH1m \nIl seminario è promosso da DAMSLab del Dipartimento delle Arti\, Università di Bologna e ARS\, in collaborazione con IRS\, nell’ambito del progetto Savena Insieme.
URL:https://saluspace.eu/event/modelli-di-convivenza-e-partecipazione/
LOCATION:Salus Space\, via Malvezza 2/2\, Bologna
ATTACH;FMTTYPE=image/jpeg:https://saluspace.eu/wp-content/uploads/2022/03/LACASA.jpg
END:VEVENT
BEGIN:VEVENT
DTSTART;TZID=UTC:20220331T193000
DTEND;TZID=UTC:20220331T213000
DTSTAMP:20260422T125418
CREATED:20220329T132737Z
LAST-MODIFIED:20220329T132737Z
UID:2587-1648755000-1648762200@saluspace.eu
SUMMARY:Laboratorio teatrale QT
DESCRIPTION:Quartiere Teatrale Salus Space è una tappa dell’avventura del Quartiere Teatrale organizzato da Cantieri Meticci. \nIl Quartiere è un percorso di creazione collettiva in cui si mescolano arti performative\, drammaturgia e sperimentazione musicale: l’obiettivo è quello di fornire a tutti i partecipanti mezzi e linguaggi per esprimersi e confrontarsi creativamente – come individui ma soprattutto come collettivo – intorno alle tematiche più importanti del nostro presente.\nIl laboratorio è aperto a tutti\, non servono esperienze pregresse ed è possibile partecipare gratuitamente alla prima lezione di prova!\n\nQT Salus Space\ndal 4 novembre\, tutti i giovedì dalle 19.30 alle 21.30\, via Malvezza 2/2 Bologna – Quartiere Savena\nper info e iscrizioni: formazione@cantierimeticci.it – 328.6145699\nè possibile anche iscriversi online sul sito dei Cantieri Meticci
URL:https://saluspace.eu/event/laboratorio-teatrale-qt-19/
LOCATION:Salus Space\, via Malvezza 2/2\, Bologna
ATTACH;FMTTYPE=image/jpeg:https://saluspace.eu/wp-content/uploads/2021/10/quartieri-teatrali1.jpg
END:VEVENT
END:VCALENDAR