BEGIN:VCALENDAR
VERSION:2.0
PRODID:-//Saluspace 2.0 - ECPv6.15.20//NONSGML v1.0//EN
CALSCALE:GREGORIAN
METHOD:PUBLISH
X-ORIGINAL-URL:https://saluspace.eu
X-WR-CALDESC:Eventi per Saluspace 2.0
REFRESH-INTERVAL;VALUE=DURATION:PT1H
X-Robots-Tag:noindex
X-PUBLISHED-TTL:PT1H
BEGIN:VTIMEZONE
TZID:UTC
BEGIN:STANDARD
TZOFFSETFROM:+0000
TZOFFSETTO:+0000
TZNAME:UTC
DTSTART:20210101T000000
END:STANDARD
END:VTIMEZONE
BEGIN:VEVENT
DTSTART;TZID=UTC:20220401T170000
DTEND;TZID=UTC:20220401T193000
DTSTAMP:20260422T113211
CREATED:20220329T122953Z
LAST-MODIFIED:20220329T122953Z
UID:2562-1648832400-1648841400@saluspace.eu
SUMMARY:Geografie della sostenibilità
DESCRIPTION:E’ il titolo di un incontro che si terrà a Salus Space l’1 aprile\, alle ore 17\, frutto di un percorso internazionale: “Night of Geography“\, promosso da EUGEO and IGU. \nAd organizzarlo i Cantieri Meticci\, insieme all’Università di Bologna\, Dipartimento di storia\, culture\, civiltà. A Salus verrà presentato il progetto UIA che ha dato vita agli spazi di via Malvezza.\nLa prima parte dell’evento\, alle ore 16\, si terrà invece in via Guerrazzi 20\, in aula didattica. La sostenibilità verrà affrontata in chiave bolognese\, soprattutto rispetto alle questioni energetiche\, alle condizioni territoriali e alla riqualificazione. Analisi di percezione\, attività di mappatura affettiva e software cartografici (GIS) saranno alla base di riflessioni sulla realtà storica e contemporanea della regione. \nPer maggiori informazioni: https://www.geonight.net/444-2/
URL:https://saluspace.eu/event/geografie-della-sostenibilita/
LOCATION:Salus Space\, via Malvezza 2/2\, Bologna
ATTACH;FMTTYPE=image/jpeg:https://saluspace.eu/wp-content/uploads/2022/03/riunione_comunita.jpg
END:VEVENT
BEGIN:VEVENT
DTSTART;TZID=UTC:20220402T000000
DTEND;TZID=UTC:20220402T130000
DTSTAMP:20260422T113211
CREATED:20220329T125516Z
LAST-MODIFIED:20220329T125516Z
UID:2572-1648857600-1648904400@saluspace.eu
SUMMARY:Musica e balotte con gli Stanzini
DESCRIPTION:Sabato 2 aprile\, alle 12\, Musica e Balotte con gli Stanzini. \nA Salus Space\, dove vi aspettano anche il mercato contadino\, i laboratori per i bambini dalle 10 e la Locanda siriana.
URL:https://saluspace.eu/event/musica-e-balotte-con-gli-stanzini/
LOCATION:Salus Space\, via Malvezza 2/2\, Bologna
END:VEVENT
BEGIN:VEVENT
DTSTART;TZID=UTC:20220402T083000
DTEND;TZID=UTC:20220402T130000
DTSTAMP:20260422T113211
CREATED:20220222T112712Z
LAST-MODIFIED:20220222T112712Z
UID:2360-1648888200-1648904400@saluspace.eu
SUMMARY:Mercato Contadino
DESCRIPTION:Ogni sabato mattina\, dalle 8.30 alle 13\, al Mercato Contadino di Salus Space si trovano ortaggi\, frutta\, formaggio\, pane e uova\, ma anche prodotti artigianali. \nUn’offerta di qualità negli ampi spazi aperti di via Malvezza 2/2\, a Bologna. \nDa febbraio la Locanda e l’Emporio sono aperti nelle ore di mercato. \nLa Locanda propone i deliziosi piatti della cucina siriana\, qui trovi il menù e gli orari di apertura. \nL’Emporio dello sfuso mette a disposizione di tutta la città prodotti alimentari e artigianali del territorio. Si trovano farine\, pasta\, vino\, birre artigianali\, miele e altro ancora\, il tutto selezionato con grande attenzione alla qualità.\nTrovate inoltre oggetti per la tavola e non solo in vetro di recupero
URL:https://saluspace.eu/event/mercato-contadino-35/
LOCATION:Salus Space\, via Malvezza 2/2\, Bologna
ATTACH;FMTTYPE=image/jpeg:https://saluspace.eu/wp-content/uploads/2022/02/mercato-1.jpg
END:VEVENT
BEGIN:VEVENT
DTSTART;TZID=UTC:20220402T090000
DTEND;TZID=UTC:20220402T150000
DTSTAMP:20260422T113211
CREATED:20211209T143701Z
LAST-MODIFIED:20211209T143701Z
UID:1988-1648890000-1648911600@saluspace.eu
SUMMARY:RiViva\, il tuo mercato dell'usato
DESCRIPTION:Per dare una seconda vita ai tuoi vestiti e ai tuoi oggetti\, a Salus Space c’è Riviva\, il mercato dell’usato in cui puoi avere uno spazio gratis per esporre e vendere le tue vecchie cose. Lo spazio è all’aperto\, ma coperto\, da una tensostruttura. \nAppuntamento sabato 2 aprile\, dalle 9.00 alle 15.00. \nSi può portare: oggettistica\, vestiti\, libri\, mobili piccoli… \nIn caso di maltempo il mercato sarà sospeso. \nper info e prenotazioni:  \nmercato@saluspace.eu\nWhatsApp 3927330060
URL:https://saluspace.eu/event/riviva-il-tuo-mercato-dellusato-3/
LOCATION:Salus Space\, via Malvezza 2/2\, Bologna
ATTACH;FMTTYPE=image/jpeg:https://saluspace.eu/wp-content/uploads/2021/12/riviva-calendario.jpg
END:VEVENT
BEGIN:VEVENT
DTSTART;TZID=UTC:20220402T100000
DTEND;TZID=UTC:20220402T100000
DTSTAMP:20260422T113211
CREATED:20220321T113926Z
LAST-MODIFIED:20220321T114042Z
UID:2482-1648893600-1648893600@saluspace.eu
SUMMARY:Laboratorio per i bimbi
DESCRIPTION:Sono tornati i laboratori del sabato mattina a Salus Space con gli ARTIgiani di Cantieri Meticci!\nAppuntamenti per bambine e bambini\, dai sei agli 11 anni\, ma anche i più piccoli sono i benvenuti se accompagnati da un genitore.\nDalle 10 alle 12\, in contemporanea con il mercato contadino.\n• 2 aprile: Facciamo che…\nUn laboratorio per creare insieme personaggi immaginari e divertirsi a impersonarli con travestimenti\, giochi teatrali\, piccoli oggetti di scena e musica.\n\n\nVi aspettiamo sotto la bandiera della Pace!\n\nI laboratori sono gratuiti e non occorre prenotazione.
URL:https://saluspace.eu/event/laboratori-per-i-bimbi/
LOCATION:Salus Space\, via Malvezza 2/2\, Bologna
ATTACH;FMTTYPE=image/jpeg:https://saluspace.eu/wp-content/uploads/2022/03/laboratori_bambini.jpg
END:VEVENT
BEGIN:VEVENT
DTSTART;TZID=UTC:20220407T193000
DTEND;TZID=UTC:20220407T213000
DTSTAMP:20260422T113211
CREATED:20220329T132920Z
LAST-MODIFIED:20220329T132920Z
UID:2589-1649359800-1649367000@saluspace.eu
SUMMARY:Laboratorio teatrale QT
DESCRIPTION:Quartiere Teatrale Salus Space è una tappa dell’avventura del Quartiere Teatrale organizzato da Cantieri Meticci. \nIl Quartiere è un percorso di creazione collettiva in cui si mescolano arti performative\, drammaturgia e sperimentazione musicale: l’obiettivo è quello di fornire a tutti i partecipanti mezzi e linguaggi per esprimersi e confrontarsi creativamente – come individui ma soprattutto come collettivo – intorno alle tematiche più importanti del nostro presente.\nIl laboratorio è aperto a tutti\, non servono esperienze pregresse ed è possibile partecipare gratuitamente alla prima lezione di prova!\n\nQT Salus Space\ndal 4 novembre\, tutti i giovedì dalle 19.30 alle 21.30\, via Malvezza 2/2 Bologna – Quartiere Savena\nper info e iscrizioni: formazione@cantierimeticci.it – 328.6145699\nè possibile anche iscriversi online sul sito dei Cantieri Meticci
URL:https://saluspace.eu/event/laboratorio-teatrale-qt-20/
LOCATION:Salus Space\, via Malvezza 2/2\, Bologna
ATTACH;FMTTYPE=image/jpeg:https://saluspace.eu/wp-content/uploads/2021/10/quartieri-teatrali1.jpg
END:VEVENT
BEGIN:VEVENT
DTSTART;TZID=UTC:20220409T000000
DTEND;TZID=UTC:20220409T000000
DTSTAMP:20260422T113211
CREATED:20220329T130256Z
LAST-MODIFIED:20220329T131054Z
UID:2575-1649462400-1649462400@saluspace.eu
SUMMARY:Musica con Cande Marzinotto
DESCRIPTION:Sabato 9 aprile “Storie di viaggio e riflessioni di vita” con Cande Marzinotto\, cantautrice argentina. Cande vive da qualche anno in Italia. Ha pubblicato il suo primo album\, “Danzando en mi” nel 2019 a Buenos Aires.\nLe sue canzoni passano attraverso diversi generi\, con grande influenza del folklore e del cantautorato argentino/andino. Presenterà anche canzoni inedite del secondo album in preparazione\, con influenze del funk e dei ritmi brasiliani\, in formato solista\, chitarra e voce. \nGli spettacoli\, alle ore 12\, sono gratuiti\, in contemporanea locanda e bar aperti\, mercato contadino e laboratori per bambini.  I laboratori cominciano alle ore 10.\nNaturalmente in via Malvezza 2/2\, a Bologna.
URL:https://saluspace.eu/event/musica-con-cande-marzinotto/
LOCATION:Salus Space\, via Malvezza 2/2\, Bologna
ATTACH;FMTTYPE=image/jpeg:https://saluspace.eu/wp-content/uploads/2022/03/Sabati.jpg
END:VEVENT
BEGIN:VEVENT
DTSTART;TZID=UTC:20220409T083000
DTEND;TZID=UTC:20220409T130000
DTSTAMP:20260422T113211
CREATED:20220321T114538Z
LAST-MODIFIED:20220321T114538Z
UID:2487-1649493000-1649509200@saluspace.eu
SUMMARY:Mercato contadino
DESCRIPTION:Ogni sabato mattina\, dalle 8.30 alle 13\, al Mercato Contadino di Salus Space si trovano ortaggi\, frutta\, formaggio\, pane e uova\, ma anche prodotti artigianali. \nUn’offerta di qualità negli ampi spazi aperti di via Malvezza 2/2\, a Bologna. \nLa Locanda e l’Emporio sono aperti nelle ore di mercato. \nLa Locanda propone i deliziosi piatti della cucina siriana\, qui trovi il menù e gli orari di apertura. \nL’Emporio dello sfuso mette a disposizione di tutta la città prodotti alimentari e artigianali del territorio. Si trovano farine\, pasta\, vino\, birre artigianali\, miele e altro ancora\, il tutto selezionato con grande attenzione alla qualità.\nTrovate inoltre oggetti per la tavola e non solo in vetro di recupero
URL:https://saluspace.eu/event/mercato-contadino-36/
LOCATION:Salus Space\, via Malvezza 2/2\, Bologna
ATTACH;FMTTYPE=image/jpeg:https://saluspace.eu/wp-content/uploads/2022/02/mercato-1.jpg
END:VEVENT
BEGIN:VEVENT
DTSTART;TZID=UTC:20220409T100000
DTEND;TZID=UTC:20220409T100000
DTSTAMP:20260422T113211
CREATED:20220321T114242Z
LAST-MODIFIED:20220321T114242Z
UID:2485-1649498400-1649498400@saluspace.eu
SUMMARY:Laboratorio per i bimbi
DESCRIPTION:Sono tornati i laboratori del sabato mattina a Salus Space con gli ARTIgiani di Cantieri Meticci!\nAppuntamenti per bambine e bambini\, dai sei agli 11 anni\, ma anche i più piccoli sono i benvenuti se accompagnati da un genitore.\nDalle 10 alle 12\, in contemporanea con il mercato contadino.\n• 9 aprile: La musica nasce… dalle mani!\nCostruire strumenti musicali? Si può! A partire da scatole\, lattine\, elastici\, e molto altro ancora…\n\nVi aspettiamo sotto la bandiera della Pace!\n\nI laboratori sono gratuiti e non occorre prenotazione.
URL:https://saluspace.eu/event/laboratorio-per-i-bimbi-3/
LOCATION:Salus Space\, via Malvezza 2/2\, Bologna
ATTACH;FMTTYPE=image/jpeg:https://saluspace.eu/wp-content/uploads/2022/03/laboratori_bambini.jpg
END:VEVENT
BEGIN:VEVENT
DTSTART;TZID=UTC:20220414T193000
DTEND;TZID=UTC:20220414T213000
DTSTAMP:20260422T113211
CREATED:20220329T133106Z
LAST-MODIFIED:20220329T133106Z
UID:2591-1649964600-1649971800@saluspace.eu
SUMMARY:Laboratorio teatrale QT
DESCRIPTION:Quartiere Teatrale Salus Space è una tappa dell’avventura del Quartiere Teatrale organizzato da Cantieri Meticci. \nIl Quartiere è un percorso di creazione collettiva in cui si mescolano arti performative\, drammaturgia e sperimentazione musicale: l’obiettivo è quello di fornire a tutti i partecipanti mezzi e linguaggi per esprimersi e confrontarsi creativamente – come individui ma soprattutto come collettivo – intorno alle tematiche più importanti del nostro presente.\nIl laboratorio è aperto a tutti\, non servono esperienze pregresse ed è possibile partecipare gratuitamente alla prima lezione di prova!\n\nQT Salus Space\ndal 4 novembre\, tutti i giovedì dalle 19.30 alle 21.30\, via Malvezza 2/2 Bologna – Quartiere Savena\nper info e iscrizioni: formazione@cantierimeticci.it – 328.6145699\nè possibile anche iscriversi online sul sito dei Cantieri Meticci
URL:https://saluspace.eu/event/laboratorio-teatrale-qt-21/
LOCATION:Salus Space\, via Malvezza 2/2\, Bologna
ATTACH;FMTTYPE=image/jpeg:https://saluspace.eu/wp-content/uploads/2021/10/quartieri-teatrali1.jpg
END:VEVENT
BEGIN:VEVENT
DTSTART;TZID=UTC:20220416T083000
DTEND;TZID=UTC:20220416T130000
DTSTAMP:20260422T113211
CREATED:20220321T115038Z
LAST-MODIFIED:20220321T115038Z
UID:2489-1650097800-1650114000@saluspace.eu
SUMMARY:Mercato contadino
DESCRIPTION:Ogni sabato mattina\, dalle 8.30 alle 13\, al Mercato Contadino di Salus Space si trovano ortaggi\, frutta\, formaggio\, pane e uova\, ma anche prodotti artigianali. \nUn’offerta di qualità negli ampi spazi aperti di via Malvezza 2/2\, a Bologna. \nLa Locanda e l’Emporio sono aperti nelle ore di mercato. \nLa Locanda propone i deliziosi piatti della cucina siriana\, qui trovi il menù e gli orari di apertura. \nL’Emporio dello sfuso mette a disposizione di tutta la città prodotti alimentari e artigianali del territorio. Si trovano farine\, pasta\, vino\, birre artigianali\, miele e altro ancora\, il tutto selezionato con grande attenzione alla qualità.\nTrovate inoltre oggetti per la tavola e non solo in vetro di recupero
URL:https://saluspace.eu/event/mercato-contadino-37/
LOCATION:Salus Space\, via Malvezza 2/2\, Bologna
ATTACH;FMTTYPE=image/jpeg:https://saluspace.eu/wp-content/uploads/2022/02/mercato-1.jpg
END:VEVENT
BEGIN:VEVENT
DTSTART;TZID=UTC:20220421T193000
DTEND;TZID=UTC:20220421T213000
DTSTAMP:20260422T113211
CREATED:20220329T134010Z
LAST-MODIFIED:20220329T134010Z
UID:2595-1650569400-1650576600@saluspace.eu
SUMMARY:Laboratorio teatrale QT
DESCRIPTION:Quartiere Teatrale Salus Space è una tappa dell’avventura del Quartiere Teatrale organizzato da Cantieri Meticci. \nIl Quartiere è un percorso di creazione collettiva in cui si mescolano arti performative\, drammaturgia e sperimentazione musicale: l’obiettivo è quello di fornire a tutti i partecipanti mezzi e linguaggi per esprimersi e confrontarsi creativamente – come individui ma soprattutto come collettivo – intorno alle tematiche più importanti del nostro presente.\nIl laboratorio è aperto a tutti\, non servono esperienze pregresse ed è possibile partecipare gratuitamente alla prima lezione di prova!\n\nQT Salus Space\ndal 4 novembre\, tutti i giovedì dalle 19.30 alle 21.30\, via Malvezza 2/2 Bologna – Quartiere Savena\nper info e iscrizioni: formazione@cantierimeticci.it – 328.6145699\nè possibile anche iscriversi online sul sito dei Cantieri Meticci
URL:https://saluspace.eu/event/laboratorio-teatrale-qt-22/
LOCATION:Salus Space\, via Malvezza 2/2\, Bologna
ATTACH;FMTTYPE=image/jpeg:https://saluspace.eu/wp-content/uploads/2021/10/quartieri-teatrali1.jpg
END:VEVENT
BEGIN:VEVENT
DTSTART;TZID=UTC:20220423T003000
DTEND;TZID=UTC:20220423T133000
DTSTAMP:20260422T113211
CREATED:20220413T094330Z
LAST-MODIFIED:20220413T135718Z
UID:2721-1650673800-1650720600@saluspace.eu
SUMMARY:Coro Multietnico e Nujamervuci
DESCRIPTION:Sabato 23 aprile\, alle  ore 12.30 e con ingresso gratuito\, musica a Salus Space!\nCoro Multietnico di Periferia\nIl Coro Multietnico di Periferia è nato il 26 giugno del 2019\, giorno delle prime audizioni ed è continuamente alla ricerca di nuovi coristi e musicisti\, non ci sono limiti per partecipare. Il progetto è nato grazie al contributo del Quartiere Navile\, ma si è poi sviluppato all’interno dell’Associazione Jam session ed è composto da elementi provenienti da tutti i paesi del mondo. Si parte dalla tradizione di ogni partecipante per poi dar forma ad un “repertorio multietnico di periferia”.\nIl Coro Multietnico di periferia vuole tessere relazioni tra diverse generazioni e tra diverse culture e creare un ambiente di condivisione.\nPer info: tel.327 3558748; coromdp@assjamsession.it\nNujamervuci – Amari canti d’amor e d’anarchia\nElena Dugheri (voce)\, Stefano Mongiat (chitarra)\, Alessandro Predasso (fisarmonica) \nCome sempre tutt* sono benvenut* \, a partire dal mattino alle 8.30 quando prende il via il mercato contadino\, che chiude alle 13 circa.  Alle 10.30 cominciano i laboratori per i bambini. La musica arriva alle 12.30\, l’ingresso è gratuito. \nAd accogliere chi viene a trovarci\, il bar e la locanda siriana.
URL:https://saluspace.eu/event/coro-multietnico-e-nujamervuci/
LOCATION:Salus Space\, via Malvezza 2/2\, Bologna
ATTACH;FMTTYPE=image/jpeg:https://saluspace.eu/wp-content/uploads/2022/04/Nu.jpg
END:VEVENT
BEGIN:VEVENT
DTSTART;TZID=UTC:20220423T083000
DTEND;TZID=UTC:20220423T130000
DTSTAMP:20260422T113211
CREATED:20220321T115235Z
LAST-MODIFIED:20220321T115235Z
UID:2491-1650702600-1650718800@saluspace.eu
SUMMARY:Mercato contadino
DESCRIPTION:Ogni sabato mattina\, dalle 8.30 alle 13\, al Mercato Contadino di Salus Space si trovano ortaggi\, frutta\, formaggio\, pane e uova\, ma anche prodotti artigianali. \nUn’offerta di qualità negli ampi spazi aperti di via Malvezza 2/2\, a Bologna. \nLa Locanda e l’Emporio sono aperti nelle ore di mercato. \nLa Locanda propone i deliziosi piatti della cucina siriana\, qui trovi il menù e gli orari di apertura. \nL’Emporio dello sfuso mette a disposizione di tutta la città prodotti alimentari e artigianali del territorio. Si trovano farine\, pasta\, vino\, birre artigianali\, miele e altro ancora\, il tutto selezionato con grande attenzione alla qualità.\nTrovate inoltre oggetti per la tavola e non solo in vetro di recupero
URL:https://saluspace.eu/event/mercato-contadino-38/
LOCATION:Salus Space\, via Malvezza 2/2\, Bologna
ATTACH;FMTTYPE=image/jpeg:https://saluspace.eu/wp-content/uploads/2022/02/mercato-1.jpg
END:VEVENT
BEGIN:VEVENT
DTSTART;TZID=UTC:20220423T103000
DTEND;TZID=UTC:20220423T103000
DTSTAMP:20260422T113211
CREATED:20220427T175249Z
LAST-MODIFIED:20220427T175249Z
UID:2781-1650709800-1650709800@saluspace.eu
SUMMARY:Laboratori per bimbi
DESCRIPTION:Tornano i laboratori del sabato mattina a Salus Space con gli ARTIgiani di Cantieri Meticci!\nAppuntamenti per i più piccoli\, dalle 10.30 alle 12.30:\n• 23 aprile: Pu…Pazzi!\nUn laboratorio per creare pupazzi e burattini con materiali di scarto e di riciclo. Con un po’ di fantasia trasformeremo vecchi calzini in dolci animaletti o temibili mostri!\n\n\nVi aspettiamo in fondo al viale\, sotto la bandiera della Pace!\nCome sempre il sabato mattina è aperto il mercato contadino\, ma anche il bar\, la locanda e l’emporio\n\nI laboratori sono gratuiti e non occorre prenotazione.\ninfo: cantierimeticci.it/lab-bimbi-salus/
URL:https://saluspace.eu/event/laboratori-per-bimbi/
LOCATION:Salus Space\, via Malvezza 2/2\, Bologna
ATTACH;FMTTYPE=image/jpeg:https://saluspace.eu/wp-content/uploads/2022/04/laboratori-1.jpg
END:VEVENT
BEGIN:VEVENT
DTSTART;TZID=UTC:20220428T193000
DTEND;TZID=UTC:20220428T213000
DTSTAMP:20260422T113211
CREATED:20220329T134224Z
LAST-MODIFIED:20220329T134224Z
UID:2597-1651174200-1651181400@saluspace.eu
SUMMARY:Laboratorio teatrale QT
DESCRIPTION:Quartiere Teatrale Salus Space è una tappa dell’avventura del Quartiere Teatrale organizzato da Cantieri Meticci. \nIl Quartiere è un percorso di creazione collettiva in cui si mescolano arti performative\, drammaturgia e sperimentazione musicale: l’obiettivo è quello di fornire a tutti i partecipanti mezzi e linguaggi per esprimersi e confrontarsi creativamente – come individui ma soprattutto come collettivo – intorno alle tematiche più importanti del nostro presente.\nIl laboratorio è aperto a tutti\, non servono esperienze pregresse ed è possibile partecipare gratuitamente alla prima lezione di prova!\n\nQT Salus Space\ndal 4 novembre\, tutti i giovedì dalle 19.30 alle 21.30\, via Malvezza 2/2 Bologna – Quartiere Savena\nper info e iscrizioni: formazione@cantierimeticci.it – 328.6145699\nè possibile anche iscriversi online sul sito dei Cantieri Meticci
URL:https://saluspace.eu/event/laboratorio-teatrale-qt-23/
LOCATION:Salus Space\, via Malvezza 2/2\, Bologna
ATTACH;FMTTYPE=image/jpeg:https://saluspace.eu/wp-content/uploads/2021/10/quartieri-teatrali1.jpg
END:VEVENT
BEGIN:VEVENT
DTSTART;TZID=UTC:20220430T003000
DTEND;TZID=UTC:20220430T133000
DTSTAMP:20260422T113211
CREATED:20220413T095747Z
LAST-MODIFIED:20220413T133454Z
UID:2724-1651278600-1651325400@saluspace.eu
SUMMARY:Le Chamane - Tezcal
DESCRIPTION:Sabato 30 aprile\, alle ore 12.30  e con ingresso gratuito\, musica a Salus Space!\nLe Chamane – Tezcal\nPrendendo elementi dal folklore messicano\, Le Chamane -Tezcal cerca di diffondere la musica e la danza del Messico in Italia.\nSpettacolo multidisciplinare che combina danza\, musica e canto con canzoni messicane tradizionali e nuove.\nLe Chamane  (canto\, ukulele e percussioni)\, Tezcal (danze folcloristiche) \nCome sempre tutt* sono benvenut* \, a partire dal mattino alle 8.30 quando prende il via il mercato contadino\, che chiude alle 13 circa. La musica arriva alle 12\, l’ingresso è gratuito.\nAd accogliere chi viene a trovarci\, il bar e la locanda siriana.
URL:https://saluspace.eu/event/le-chamane-tezcal/
LOCATION:Salus Space\, via Malvezza 2/2\, Bologna
END:VEVENT
BEGIN:VEVENT
DTSTART;TZID=UTC:20220430T083000
DTEND;TZID=UTC:20220430T130000
DTSTAMP:20260422T113211
CREATED:20220321T120234Z
LAST-MODIFIED:20220321T120234Z
UID:2493-1651307400-1651323600@saluspace.eu
SUMMARY:Mercato contadino
DESCRIPTION:Ogni sabato mattina\, dalle 8.30 alle 13\, al Mercato Contadino di Salus Space si trovano ortaggi\, frutta\, formaggio\, pane e uova\, ma anche prodotti artigianali. \nUn’offerta di qualità negli ampi spazi aperti di via Malvezza 2/2\, a Bologna. \nLa Locanda e l’Emporio sono aperti nelle ore di mercato. \nLa Locanda propone i deliziosi piatti della cucina siriana\, qui trovi il menù e gli orari di apertura. \nL’Emporio dello sfuso mette a disposizione di tutta la città prodotti alimentari e artigianali del territorio. Si trovano farine\, pasta\, vino\, birre artigianali\, miele e altro ancora\, il tutto selezionato con grande attenzione alla qualità.\nTrovate inoltre oggetti per la tavola e non solo in vetro di recupero
URL:https://saluspace.eu/event/mercato-contadino-39/
LOCATION:Salus Space\, via Malvezza 2/2\, Bologna
ATTACH;FMTTYPE=image/jpeg:https://saluspace.eu/wp-content/uploads/2022/02/mercato-1.jpg
END:VEVENT
BEGIN:VEVENT
DTSTART;TZID=UTC:20220430T103000
DTEND;TZID=UTC:20220430T123000
DTSTAMP:20260422T113211
CREATED:20220427T175530Z
LAST-MODIFIED:20220427T175530Z
UID:2784-1651314600-1651321800@saluspace.eu
SUMMARY:Laboratori per bimbi
DESCRIPTION:Tornano i laboratori del sabato mattina a Salus Space con gli ARTIgiani di Cantieri Meticci!\nAppuntamenti per i più piccoli\, dalle 10.30 alle 12.30:\n• 30 aprile: Tutti in scena!\nPiccoli giochi teatrali per esplorare l’uso del corpo e del ritmo in maniera creativa e divertente.\n\n\nVi aspettiamo in fondo al viale\, sotto la bandiera della Pace!\n\nI laboratori sono gratuiti e non occorre prenotazione.\ninfo: cantierimeticci.it/lab-bimbi-salus/
URL:https://saluspace.eu/event/laboratori-per-bimbi-2/
LOCATION:Salus Space\, via Malvezza 2/2\, Bologna
ATTACH;FMTTYPE=image/jpeg:https://saluspace.eu/wp-content/uploads/2022/04/laboratori-1.jpg
END:VEVENT
END:VCALENDAR