BEGIN:VCALENDAR
VERSION:2.0
PRODID:-//Saluspace 2.0 - ECPv6.15.20//NONSGML v1.0//EN
CALSCALE:GREGORIAN
METHOD:PUBLISH
X-WR-CALNAME:Saluspace 2.0
X-ORIGINAL-URL:https://saluspace.eu
X-WR-CALDESC:Eventi per Saluspace 2.0
REFRESH-INTERVAL;VALUE=DURATION:PT1H
X-Robots-Tag:noindex
X-PUBLISHED-TTL:PT1H
BEGIN:VTIMEZONE
TZID:UTC
BEGIN:STANDARD
TZOFFSETFROM:+0000
TZOFFSETTO:+0000
TZNAME:UTC
DTSTART:20210101T000000
END:STANDARD
END:VTIMEZONE
BEGIN:VEVENT
DTSTART;TZID=UTC:20220917T080000
DTEND;TZID=UTC:20220917T130000
DTSTAMP:20260422T023708
CREATED:20220915T092344Z
LAST-MODIFIED:20220915T092344Z
UID:3285-1663401600-1663419600@saluspace.eu
SUMMARY:Mercato contadino
DESCRIPTION:Ogni sabato mattina\, dalle 8.30 alle 13\, al Mercato Contadino di Salus Space si trovano ortaggi\, frutta\, formaggio\, pane e uova\, ma anche prodotti artigianali. La verdura prodotta dagli orti di Salus è in vendita! \nUn’offerta di qualità negli ampi spazi aperti di via Malvezza 2/2\, a Bologna. \nLa Locanda e l’Emporio sono aperti nelle ore di mercato. \nLa Locanda propone i deliziosi piatti della cucina siriana\, qui trovi il menù e gli orari di apertura. \nL’Emporio dello sfuso mette a disposizione di tutta la città prodotti alimentari e artigianali del territorio. Si trovano farine\, pasta\, vino\, birre artigianali\, miele e altro ancora\, il tutto selezionato con grande attenzione alla qualità.\nTrovate inoltre oggetti per la tavola e non solo in vetro di recupero
URL:https://saluspace.eu/event/mercato-contadino-48/
LOCATION:Salus Space\, via Malvezza 2/2\, Bologna
END:VEVENT
BEGIN:VEVENT
DTSTART;TZID=UTC:20220917T110000
DTEND;TZID=UTC:20220917T113000
DTSTAMP:20260422T023708
CREATED:20220830T101454Z
LAST-MODIFIED:20220830T101454Z
UID:3222-1663412400-1663414200@saluspace.eu
SUMMARY:Presentazione associazione Incontriamoci a Salus
DESCRIPTION:Sabato 17 settembre alle ore 11 si presenterà la neonata associazione Incontriamoci a Salus\, composta da cittadine e cittadini che condividono il progetto Salus Space e desiderano valorizzarne gli spazi e le attività\, a partire dal territorio.\nL’associazione vuole aumentare le sinergie tra Salus e il quartiere\, ma anche tra Salus e la città.\nI principi che la ispirano sono gli stessi che hanno ispirato la Carta dei Valori di Salus: accoglienza\, rispetto\, inclusività\, pluralismo\, partecipazione attiva\, solidarietà\, mutuo aiuto e sostenibilità. \nL’appuntamento è rivolto a tutte le persone interessate a collaborare con la nuova realtà. \nSaranno promosse in maniera volontaria in particolare attività culturali: (convegni\, conferenze\, dibattiti\, seminari\, proiezioni di film e documentari) e attività di formazione (corsi di aggiornamento teorico/pratici per educatori\, insegnanti\, operatori sociali\, professionisti). \nL’associazione è aperta a tutte e tutti gli interessati che ne condividano obiettivi e valori.\nIl primo appuntamento\, aperto anche ai curiosi\, sarà sabato 17 settembre alle ore 11\, naturalmente a Salus Space. \nLo Statuto  \nPer informazioni e contatti: incontriamociasalus@gmail.com
URL:https://saluspace.eu/event/presentazione-associazione-incontriamoci-a-salus/
LOCATION:Salus Space\, via Malvezza 2/2\, Bologna
END:VEVENT
BEGIN:VEVENT
DTSTART;TZID=UTC:20220924T080000
DTEND;TZID=UTC:20220924T130000
DTSTAMP:20260422T023708
CREATED:20220915T092447Z
LAST-MODIFIED:20220915T092447Z
UID:3287-1664006400-1664024400@saluspace.eu
SUMMARY:Mercato contadino
DESCRIPTION:Ogni sabato mattina\, dalle 8.30 alle 13\, al Mercato Contadino di Salus Space si trovano ortaggi\, frutta\, formaggio\, pane e uova\, ma anche prodotti artigianali. La verdura prodotta dagli orti di Salus è in vendita! \nUn’offerta di qualità negli ampi spazi aperti di via Malvezza 2/2\, a Bologna. \nLa Locanda e l’Emporio sono aperti nelle ore di mercato. \nLa Locanda propone i deliziosi piatti della cucina siriana\, qui trovi il menù e gli orari di apertura. \nL’Emporio dello sfuso mette a disposizione di tutta la città prodotti alimentari e artigianali del territorio. Si trovano farine\, pasta\, vino\, birre artigianali\, miele e altro ancora\, il tutto selezionato con grande attenzione alla qualità.\nTrovate inoltre oggetti per la tavola e non solo in vetro di recupero
URL:https://saluspace.eu/event/mercato-contadino-49/
LOCATION:Salus Space\, via Malvezza 2/2\, Bologna
END:VEVENT
BEGIN:VEVENT
DTSTART;TZID=UTC:20220924T123000
DTEND;TZID=UTC:20220924T133000
DTSTAMP:20260422T023708
CREATED:20220915T093544Z
LAST-MODIFIED:20220915T093544Z
UID:3299-1664022600-1664026200@saluspace.eu
SUMMARY:OmmiodDuo in Quartet
DESCRIPTION:Sabato 24 settembre\, alle ore 12.30\, torna la musica a Salus Space con OmmiodDuo in Quartet. \nCome sempre tutt* sono benvenut* \, a partire dal mattino alle 8.30 quando prende il via il mercato contadino\, che chiude alle 13 circa. La musica arriva alle 12.30\, l’ingresso è gratuito.\nAd accogliere chi viene a trovarci\, il bar e la locanda siriana. \nLa Locanda propone i deliziosi piatti della cucina siriana\, qui trovi il menù e gli orari di apertura. \nL’Emporio dello sfuso mette a disposizione di tutta la città prodotti alimentari e artigianali del territorio. Si trovano farine\, pasta\, vino\, birre artigianali\, miele e altro ancora\, il tutto selezionato con grande attenzione alla qualità.\nTrovate inoltre oggetti per la tavola e non solo in vetro di recupero
URL:https://saluspace.eu/event/ommiodduo-in-quartet-2/
LOCATION:Salus Space\, via Malvezza 2/2\, Bologna
END:VEVENT
BEGIN:VEVENT
DTSTART;TZID=UTC:20220930T200000
DTEND;TZID=UTC:20220930T220000
DTSTAMP:20260422T023708
CREATED:20220929T120000Z
LAST-MODIFIED:20220929T120000Z
UID:3341-1664568000-1664575200@saluspace.eu
SUMMARY:Cena musicale
DESCRIPTION:Una cena musicale venerdì 30 settembre 2022 a Salus Space\, con antipasti siriani\, riso basmati ad accompagnare pollo alla piastra e per finire il cncerto di “Madhouse cover Bologna”\, pop rock anni 80 e 90. Dopo il concerto di prosegue con dj Baby Evans. \nPartecipazione euro 20 tutto compreso\, prenotazione obbligatoria a locanda@saluspace.eu-334.7053430\, 320.8722764
URL:https://saluspace.eu/event/cena-musicale/
LOCATION:Salus Space\, via Malvezza 2/2\, Bologna
END:VEVENT
END:VCALENDAR