BEGIN:VCALENDAR
VERSION:2.0
PRODID:-//Saluspace 2.0 - ECPv6.15.20//NONSGML v1.0//EN
CALSCALE:GREGORIAN
METHOD:PUBLISH
X-ORIGINAL-URL:https://saluspace.eu
X-WR-CALDESC:Eventi per Saluspace 2.0
REFRESH-INTERVAL;VALUE=DURATION:PT1H
X-Robots-Tag:noindex
X-PUBLISHED-TTL:PT1H
BEGIN:VTIMEZONE
TZID:UTC
BEGIN:STANDARD
TZOFFSETFROM:+0000
TZOFFSETTO:+0000
TZNAME:UTC
DTSTART:20210101T000000
END:STANDARD
END:VTIMEZONE
BEGIN:VEVENT
DTSTART;TZID=UTC:20221110T193000
DTEND;TZID=UTC:20221110T213000
DTSTAMP:20260421T231255
CREATED:20221102T150248Z
LAST-MODIFIED:20221102T151535Z
UID:3459-1668108600-1668115800@saluspace.eu
SUMMARY:Quartiere Teatrale - lezione di prova
DESCRIPTION:Anche quest’autunno uno dei  Quartieri Teatrali a cura dei Cantieri Meticci si tiene a Salus Space.\nI QT non sono solo corsi di teatro.\nCiascun QT è un percorso di creazione collettiva\, guidata da professionistə\, che mescola arti performative\, drammaturgia e sperimentazione musicale.\nL’obiettivo è quello di fornire a tuttə lə partecipanti mezzi e linguaggi per esprimersi e confrontarsi creativamente – come individui ma soprattutto come collettivo – intorno alle tematiche più importanti del nostro presente.\nOgni percorso prevede 25 incontri\, che contribuiranno a formare un gruppo coeso attraverso l’apprendimento di alcuni fondamentali del teatro\, per poi costruire collettivamente la drammaturgia. Ciascun laboratorio porterà alla creazione di un’azione teatrale conclusiva\, che andrà in scena all’inizio dell’estate in luoghi di Bologna non convenzionalmente deputati alla cultura. \nI corsi sono aperti a tutte e tutti e non è necessaria alcuna esperienza precedente.\nLa prima lezione è\, come sempre\, gratuita e pronta ad accogliere curiosə e indecisə: vi chiediamo ugualmente di utilizzare il modulo d’iscrizione. \nqt Salus Space \nLezione di prova: giovedì 10 novembre 2022\nInizio corso: 17 novembre 2022\nQuando? il giovedì dalle 19.30 alle 21.30\nDove? Salus Space\, via Malvezza 2/2\, Bologna\nCome? Modulo d’iscrizione online!\nPer iscrizioni\, informazioni e dubbi potete scriverci direttamente a formazione@cantierimeticci.it 
URL:https://saluspace.eu/event/quartiere-teatrale-lezione-di-prova/
LOCATION:Salus Space\, via Malvezza 2/2\, Bologna
END:VEVENT
BEGIN:VEVENT
DTSTART;TZID=UTC:20221112T143000
DTEND;TZID=UTC:20221112T163000
DTSTAMP:20260421T231255
CREATED:20221027T085203Z
LAST-MODIFIED:20221027T085203Z
UID:3436-1668263400-1668270600@saluspace.eu
SUMMARY:"Erbacce" teatrali
DESCRIPTION:Erbacce è un laboratorio gratuito di teatro all’aperto\, condotto da Anna Amadori e Alessandro Berti\, che si terrà a Salus Space per sei sabati pomeriggio dal 12 novembre al 17 dicembre . \nSi farà anche con la nebbia e il cielo grigio\, con vestiti pesanti e stivali di gomma\, sulla terra\, tra orti urbani e strisce incolte\, al limitare della città\, tra treni che passano e rumore di traffico di tangenziali.\nPrendendo spunto da un breve testo teatrale di David Almond\, Wild girl\, wild boy\, pubblicato da poco in Italia nella collana I gabbiani di Edizioni Primavera\, proponiamo a chi partecipa la riscoperta della natura selvatica della città\, nei suoi margini più laterali e quieti\, là dove un orto è tutto il mondo e il viaggio si fa con la fantasia\, con la danza e la memoria. \nIl testo di Almond parla proprio di questo: di fantasmi urbani\, di orticoltori che spiano il raccolto del vicino\, di amatissimi padri morti troppo presto\, padri che ci avevano insegnato la libertà e che ora ci lasciano sole\, in un mondo quadrato e ragionevole. La wild girl è qui una figlia che elabora il lutto con la sua fantasia lussureggiante come una foresta cittadina\, e il wild boy è il frutto miracoloso della sua chiaroveggenza\, una creatura che esce dall’erba\, un dio periferico. Lo sguardo degli orticoltori più disciplinati vede nell’orto della ragazza solo erbacce\, e erbacce sono anche lei\, la madre\, e il wild boy che su questo lembo incolto di periferia regna\, pur visibile solo a occhi iniziati.\nErbacce perché diverse\, troppo selvatiche\, troppo naturali\, troppo sentimentali. \nwww.casavuota.it/erbacce \nQUANDO: 6 sabati pomeriggio\, dalle 14.30 alle 16.30. Calendario: 12\, 19\, 26 novembre; 3\,10\, 17\ndicembre 2022\nDOVE: Salus Space\, via Malvezza 2/2\, Bologna\nPER CHI: Per tutte e tutti gli interessati\, di qualsiasi età\, anche senza precedenti esperienze teatrali. L’unico requisito richiesto è la disponibilità a lavorare all’aperto.\nCOSTI: Il laboratorio è gratuito\, previo tesseramento all’associazione (quota associativa 10 euro)\nINFO E ISCRIZIONI: associazionecasavuota@gmail.com \nErbacce è un progetto di Casavuota realizzato in collaborazione con l’Associazione Temporanea di scopo che gestisce Salus Space e con il contributo del Comune di Bologna\, nell’ambito dell’accordo di programma con MiC Direzione Generale Spettacolo a sostegno di attività di\nspettacolo dal vivo nelle aree periferiche e nel territorio metropolitano.
URL:https://saluspace.eu/event/erbacce-teatrali/
LOCATION:Salus Space\, via Malvezza 2/2\, Bologna
END:VEVENT
BEGIN:VEVENT
DTSTART;TZID=UTC:20221117T193000
DTEND;TZID=UTC:20221117T213000
DTSTAMP:20260421T231255
CREATED:20221102T150351Z
LAST-MODIFIED:20221102T150351Z
UID:3461-1668713400-1668720600@saluspace.eu
SUMMARY:Quartiere Teatrale
DESCRIPTION:Anche quest’autunno uno dei  Quartieri Teatrali a cura dei Cantieri Meticci si tiene a Salus Space.\nI QT non sono solo corsi di teatro.\nCiascun QT è un percorso di creazione collettiva\, guidata da professionistə\, che mescola arti performative\, drammaturgia e sperimentazione musicale.\nL’obiettivo è quello di fornire a tuttə lə partecipanti mezzi e linguaggi per esprimersi e confrontarsi creativamente – come individui ma soprattutto come collettivo – intorno alle tematiche più importanti del nostro presente.\nOgni percorso prevede 25 incontri\, che contribuiranno a formare un gruppo coeso attraverso l’apprendimento di alcuni fondamentali del teatro\, per poi costruire collettivamente la drammaturgia. Ciascun laboratorio porterà alla creazione di un’azione teatrale conclusiva\, che andrà in scena all’inizio dell’estate in luoghi di Bologna non convenzionalmente deputati alla cultura. \nI corsi sono aperti a tutte e tutti e non è necessaria alcuna esperienza precedente.\nLa prima lezione è\, come sempre\, gratuita e pronta ad accogliere curiosə e indecisə: vi chiediamo ugualmente di utilizzare il modulo d’iscrizione. \nqt Salus Space \nLezione di prova: giovedì 10 novembre 2022\nInizio corso: 17 novembre 2022\nQuando? il giovedì dalle 19.30 alle 21.30\nDove? Salus Space\, via Malvezza 2/2\, Bologna\nCome? Modulo d’iscrizione online!\nPer iscrizioni\, informazioni e dubbi potete scriverci direttamente a formazione@cantierimeticci.it 
URL:https://saluspace.eu/event/quartiere-teatrale/
LOCATION:Salus Space\, via Malvezza 2/2\, Bologna
END:VEVENT
BEGIN:VEVENT
DTSTART;TZID=UTC:20221119T003000
DTEND;TZID=UTC:20221119T133000
DTSTAMP:20260421T231255
CREATED:20221109T171042Z
LAST-MODIFIED:20221110T074303Z
UID:3503-1668817800-1668864600@saluspace.eu
SUMMARY:Chinò e il mare
DESCRIPTION:Sabato 19 novembre alle 12.30 a Salus Space ci sarà il concerto\, gratuito\, di chinò e il mare. \nChinò e il mare è un progetto inedito non solo musicale\, non solo videoarte: un duo immaginato in Puglia anni addietro\, si ritrova nel 2022 a Bologna dove registra brani in DIY in stanze da letto e salotti di case condivise. \nTesti poetici\, scritti per la pagina\, incontrano ballate acustiche e synth analogici: un intimo cantautorato si rompe\, si espande\, s’impasta ad ambienti meditativi elettro-orchestrali.\nParlano di storie di mare\, del tempo che scorre e porta via cose\, della difficoltà delle parole ad esprimere ciò che non siamo. \nQuesta estate i primi live del progetto tra l’Emilia e il sud Italia.\nA fine anno in uscita il primo EP autoprodotto.
URL:https://saluspace.eu/event/chino-e-il-mare/
LOCATION:Salus Space\, via Malvezza 2/2\, Bologna
END:VEVENT
BEGIN:VEVENT
DTSTART;TZID=UTC:20221119T090000
DTEND;TZID=UTC:20221119T140000
DTSTAMP:20260421T231255
CREATED:20221109T165341Z
LAST-MODIFIED:20221109T165447Z
UID:3498-1668848400-1668866400@saluspace.eu
SUMMARY:RiViva - Il mercato dell'usato
DESCRIPTION:Sabato 19 novembre\, a Salus Space\, dai una seconda vita ai tuoi vestiti e ai tuoi oggetti! Avrai un tuo spazio all’aperto gratis per esporli e venderli. \nSi può portare: oggettistica\, vestiti\, libri\, mobili piccoli… \nOppure vieni semplicemente a trovarci per dare una seconda vita a oggetti o vestiti che trovi al mercato\, ti aspettano anche la bancarella delle verdure di Salus\, l’Emporio e la Locanda Salus con le sue specialità. \nper info e prenotazioni:  \nmercato@saluspace.eu\nWhatsApp 3927330060
URL:https://saluspace.eu/event/riviva-il-mercato-dellusato-4/
LOCATION:Salus Space\, via Malvezza 2/2\, Bologna
END:VEVENT
BEGIN:VEVENT
DTSTART;TZID=UTC:20221119T100000
DTEND;TZID=UTC:20221119T110000
DTSTAMP:20260421T231255
CREATED:20221109T170110Z
LAST-MODIFIED:20221113T093212Z
UID:3500-1668852000-1668855600@saluspace.eu
SUMMARY:Qi Gong
DESCRIPTION:Sabato 19 novembre\, dalle ore 10\, lezione gratuita di QI GONG con l’istruttrice Sandra Mullazzani. \nHai mai sentito parlare di #qigong?\nAntica ginnastica cinese\, prevede esercizi statici e dinamici per agire positivamente sugli organi interni\, sul sistema nervoso\, sulla distensione e sullo scioglimento delle articolazioni.\nÈ una pratica energetica dolce ed accessibile a tutti.\nConsigliamo di portare un abbigliamento comodo ed un telo o tappetino.\nLa lezione è gratuita e non è obbligatorio prenotarsi\, ma per organizzarci al meglio ti chiediamo una conferma al seguente indirizzo mail: locanda@saluspace.eu
URL:https://saluspace.eu/event/qi-gong/
LOCATION:Salus Space\, via Malvezza 2/2\, Bologna
END:VEVENT
BEGIN:VEVENT
DTSTART;TZID=UTC:20221119T143000
DTEND;TZID=UTC:20221119T163000
DTSTAMP:20260421T231255
CREATED:20221027T085357Z
LAST-MODIFIED:20221027T085434Z
UID:3439-1668868200-1668875400@saluspace.eu
SUMMARY:"Erbacce" teatrali
DESCRIPTION:rbacce è un laboratorio gratuito di teatro all’aperto\, condotto da Anna Amadori e Alessandro Berti\, che si terrà a Salus Space per sei sabati pomeriggio dal 12 novembre al 17 dicembre . \nSi farà anche con la nebbia e il cielo grigio\, con vestiti pesanti e stivali di gomma\, sulla terra\, tra orti urbani e strisce incolte\, al limitare della città\, tra treni che passano e rumore di traffico di tangenziali.\nPrendendo spunto da un breve testo teatrale di David Almond\, Wild girl\, wild boy\, pubblicato da poco in Italia nella collana I gabbiani di Edizioni Primavera\, proponiamo a chi partecipa la riscoperta della natura selvatica della città\, nei suoi margini più laterali e quieti\, là dove un orto è tutto il mondo e il viaggio si fa con la fantasia\, con la danza e la memoria. \nIl testo di Almond parla proprio di questo: di fantasmi urbani\, di orticoltori che spiano il raccolto del vicino\, di amatissimi padri morti troppo presto\, padri che ci avevano insegnato la libertà e che ora ci lasciano sole\, in un mondo quadrato e ragionevole. La wild girl è qui una figlia che elabora il lutto con la sua fantasia lussureggiante come una foresta cittadina\, e il wild boy è il frutto miracoloso della sua chiaroveggenza\, una creatura che esce dall’erba\, un dio periferico. Lo sguardo degli orticoltori più disciplinati vede nell’orto della ragazza solo erbacce\, e erbacce sono anche lei\, la madre\, e il wild boy che su questo lembo incolto di periferia regna\, pur visibile solo a occhi iniziati.\nErbacce perché diverse\, troppo selvatiche\, troppo naturali\, troppo sentimentali. \nwww.casavuota.it/erbacce \nQUANDO: 6 sabati pomeriggio\, dalle 14.30 alle 16.30. Calendario: 12\, 19\, 26 novembre; 3\,10\, 17 dicembre 2022\nDOVE: Salus Space\, via Malvezza 2/2\, Bologna\nPER CHI: Per tutte e tutti gli interessati\, di qualsiasi età\, anche senza precedenti esperienze teatrali. L’unico requisito richiesto è la disponibilità a lavorare all’aperto.\nCOSTI: Il laboratorio è gratuito\, previo tesseramento all’associazione (quota associativa 10 euro)\nINFO E ISCRIZIONI: associazionecasavuota@gmail.com \nErbacce è un progetto di Casavuota realizzato in collaborazione con l’Associazione Temporanea di scopo che gestisce Salus Space e con il contributo del Comune di Bologna\, nell’ambito dell’accordo di programma con MiC Direzione Generale Spettacolo a sostegno di attività di spettacolo dal vivo nelle aree periferiche e nel territorio metropolitano.
URL:https://saluspace.eu/event/erbacce-teatrali-2/
LOCATION:Salus Space\, via Malvezza 2/2\, Bologna
END:VEVENT
BEGIN:VEVENT
DTSTART;TZID=UTC:20221124T193000
DTEND;TZID=UTC:20221124T213000
DTSTAMP:20260421T231255
CREATED:20221102T150439Z
LAST-MODIFIED:20221102T150439Z
UID:3463-1669318200-1669325400@saluspace.eu
SUMMARY:Quartiere Teatrale
DESCRIPTION:Anche quest’autunno uno dei  Quartieri Teatrali a cura dei Cantieri Meticci si tiene a Salus Space.\nI QT non sono solo corsi di teatro.\nCiascun QT è un percorso di creazione collettiva\, guidata da professionistə\, che mescola arti performative\, drammaturgia e sperimentazione musicale.\nL’obiettivo è quello di fornire a tuttə lə partecipanti mezzi e linguaggi per esprimersi e confrontarsi creativamente – come individui ma soprattutto come collettivo – intorno alle tematiche più importanti del nostro presente.\nOgni percorso prevede 25 incontri\, che contribuiranno a formare un gruppo coeso attraverso l’apprendimento di alcuni fondamentali del teatro\, per poi costruire collettivamente la drammaturgia. Ciascun laboratorio porterà alla creazione di un’azione teatrale conclusiva\, che andrà in scena all’inizio dell’estate in luoghi di Bologna non convenzionalmente deputati alla cultura. \nI corsi sono aperti a tutte e tutti e non è necessaria alcuna esperienza precedente.\nLa prima lezione è\, come sempre\, gratuita e pronta ad accogliere curiosə e indecisə: vi chiediamo ugualmente di utilizzare il modulo d’iscrizione. \nqt Salus Space \nLezione di prova: giovedì 10 novembre 2022\nInizio corso: 17 novembre 2022\nQuando? il giovedì dalle 19.30 alle 21.30\nDove? Salus Space\, via Malvezza 2/2\, Bologna\nCome? Modulo d’iscrizione online!\nPer iscrizioni\, informazioni e dubbi potete scriverci direttamente a formazione@cantierimeticci.it 
URL:https://saluspace.eu/event/quartiere-teatrale-2/
LOCATION:Salus Space\, via Malvezza 2/2\, Bologna
END:VEVENT
BEGIN:VEVENT
DTSTART;TZID=UTC:20221126T143000
DTEND;TZID=UTC:20221126T163000
DTSTAMP:20260421T231255
CREATED:20221027T085627Z
LAST-MODIFIED:20221027T102501Z
UID:3443-1669473000-1669480200@saluspace.eu
SUMMARY:"Erbacce" teatrali
DESCRIPTION:Erbacce è un laboratorio gratuito di teatro all’aperto\, condotto da Anna Amadori e Alessandro Berti\, che si terrà a Salus Space per sei sabati pomeriggio dal 12 novembre al 17 dicembre . \nSi farà anche con la nebbia e il cielo grigio\, con vestiti pesanti e stivali di gomma\, sulla terra\, tra orti urbani e strisce incolte\, al limitare della città\, tra treni che passano e rumore di traffico di tangenziali.\nPrendendo spunto da un breve testo teatrale di David Almond\, Wild girl\, wild boy\, pubblicato da poco in Italia nella collana I gabbiani di Edizioni Primavera\, proponiamo a chi partecipa la riscoperta della natura selvatica della città\, nei suoi margini più laterali e quieti\, là dove un orto è tutto il mondo e il viaggio si fa con la fantasia\, con la danza e la memoria. \nIl testo di Almond parla proprio di questo: di fantasmi urbani\, di orticoltori che spiano il raccolto del vicino\, di amatissimi padri morti troppo presto\, padri che ci avevano insegnato la libertà e che ora ci lasciano sole\, in un mondo quadrato e ragionevole. La wild girl è qui una figlia che elabora il lutto con la sua fantasia lussureggiante come una foresta cittadina\, e il wild boy è il frutto miracoloso della sua chiaroveggenza\, una creatura che esce dall’erba\, un dio periferico. Lo sguardo degli orticoltori più disciplinati vede nell’orto della ragazza solo erbacce\, e erbacce sono anche lei\, la madre\, e il wild boy che su questo lembo incolto di periferia regna\, pur visibile solo a occhi iniziati.\nErbacce perché diverse\, troppo selvatiche\, troppo naturali\, troppo sentimentali. \nwww.casavuota.it/erbacce \nQUANDO: 6 sabati pomeriggio\, dalle 14.30 alle 16.30. Calendario: 12\, 19\, 26 novembre; 3\, 10\, 17 dicembre 2022\nDOVE: Salus Space\, via Malvezza 2/2\, Bologna\nPER CHI: Per tutte e tutti gli interessati\, di qualsiasi età\, anche senza precedenti esperienze teatrali. L’unico requisito richiesto è la disponibilità a lavorare all’aperto.\nCOSTI: Il laboratorio è gratuito\, previo tesseramento all’associazione (quota associativa 10 euro)\nINFO E ISCRIZIONI: associazionecasavuota@gmail.com \nErbacce è un progetto di Casavuota realizzato in collaborazione con l’Associazione Temporanea di scopo che gestisce Salus Space e con il contributo del Comune di Bologna\, nell’ambito dell’accordo di programma con MiC Direzione Generale Spettacolo a sostegno di attività di spettacolo dal vivo nelle aree periferiche e nel territorio metropolitano.
URL:https://saluspace.eu/event/erbacce-teatrali-3/
LOCATION:Salus Space\, via Malvezza 2/2\, Bologna
END:VEVENT
END:VCALENDAR