BEGIN:VCALENDAR
VERSION:2.0
PRODID:-//Saluspace 2.0 - ECPv6.15.20//NONSGML v1.0//EN
CALSCALE:GREGORIAN
METHOD:PUBLISH
X-ORIGINAL-URL:https://saluspace.eu
X-WR-CALDESC:Eventi per Saluspace 2.0
REFRESH-INTERVAL;VALUE=DURATION:PT1H
X-Robots-Tag:noindex
X-PUBLISHED-TTL:PT1H
BEGIN:VTIMEZONE
TZID:UTC
BEGIN:STANDARD
TZOFFSETFROM:+0000
TZOFFSETTO:+0000
TZNAME:UTC
DTSTART:20220101T000000
END:STANDARD
END:VTIMEZONE
BEGIN:VEVENT
DTSTART;TZID=UTC:20230301T173000
DTEND;TZID=UTC:20230301T183000
DTSTAMP:20260421T165624
CREATED:20230313T105142Z
LAST-MODIFIED:20230313T105142Z
UID:3797-1677691800-1677695400@saluspace.eu
SUMMARY:Salotto culturale in relax
DESCRIPTION:Dall’11 gennaio 2023 tutti i mercoledì pomeriggio dalle 17.30 alle 18.30 si tiene presso il Centro di Animazione Culturale (la biblioteca) il “Salotto culturale in relax”\, letture e chiacchiere in compagnia per grandi e piccini. \nE’ uno degli appuntamenti settimanali curati da Incontriamoci a Salus\, l’associazione di cittadine e cittadini che condividono il progetto Salus Space e che vogliono promuoverne gli spazi e le iniziative con attività culturali\, formative e ricreative. \nMolte altre attività dell’Associazione sono in cantiere. Se vuoi partecipare puoi scrivere all’indirizzo: incontriamociasalus@gmail.com \nA curare il Salotto culturale in relax è Giordana Alberti\, una cittadina attiva in molte realtà bolognesi. Le abbiamo chiesto quale è la sua idea per i mercoledì pomeriggio: \n“Posso dedicare un’oretta ogni mercoledì\, presenziando la biblioteca con bambini e o adulti\, appassionati all’ascolto di lettura di libri o a fare salotto di piacevole compagnia su temi di benessere relazionale. L’iniziativa di presidiare la biblioteca con un progetto di continuità è rivolta a coloro che ancora credono nel valore degli incontri fisici fra cittadini per ricreare una rete relazionale e di confronto. Nulla di nuovo\, ma in questo periodo storico antropologico unico\, necessita riappropriarsi del valore umano vero”.
URL:https://saluspace.eu/event/salotto-culturale-in-relax-8/
LOCATION:Salus Space\, via Malvezza 2/2\, Bologna
ORGANIZER;CN="Associazione Incontriamoci a Salus":MAILTO:incontriamociasalus@gmail.com
END:VEVENT
BEGIN:VEVENT
DTSTART;TZID=UTC:20230304T090000
DTEND;TZID=UTC:20230304T150000
DTSTAMP:20260421T165624
CREATED:20230208T113002Z
LAST-MODIFIED:20230208T113002Z
UID:3733-1677920400-1677942000@saluspace.eu
SUMMARY:RiViva - Il mercato dell'usato
DESCRIPTION:Torna RiViva\, sabato 4 marzo\, dalle ore 9.00  alle 15.00. \nFinalmente\, dopo lo stacco invernale\, siamo felici di darvi di nuovo la possibilità di dare una seconda vita ai vostri vestiti e oggetti.\nCome sempre gli spazi espositivi nell’area di Salus Space sono gratuiti su prenotazione. \nDalle 10.00 alle 12.00 ci saranno anche i laboratori per bambini gestiti dai Cantieri Meticci. \nVi aspettiamo! La locanda è aperta dalle 8.30 alle 15 per colazioni\, spuntini e pranzo. \nper info e prenotazioni\nhttps://saluspace.eu/riviva\nmercato@saluspace.eu
URL:https://saluspace.eu/event/riviva-il-mercato-dellusato-5/
LOCATION:Salus Space\, via Malvezza 2/2\, Bologna
END:VEVENT
BEGIN:VEVENT
DTSTART;TZID=UTC:20230304T093000
DTEND;TZID=UTC:20230304T123000
DTSTAMP:20260421T165624
CREATED:20230317T090631Z
LAST-MODIFIED:20230317T090631Z
UID:3826-1677922200-1677933000@saluspace.eu
SUMMARY:BookCrossing e biblioteca
DESCRIPTION:Tutti i sabati mattina dalle 9.30 alle 12.30 prosegue all’interno del Centro Studi l’organizzazione del BookCrossing\, che vuole favorire la circolazione e il libero scambio di libri: si può prendere uno o più libri e/o portarne di già letti. Il tutto gratuitamente\nAll’interno del Centro di Animazione Culturale di Salus Space sarà anche possibile\, sempre il sabato mattina\, consultare e prendere in prestito uno o più libri. Potrai trovare\, tra gli oltre 1200 titoli presenti in biblioteca\, volumi di pregio sul territorio bolognese donati dalla Fondazione Carisbo e tanti altri di narrativa\, storia\, arte\, politica\, religione\, poesia\, biografie\, cucina. E’ presente anche una ricca sezione di letteratura per l’infanzia e per ragazzi! \nL’iniziativa è a cura di di Incontriamoci a Salus\, l’associazione di cittadine e cittadini che condividono il progetto Salus Space e che vogliono promuoverne gli spazi e le iniziative con attività culturali\, formative e ricreative.
URL:https://saluspace.eu/event/bookcrossing-e-biblioteca-7/
LOCATION:Salus Space\, via Malvezza 2/2\, Bologna
ORGANIZER;CN="Associazione Incontriamoci a Salus":MAILTO:incontriamociasalus@gmail.com
END:VEVENT
BEGIN:VEVENT
DTSTART;TZID=UTC:20230308T173000
DTEND;TZID=UTC:20230308T183000
DTSTAMP:20260421T165624
CREATED:20230313T105324Z
LAST-MODIFIED:20230313T105347Z
UID:3799-1678296600-1678300200@saluspace.eu
SUMMARY:Salotto culturale in relax
DESCRIPTION:Dall’11 gennaio 2023 tutti i mercoledì pomeriggio dalle 17.30 alle 18.30 si tiene presso il Centro di Animazione Culturale (la biblioteca) il “Salotto culturale in relax”\, letture e chiacchiere in compagnia per grandi e piccini. \nE’ uno degli appuntamenti settimanali curati da Incontriamoci a Salus\, l’associazione di cittadine e cittadini che condividono il progetto Salus Space e che vogliono promuoverne gli spazi e le iniziative con attività culturali\, formative e ricreative. \nMolte altre attività dell’Associazione sono in cantiere. Se vuoi partecipare puoi scrivere all’indirizzo: incontriamociasalus@gmail.com \nA curare il Salotto culturale in relax è Giordana Alberti\, una cittadina attiva in molte realtà bolognesi. Le abbiamo chiesto quale è la sua idea per i mercoledì pomeriggio: \n“Posso dedicare un’oretta ogni mercoledì\, presenziando la biblioteca con bambini e o adulti\, appassionati all’ascolto di lettura di libri o a fare salotto di piacevole compagnia su temi di benessere relazionale. L’iniziativa di presidiare la biblioteca con un progetto di continuità è rivolta a coloro che ancora credono nel valore degli incontri fisici fra cittadini per ricreare una rete relazionale e di confronto. Nulla di nuovo\, ma in questo periodo storico antropologico unico\, necessita riappropriarsi del valore umano vero”.
URL:https://saluspace.eu/event/salotto-culturale-in-relax-9/
LOCATION:Salus Space\, via Malvezza 2/2\, Bologna
ORGANIZER;CN="Associazione Incontriamoci a Salus":MAILTO:incontriamociasalus@gmail.com
END:VEVENT
BEGIN:VEVENT
DTSTART;TZID=UTC:20230311T093000
DTEND;TZID=UTC:20230311T093000
DTSTAMP:20260421T165624
CREATED:20230317T090737Z
LAST-MODIFIED:20230317T090737Z
UID:3828-1678527000-1678527000@saluspace.eu
SUMMARY:BookCrossing e biblioteca
DESCRIPTION:Dal 14 gennaio\, tutti i sabati mattina dalle 9.30 alle 12.30 prosegue all’interno del Centro Studi l’organizzazione del BookCrossing\, che vuole favorire la circolazione e il libero scambio di libri: si può prendere uno o più libri e/o portarne di già letti. Il tutto gratuitamente\nAll’interno del Centro di Animazione Culturale di Salus Space sarà anche possibile\, sempre il sabato mattina\, consultare e prendere in prestito uno o più libri. Potrai trovare\, tra gli oltre 1200 titoli presenti in biblioteca\, volumi di pregio sul territorio bolognese donati dalla Fondazione Carisbo e tanti altri di narrativa\, storia\, arte\, politica\, religione\, poesia\, biografie\, cucina. E’ presente anche una ricca sezione di letteratura per l’infanzia e per ragazzi! \nL’iniziativa è a cura di di Incontriamoci a Salus\, l’associazione di cittadine e cittadini che condividono il progetto Salus Space e che vogliono promuoverne gli spazi e le iniziative con attività culturali\, formative e ricreative.
URL:https://saluspace.eu/event/bookcrossing-e-biblioteca-8/
LOCATION:Salus Space\, via Malvezza 2/2\, Bologna
ORGANIZER;CN="Associazione Incontriamoci a Salus":MAILTO:incontriamociasalus@gmail.com
END:VEVENT
BEGIN:VEVENT
DTSTART;TZID=UTC:20230315T173000
DTEND;TZID=UTC:20230315T183000
DTSTAMP:20260421T165624
CREATED:20230313T105456Z
LAST-MODIFIED:20230313T105456Z
UID:3801-1678901400-1678905000@saluspace.eu
SUMMARY:Salotto culturale in relax
DESCRIPTION:Dall’11 gennaio 2023 tutti i mercoledì pomeriggio dalle 17.30 alle 18.30 si tiene presso il Centro di Animazione Culturale (la biblioteca) il “Salotto culturale in relax”\, letture e chiacchiere in compagnia per grandi e piccini. \nE’ uno degli appuntamenti settimanali curati da Incontriamoci a Salus\, l’associazione di cittadine e cittadini che condividono il progetto Salus Space e che vogliono promuoverne gli spazi e le iniziative con attività culturali\, formative e ricreative. \nMolte altre attività dell’Associazione sono in cantiere. Se vuoi partecipare puoi scrivere all’indirizzo: incontriamociasalus@gmail.com \nA curare il Salotto culturale in relax è Giordana Alberti\, una cittadina attiva in molte realtà bolognesi. Le abbiamo chiesto quale è la sua idea per i mercoledì pomeriggio: \n“Posso dedicare un’oretta ogni mercoledì\, presenziando la biblioteca con bambini e o adulti\, appassionati all’ascolto di lettura di libri o a fare salotto di piacevole compagnia su temi di benessere relazionale. L’iniziativa di presidiare la biblioteca con un progetto di continuità è rivolta a coloro che ancora credono nel valore degli incontri fisici fra cittadini per ricreare una rete relazionale e di confronto. Nulla di nuovo\, ma in questo periodo storico antropologico unico\, necessita riappropriarsi del valore umano vero”.
URL:https://saluspace.eu/event/salotto-culturale-in-relax-10/
LOCATION:Salus Space\, via Malvezza 2/2\, Bologna
ORGANIZER;CN="Associazione Incontriamoci a Salus":MAILTO:incontriamociasalus@gmail.com
END:VEVENT
BEGIN:VEVENT
DTSTART;TZID=UTC:20230318T093000
DTEND;TZID=UTC:20230318T123000
DTSTAMP:20260421T165624
CREATED:20230317T090918Z
LAST-MODIFIED:20230317T090918Z
UID:3830-1679131800-1679142600@saluspace.eu
SUMMARY:BookCrossing e biblioteca
DESCRIPTION:Dal 14 gennaio\, tutti i sabati mattina dalle 9.30 alle 12.30 prosegue all’interno del Centro Studi l’organizzazione del BookCrossing\, che vuole favorire la circolazione e il libero scambio di libri: si può prendere uno o più libri e/o portarne di già letti. Il tutto gratuitamente\nAll’interno del Centro di Animazione Culturale di Salus Space sarà anche possibile\, sempre il sabato mattina\, consultare e prendere in prestito uno o più libri. Potrai trovare\, tra gli oltre 1200 titoli presenti in biblioteca\, volumi di pregio sul territorio bolognese donati dalla Fondazione Carisbo e tanti altri di narrativa\, storia\, arte\, politica\, religione\, poesia\, biografie\, cucina. E’ presente anche una ricca sezione di letteratura per l’infanzia e per ragazzi! \nL’iniziativa è a cura di di Incontriamoci a Salus\, l’associazione di cittadine e cittadini che condividono il progetto Salus Space e che vogliono promuoverne gli spazi e le iniziative con attività culturali\, formative e ricreative.
URL:https://saluspace.eu/event/bookcrossing-e-biblioteca-9/
LOCATION:Salus Space\, via Malvezza 2/2\, Bologna
ORGANIZER;CN="Associazione Incontriamoci a Salus":MAILTO:incontriamociasalus@gmail.com
END:VEVENT
BEGIN:VEVENT
DTSTART;TZID=UTC:20230318T100000
DTEND;TZID=UTC:20230318T120000
DTSTAMP:20260421T165624
CREATED:20230208T132210Z
LAST-MODIFIED:20230313T103822Z
UID:3744-1679133600-1679140800@saluspace.eu
SUMMARY:Festa del papà
DESCRIPTION:Sabato 18 marzo dalle 10 alle 12.00 festeggeremo con i bambini i papà di tutto il mondo!\nInsieme ai Cantieri meticci\, laboratori e creatività. \nLa Locanda sarà aperta\, anche per il pranzo. \nIl banchetto di verdure degli orti di Salus ci sarà con gli stessi orari.
URL:https://saluspace.eu/event/festa-del-papa/
LOCATION:Salus Space\, via Malvezza 2/2\, Bologna
END:VEVENT
BEGIN:VEVENT
DTSTART;TZID=UTC:20230322T173000
DTEND;TZID=UTC:20230322T183000
DTSTAMP:20260421T165624
CREATED:20230313T105543Z
LAST-MODIFIED:20230313T105543Z
UID:3803-1679506200-1679509800@saluspace.eu
SUMMARY:Salotto culturale in relax
DESCRIPTION:Dall’11 gennaio 2023 tutti i mercoledì pomeriggio dalle 17.30 alle 18.30 si tiene presso il Centro di Animazione Culturale (la biblioteca) il “Salotto culturale in relax”\, letture e chiacchiere in compagnia per grandi e piccini. \nE’ uno degli appuntamenti settimanali curati da Incontriamoci a Salus\, l’associazione di cittadine e cittadini che condividono il progetto Salus Space e che vogliono promuoverne gli spazi e le iniziative con attività culturali\, formative e ricreative. \nMolte altre attività dell’Associazione sono in cantiere. Se vuoi partecipare puoi scrivere all’indirizzo: incontriamociasalus@gmail.com \nA curare il Salotto culturale in relax è Giordana Alberti\, una cittadina attiva in molte realtà bolognesi. Le abbiamo chiesto quale è la sua idea per i mercoledì pomeriggio: \n“Posso dedicare un’oretta ogni mercoledì\, presenziando la biblioteca con bambini e o adulti\, appassionati all’ascolto di lettura di libri o a fare salotto di piacevole compagnia su temi di benessere relazionale. L’iniziativa di presidiare la biblioteca con un progetto di continuità è rivolta a coloro che ancora credono nel valore degli incontri fisici fra cittadini per ricreare una rete relazionale e di confronto. Nulla di nuovo\, ma in questo periodo storico antropologico unico\, necessita riappropriarsi del valore umano vero”.
URL:https://saluspace.eu/event/salotto-culturale-in-relax-11/
LOCATION:Salus Space\, via Malvezza 2/2\, Bologna
ORGANIZER;CN="Associazione Incontriamoci a Salus":MAILTO:incontriamociasalus@gmail.com
END:VEVENT
BEGIN:VEVENT
DTSTART;TZID=UTC:20230325T093000
DTEND;TZID=UTC:20230325T123000
DTSTAMP:20260421T165624
CREATED:20230317T091024Z
LAST-MODIFIED:20230317T091024Z
UID:3832-1679736600-1679747400@saluspace.eu
SUMMARY:BookCrossing e biblioteca
DESCRIPTION:Dal 14 gennaio\, tutti i sabati mattina dalle 9.30 alle 12.30 prosegue all’interno del Centro Studi l’organizzazione del BookCrossing\, che vuole favorire la circolazione e il libero scambio di libri: si può prendere uno o più libri e/o portarne di già letti. Il tutto gratuitamente\nAll’interno del Centro di Animazione Culturale di Salus Space sarà anche possibile\, sempre il sabato mattina\, consultare e prendere in prestito uno o più libri. Potrai trovare\, tra gli oltre 1200 titoli presenti in biblioteca\, volumi di pregio sul territorio bolognese donati dalla Fondazione Carisbo e tanti altri di narrativa\, storia\, arte\, politica\, religione\, poesia\, biografie\, cucina. E’ presente anche una ricca sezione di letteratura per l’infanzia e per ragazzi! \nL’iniziativa è a cura di di Incontriamoci a Salus\, l’associazione di cittadine e cittadini che condividono il progetto Salus Space e che vogliono promuoverne gli spazi e le iniziative con attività culturali\, formative e ricreative.
URL:https://saluspace.eu/event/bookcrossing-e-biblioteca-10/
LOCATION:Salus Space\, via Malvezza 2/2\, Bologna
ORGANIZER;CN="Associazione Incontriamoci a Salus":MAILTO:incontriamociasalus@gmail.com
END:VEVENT
BEGIN:VEVENT
DTSTART;TZID=UTC:20230325T160000
DTEND;TZID=UTC:20230325T190000
DTSTAMP:20260421T165624
CREATED:20230317T084812Z
LAST-MODIFIED:20230317T084812Z
UID:3823-1679760000-1679770800@saluspace.eu
SUMMARY:Soccorso
DESCRIPTION:Sabato 25 marzo dalle ore 16 alle ore 19 abbiamo organizzato\, in collaborazione con il Corpo Volontario per la Sicurezza Territoriale – Pianoro (BO)\, un incontro sul primo soccorso. \nIl corso sarà tenuto da Luca Cinti\, un infermiere volontario del Corpo Volontario per la Sicurezza Territoriale\, e tratterà i seguenti argomenti: \n\ncome effettuare una corretta chiamata al 118;\ncolpi di sole/calore\, ipotermia;\ntraumi\, distorsioni\, lussazioni\, fratture;\nmedicazioni semplici;\nrianimazione cardio-polmonare (con la possibilità di provare il massaggio cardiaco su apposito manichino).\n\nL’incontro è gratuito\, a offerta libera e consapevole per sostenere le attività che l’Associazione organizza a Salus Space.
URL:https://saluspace.eu/event/soccorso/
LOCATION:Salus Space\, via Malvezza 2/2\, Bologna
END:VEVENT
BEGIN:VEVENT
DTSTART;TZID=UTC:20230329T173000
DTEND;TZID=UTC:20230329T183000
DTSTAMP:20260421T165624
CREATED:20230313T105627Z
LAST-MODIFIED:20230313T105627Z
UID:3805-1680111000-1680114600@saluspace.eu
SUMMARY:Salotto culturale in relax
DESCRIPTION:Dall’11 gennaio 2023 tutti i mercoledì pomeriggio dalle 17.30 alle 18.30 si tiene presso il Centro di Animazione Culturale (la biblioteca) il “Salotto culturale in relax”\, letture e chiacchiere in compagnia per grandi e piccini. \nE’ uno degli appuntamenti settimanali curati da Incontriamoci a Salus\, l’associazione di cittadine e cittadini che condividono il progetto Salus Space e che vogliono promuoverne gli spazi e le iniziative con attività culturali\, formative e ricreative. \nMolte altre attività dell’Associazione sono in cantiere. Se vuoi partecipare puoi scrivere all’indirizzo: incontriamociasalus@gmail.com \nA curare il Salotto culturale in relax è Giordana Alberti\, una cittadina attiva in molte realtà bolognesi. Le abbiamo chiesto quale è la sua idea per i mercoledì pomeriggio: \n“Posso dedicare un’oretta ogni mercoledì\, presenziando la biblioteca con bambini e o adulti\, appassionati all’ascolto di lettura di libri o a fare salotto di piacevole compagnia su temi di benessere relazionale. L’iniziativa di presidiare la biblioteca con un progetto di continuità è rivolta a coloro che ancora credono nel valore degli incontri fisici fra cittadini per ricreare una rete relazionale e di confronto. Nulla di nuovo\, ma in questo periodo storico antropologico unico\, necessita riappropriarsi del valore umano vero”.
URL:https://saluspace.eu/event/salotto-culturale-in-relax-12/
LOCATION:Salus Space\, via Malvezza 2/2\, Bologna
ORGANIZER;CN="Associazione Incontriamoci a Salus":MAILTO:incontriamociasalus@gmail.com
END:VEVENT
END:VCALENDAR