BEGIN:VCALENDAR
VERSION:2.0
PRODID:-//Saluspace 2.0 - ECPv6.15.20//NONSGML v1.0//EN
CALSCALE:GREGORIAN
METHOD:PUBLISH
X-WR-CALNAME:Saluspace 2.0
X-ORIGINAL-URL:https://saluspace.eu
X-WR-CALDESC:Eventi per Saluspace 2.0
REFRESH-INTERVAL;VALUE=DURATION:PT1H
X-Robots-Tag:noindex
X-PUBLISHED-TTL:PT1H
BEGIN:VTIMEZONE
TZID:UTC
BEGIN:STANDARD
TZOFFSETFROM:+0000
TZOFFSETTO:+0000
TZNAME:UTC
DTSTART:20220101T000000
END:STANDARD
END:VTIMEZONE
BEGIN:VEVENT
DTSTART;TZID=UTC:20230401T083000
DTEND;TZID=UTC:20230401T150000
DTSTAMP:20260421T150756
CREATED:20230208T113955Z
LAST-MODIFIED:20230208T113955Z
UID:3735-1680337800-1680361200@saluspace.eu
SUMMARY:RiViva - Il mercato dell'usato
DESCRIPTION:Torna RiViva\, sabato 1 aprile\, dalle ore 9.00  alle 15.00. \nSiamo felici di darvi  la possibilità di offrire una seconda vita ai vostri vestiti e oggetti.\nCome sempre gli spazi espositivi nell’area di Salus Space sono gratuiti su prenotazione. \nDalle 10.00 alle 12.00 ci saranno anche i laboratori per bambini gestiti dai Cantieri Meticci. \nVi aspettiamo! La locanda è aperta dalle 8.30 alle 15 per colazioni\, spuntini e pranzo. \nper info e prenotazioni\nhttps://saluspace.eu/riviva\nmercato@saluspace.eu
URL:https://saluspace.eu/event/riviva-il-mercato-dellusato-6/
LOCATION:Salus Space\, via Malvezza 2/2\, Bologna
END:VEVENT
BEGIN:VEVENT
DTSTART;TZID=UTC:20230401T093000
DTEND;TZID=UTC:20230401T123000
DTSTAMP:20260421T150756
CREATED:20230317T091202Z
LAST-MODIFIED:20230317T091202Z
UID:3834-1680341400-1680352200@saluspace.eu
SUMMARY:BookCrossing e biblioteca
DESCRIPTION:Tutti i sabati mattina dalle 9.30 alle 12.30 prosegue all’interno del Centro Studi l’organizzazione del BookCrossing\, che vuole favorire la circolazione e il libero scambio di libri: si può prendere uno o più libri e/o portarne di già letti. Il tutto gratuitamente\nAll’interno del Centro di Animazione Culturale di Salus Space sarà anche possibile\, sempre il sabato mattina\, consultare e prendere in prestito uno o più libri. Potrai trovare\, tra gli oltre 1200 titoli presenti in biblioteca\, volumi di pregio sul territorio bolognese donati dalla Fondazione Carisbo e tanti altri di narrativa\, storia\, arte\, politica\, religione\, poesia\, biografie\, cucina. E’ presente anche una ricca sezione di letteratura per l’infanzia e per ragazzi! \nL’iniziativa è a cura di di Incontriamoci a Salus\, l’associazione di cittadine e cittadini che condividono il progetto Salus Space e che vogliono promuoverne gli spazi e le iniziative con attività culturali\, formative e ricreative.
URL:https://saluspace.eu/event/bookcrossing-e-biblioteca-11/
LOCATION:Salus Space\, via Malvezza 2/2\, Bologna
ORGANIZER;CN="Associazione Incontriamoci a Salus":MAILTO:incontriamociasalus@gmail.com
END:VEVENT
BEGIN:VEVENT
DTSTART;TZID=UTC:20230402T103000
DTEND;TZID=UTC:20230402T123000
DTSTAMP:20260421T150756
CREATED:20230313T103745Z
LAST-MODIFIED:20230313T103745Z
UID:3793-1680431400-1680438600@saluspace.eu
SUMMARY:Sounds book
DESCRIPTION:Salus Space è una delle tappe di Sounds Book\, un progetto interregionale di rete dedicato alla lettura per i più piccoli\, curato da Archilabò insieme alla Libreria Attraverso di Bologna.\n\nIn particolare promuove la lettura nella fascia d’età 0-6 come attività fondamentale per lo sviluppo neuropsicologico di bambini e bambine e la costruzione di un tessuto socio-culturale condiviso. Le attività si svolgono a Bologna e Torino\, sono iniziate nel settembre 22 e termineranno a giugno 23. Focus privilegiato di Sounds Book è la riflessione sulle pratiche di lettura. \n\nA Salus domenica 2 aprile\, dalle 10.30 alle 12.30\, ci sarà un laboratorio gratuito per bambine e bambini da 0 a sei anni dedicato all’albo Cose così cose cosà  https://www.ippocampoedizioni.it/libro/9788867226528)\, un laboratorio dinamico e divertente\, al termine del quale i partecipanti riceveranno in dono proprio il libro da cui sono partiti per giocare.\nLe altre date sono previste alla libreria di via Santo Stefano 80\, ma saranno riservate a bimbe e bimbi rifugiati\, ospiti di centri di accoglienza della nostra città.
URL:https://saluspace.eu/event/sounds-book/
LOCATION:Salus Space\, via Malvezza 2/2\, Bologna
END:VEVENT
BEGIN:VEVENT
DTSTART;TZID=UTC:20230405T173000
DTEND;TZID=UTC:20230405T183000
DTSTAMP:20260421T150756
CREATED:20230313T105736Z
LAST-MODIFIED:20230313T105736Z
UID:3807-1680715800-1680719400@saluspace.eu
SUMMARY:Salotto culturale in relax
DESCRIPTION:Dall’11 gennaio 2023 tutti i mercoledì pomeriggio dalle 17.30 alle 18.30 si tiene presso il Centro di Animazione Culturale (la biblioteca) il “Salotto culturale in relax”\, letture e chiacchiere in compagnia per grandi e piccini. \nE’ uno degli appuntamenti settimanali curati da Incontriamoci a Salus\, l’associazione di cittadine e cittadini che condividono il progetto Salus Space e che vogliono promuoverne gli spazi e le iniziative con attività culturali\, formative e ricreative. \nMolte altre attività dell’Associazione sono in cantiere. Se vuoi partecipare puoi scrivere all’indirizzo: incontriamociasalus@gmail.com \nA curare il Salotto culturale in relax è Giordana Alberti\, una cittadina attiva in molte realtà bolognesi. Le abbiamo chiesto quale è la sua idea per i mercoledì pomeriggio: \n“Posso dedicare un’oretta ogni mercoledì\, presenziando la biblioteca con bambini e o adulti\, appassionati all’ascolto di lettura di libri o a fare salotto di piacevole compagnia su temi di benessere relazionale. L’iniziativa di presidiare la biblioteca con un progetto di continuità è rivolta a coloro che ancora credono nel valore degli incontri fisici fra cittadini per ricreare una rete relazionale e di confronto. Nulla di nuovo\, ma in questo periodo storico antropologico unico\, necessita riappropriarsi del valore umano vero”.
URL:https://saluspace.eu/event/salotto-culturale-in-relax-13/
LOCATION:Salus Space\, via Malvezza 2/2\, Bologna
ORGANIZER;CN="Associazione Incontriamoci a Salus":MAILTO:incontriamociasalus@gmail.com
END:VEVENT
BEGIN:VEVENT
DTSTART;TZID=UTC:20230412T173000
DTEND;TZID=UTC:20230412T183000
DTSTAMP:20260421T150756
CREATED:20230313T105823Z
LAST-MODIFIED:20230313T105823Z
UID:3809-1681320600-1681324200@saluspace.eu
SUMMARY:Salotto culturale in relax
DESCRIPTION:Dall’11 gennaio 2023 tutti i mercoledì pomeriggio dalle 17.30 alle 18.30 si tiene presso il Centro di Animazione Culturale (la biblioteca) il “Salotto culturale in relax”\, letture e chiacchiere in compagnia per grandi e piccini. \nE’ uno degli appuntamenti settimanali curati da Incontriamoci a Salus\, l’associazione di cittadine e cittadini che condividono il progetto Salus Space e che vogliono promuoverne gli spazi e le iniziative con attività culturali\, formative e ricreative. \nMolte altre attività dell’Associazione sono in cantiere. Se vuoi partecipare puoi scrivere all’indirizzo: incontriamociasalus@gmail.com \nA curare il Salotto culturale in relax è Giordana Alberti\, una cittadina attiva in molte realtà bolognesi. Le abbiamo chiesto quale è la sua idea per i mercoledì pomeriggio: \n“Posso dedicare un’oretta ogni mercoledì\, presenziando la biblioteca con bambini e o adulti\, appassionati all’ascolto di lettura di libri o a fare salotto di piacevole compagnia su temi di benessere relazionale. L’iniziativa di presidiare la biblioteca con un progetto di continuità è rivolta a coloro che ancora credono nel valore degli incontri fisici fra cittadini per ricreare una rete relazionale e di confronto. Nulla di nuovo\, ma in questo periodo storico antropologico unico\, necessita riappropriarsi del valore umano vero”.
URL:https://saluspace.eu/event/salotto-culturale-in-relax-14/
LOCATION:Salus Space\, via Malvezza 2/2\, Bologna
ORGANIZER;CN="Associazione Incontriamoci a Salus":MAILTO:incontriamociasalus@gmail.com
END:VEVENT
BEGIN:VEVENT
DTSTART;TZID=UTC:20230413T090000
DTEND;TZID=UTC:20230413T130000
DTSTAMP:20260421T150756
CREATED:20230313T102939Z
LAST-MODIFIED:20230313T102939Z
UID:3790-1681376400-1681390800@saluspace.eu
SUMMARY:Network abitare collaborativo
DESCRIPTION:Il Network tra città europee sul tema dell’abitare collaborativo promosso dall’Unione Europea si incontra a Salus Space il 13 aprile prossimo. L’occasione è la due giorni del progetto NetCo\, Network of Cities of Collaborative housing. La mattina del 13 l’incontro tra i partner europei sarà a porte chiuse\, mentre il giorno 14\, dalle ore 10.00 alle 13.00\, ci sarà un convegno pubblico in Auditorium Biagi\, in Salaborsa. \nIl progetto\, coordinato dal Comune di Barcellona\, promuove lo scambio di competenze ed esperienze sul tema dell’abitare collaborativo come soluzione a lungo termine per affrontare le disparità nell’accesso all’abitare\, ma anche favorire soluzioni più economiche e più rispettose dell’ambiente.
URL:https://saluspace.eu/event/network-abitare-collaborativo/
LOCATION:Salus Space\, via Malvezza 2/2\, Bologna
END:VEVENT
BEGIN:VEVENT
DTSTART;TZID=UTC:20230415T100000
DTEND;TZID=UTC:20230415T113000
DTSTAMP:20260421T150756
CREATED:20230321T110802Z
LAST-MODIFIED:20230321T110802Z
UID:3845-1681552800-1681558200@saluspace.eu
SUMMARY:Laboratorio microgreens
DESCRIPTION:Nuovi laboratori gratuiti a Salus Space a cura di Aquaponic Design. Sono parte del percorso FoodE\, che coinvolge l’Università di Bologna (Dipartimento di Scienze e Tecnologie Agrarie e Alimentari). \nsabato 15 aprile: microgeens. Sono giovani germogli raccolti a uno stato precoce di crescita. Sono molto apprezzati nella cucina gourmet per il sapore intenso e la concentrazione di nutrienti. A Salus vengono coltivati in un container marittimo. \nL’obiettivo del progetto FoodE è quello di favorire la creazione di sistemi alimentari urbani partecipati\, riunendo iniziative locali da tutta Europa e co-sviluppando e diffondendo una serie di strumenti – in collaborazione con il mondo accademico\, i cittadini e le start-up del sistema alimentare – per garantire l’applicazione delle conoscenze intersettoriali più aggiornate.\nLa sfida principale è quindi quella di aggregare i modelli più sostenibili di sistemi alimentari nel contesto città-regione (City-Region Food Systems o CRFS) e consentire la co-progettazione di esperienze pilota innovative\, promuovendo la salute e il benessere dei cittadini europei. \nIl progetto è stato lanciato nel 2020 e durerà per 4 anni. Il consorzio coinvolge 24 partner di 8 paesi europei (Francia\, Germania\, Italia\, Paesi Bassi\, Norvegia\, Romania\, Slovenia e Spagna).
URL:https://saluspace.eu/event/laboratorio-microgreens/
LOCATION:Salus Space\, via Malvezza 2/2\, Bologna
END:VEVENT
BEGIN:VEVENT
DTSTART;TZID=UTC:20230415T100000
DTEND;TZID=UTC:20230415T113000
DTSTAMP:20260421T150756
CREATED:20230323T125845Z
LAST-MODIFIED:20230323T125845Z
UID:3870-1681552800-1681558200@saluspace.eu
SUMMARY:Giochi d'altri mondi
DESCRIPTION:Cerchiamo cittadine e cittadini che insieme alla Comunità di Salus Space vogliano co-progettare futuri interventi e migliorie in alcune aree verdi di Salus. Sarà un’occasione per riflettere e collaborare\, condividendo i pensieri\, alla realizzazione di un parco giochi e sportivo diffuso.\nAbbiamo bisogno delle vostre idee e della vostra creatività\, per immaginare uno spazio che sia pubblico e inclusivo.\nL’evento si svolgerà sotto forma di dialogo\, gioco e attività laboratoriali in due tappe: sabato 15 aprile e sabato 6 maggio 2023\, dalle  ore 10.00 alle ore 12.00\, in una delle sale del centro studi di Salus Space\, in via Malvezza 2/2\, a Bologna. \nTutte le idee raccolte saranno propedeutiche al campo di volontariato europeo che\, nel corso di una settimana nel mese di luglio\, si impegnerà a migliorare l’area di Salus. \nAl termine degli incontri ci sarà un momento di convivialità con un piccolo aperitivo offerto. \nSe vuoi contribuire alla creazione del parco giochi e sportivo diffuso puoi lasciare il tuo segno nel territorio! Compila il nostro form e conferma poi la tua presenza a collettivachiriku@gmail.com\nhttps://forms.gle/k1FrDhcR6q4zZWjW8 \nL’iniziativa è realizzata da Collettiva Chirikù in collaborazione con Salus Space. \nCos’è Collettiva Chirikù? Chi siamo?\nProvenienti da diversi contesti ed esperienze\, ci muoviamo nel sociale\, incontrandoci nel vasto terreno dell’educativa non formale. Con sguardo pedagogico e cura per la diversità\, sogniamo una comunità più inclusiva.
URL:https://saluspace.eu/event/giochi-daltri-mondi/
LOCATION:Salus Space\, via Malvezza 2/2\, Bologna
END:VEVENT
BEGIN:VEVENT
DTSTART;TZID=UTC:20230415T100000
DTEND;TZID=UTC:20230415T160000
DTSTAMP:20260421T150756
CREATED:20230412T133840Z
LAST-MODIFIED:20230412T133840Z
UID:3980-1681552800-1681574400@saluspace.eu
SUMMARY:Salus Mondi
DESCRIPTION:Musica\, cultura\, giochi e sapori dal mondo\, Salus Mondi aprirà sabato 15 aprile\, ma in quella stessa mattinata via Malvezza sarà animata da molto altro. \nSi comincia alle ore 10 con Giochi d’altri mondi\, a cui invitiamo cittadin* e abitant* che vogliano insieme a noi progettare futuri interventi e migliorie in alcune aree verdi di Salus. Sarà un’occasione per riflettere e collaborare\, condividendo i pensieri\, alla realizzazione di un parco giochi e sportivo diffuso. \nSempre alle ore 10 il laboratorio gratuito curato da Aquaponic Design dedicato ai microgeens. A Salus vengono coltivati in un container marittimo. Qui il calendario completo dei laboratori green. \nLaboratori per bambini dedicati ai giochi di strada alla stessa ora\, curati dai Cantieri Meticci. \nAlle 12.30 dj set con musiche dal mondo\, c’è spazio per ballare insieme nell’area verde di Salus Space. \nPer il pranzo la Locanda sta preparando un piatto speciale\, ispirato dalle gastronomie di continenti diversi\, perchè la Comunità e chi la viene a trovare ama il meticciato! \nVi aspettiamo in via Malvezza 2/2 a Bologna\, zona Via Due Madonne\, potete venire in bus (25 e 14)\, in bici (ciclabile Carlo Piazzi) e in auto (abbiamo un ampio parcheggio gratuito).
URL:https://saluspace.eu/event/salus-mondi/
LOCATION:Salus Space\, via Malvezza 2/2\, Bologna
END:VEVENT
BEGIN:VEVENT
DTSTART;TZID=UTC:20230419T143000
DTEND;TZID=UTC:20230419T173000
DTSTAMP:20260421T150756
CREATED:20230323T141135Z
LAST-MODIFIED:20230412T140500Z
UID:3880-1681914600-1681925400@saluspace.eu
SUMMARY:Presentazione Programma CERV
DESCRIPTION:Il 19 aprile verranno presentate a Salus le opportunità di finanziamento legate al programma europeo CERV – “Cittadini\, Uguaglianza\, Diritti e Valori”. Ad illustrarle sarà il National Contact Point del programma.\nE’ un incontro in particolare pensato per le realtà dell’associazionismo e del Terzo Settore. \nObiettivi specifici del programma:\n– salvaguardare e promuovere i valori dell’Unione (sezione Valori dell’Unione);\n– promuovere i diritti\, la non discriminazione e l’uguaglianza\, compresa la parità di genere\, e promuovere l’integrazione della dimensione di genere e della non discriminazione (sezione Uguaglianza\, diritti e parità di genere);\n– promuovere il coinvolgimento e la partecipazione dei cittadini alla vita democratica dell’Unione\, gli scambi tra i cittadini di diversi Stati membri e la sensibilizzazione in merito alla loro storia comune europea (sezione Coinvolgimento e partecipazione dei cittadini);\n– contrastare la violenza\, compresa la violenza di genere (sezione Daphne).\nll programma CERV\, assieme al programma “Giustizia” (2021-2027)\, è parte del Fondo Giustizia\, Diritti e Valori. \nNel corso dell’incontro\, che si terrà alle 14.30\, verrà spiegato anche il ruolo del National Contact Point e le attività di supporto che mette a disposizione dei possibili beneficiari. \nApriranno i lavori Annalisa Boni\, assessora del Comune di Bologna ai fondi europei/PNRR\, transizione ecologica e relazioni internazionali e Marzia Benassi\, presidente del Quartiere Savena. \nL’evento è aperto a tutte e tutti gli interessati\, è possibile iscriversi attraverso il form dedicato che trovate qui sotto. \nIscriviti
URL:https://saluspace.eu/event/presentazione-programma-cerv/
LOCATION:Salus Space\, via Malvezza 2/2\, Bologna
END:VEVENT
BEGIN:VEVENT
DTSTART;TZID=UTC:20230419T173000
DTEND;TZID=UTC:20230419T183000
DTSTAMP:20260421T150756
CREATED:20230313T105935Z
LAST-MODIFIED:20230313T105935Z
UID:3811-1681925400-1681929000@saluspace.eu
SUMMARY:Salotto culturale in relax
DESCRIPTION:Dall’11 gennaio 2023 tutti i mercoledì pomeriggio dalle 17.30 alle 18.30 si tiene presso il Centro di Animazione Culturale (la biblioteca) il “Salotto culturale in relax”\, letture e chiacchiere in compagnia per grandi e piccini. \nE’ uno degli appuntamenti settimanali curati da Incontriamoci a Salus\, l’associazione di cittadine e cittadini che condividono il progetto Salus Space e che vogliono promuoverne gli spazi e le iniziative con attività culturali\, formative e ricreative. \nMolte altre attività dell’Associazione sono in cantiere. Se vuoi partecipare puoi scrivere all’indirizzo: incontriamociasalus@gmail.com \nA curare il Salotto culturale in relax è Giordana Alberti\, una cittadina attiva in molte realtà bolognesi. Le abbiamo chiesto quale è la sua idea per i mercoledì pomeriggio: \n“Posso dedicare un’oretta ogni mercoledì\, presenziando la biblioteca con bambini e o adulti\, appassionati all’ascolto di lettura di libri o a fare salotto di piacevole compagnia su temi di benessere relazionale. L’iniziativa di presidiare la biblioteca con un progetto di continuità è rivolta a coloro che ancora credono nel valore degli incontri fisici fra cittadini per ricreare una rete relazionale e di confronto. Nulla di nuovo\, ma in questo periodo storico antropologico unico\, necessita riappropriarsi del valore umano vero”.
URL:https://saluspace.eu/event/salotto-culturale-in-relax-15/
LOCATION:Salus Space\, via Malvezza 2/2\, Bologna
ORGANIZER;CN="Associazione Incontriamoci a Salus":MAILTO:incontriamociasalus@gmail.com
END:VEVENT
BEGIN:VEVENT
DTSTART;TZID=UTC:20230421T180000
DTEND;TZID=UTC:20230421T193000
DTSTAMP:20260421T150756
CREATED:20230323T141712Z
LAST-MODIFIED:20230323T141712Z
UID:3883-1682100000-1682105400@saluspace.eu
SUMMARY:Corso scrittura creativa
DESCRIPTION:L’associazione Incontriamoci a Salus ha organizzato un piccolo corso di scrittura creativa gratuito\, Isabella Bidischini lo ha curato.\nLe date e l’orario: venerdì (21 aprile\, 5 e 19 maggio) dalle ore 18.00 alle 19.30\nEcco come lo descrive proprio Isabella: \nPiccoli luccicanti miracoli\, narcisi dorati\, fiori di susino e di ciliegio\, rovi tra tanta bellezza\, ed alberi di alto ed intricato fusto: immagini e parole in versi e prosa saranno il punto di partenza per entrare in contatto con la sensibilità di poeti e scrittori. \nCercheremo di carpirne i segreti e di interpretare il mistero della loro arte. Penetrando nelle loro vite\, ci metteremo un po’ delle nostre\, facendo filtrare qualcosa della nostra essenza e della nostra natura attraverso la parola scritta e detta. Improvviseremo sulla base delle suggestioni suscitate dalle letture e metteremo in comune emozioni\, pensieri e riflessioni in libertà. \nLa musica\, in sottofondo\, ci accompagnerà nel nostro cammino evocando epoche ed atmosfere. Tre incontri nei mesi più belli dell’anno\, tra aprile e maggio\, nell’ intrigante cornice di Salus Space! Vi aspettiamo! \nIscrivetevi qui: https://forms.gle/XhGQXJqpUDXY339a6 \nPortate fogli\, penna o tablet!
URL:https://saluspace.eu/event/corso-scrittura-creativa/
LOCATION:Salus Space\, via Malvezza 2/2\, Bologna
ORGANIZER;CN="Associazione Incontriamoci a Salus":MAILTO:incontriamociasalus@gmail.com
END:VEVENT
BEGIN:VEVENT
DTSTART;TZID=UTC:20230426T173000
DTEND;TZID=UTC:20230426T183000
DTSTAMP:20260421T150756
CREATED:20230313T110018Z
LAST-MODIFIED:20230313T110018Z
UID:3813-1682530200-1682533800@saluspace.eu
SUMMARY:Salotto culturale in relax
DESCRIPTION:Dall’11 gennaio 2023 tutti i mercoledì pomeriggio dalle 17.30 alle 18.30 si tiene presso il Centro di Animazione Culturale (la biblioteca) il “Salotto culturale in relax”\, letture e chiacchiere in compagnia per grandi e piccini. \nE’ uno degli appuntamenti settimanali curati da Incontriamoci a Salus\, l’associazione di cittadine e cittadini che condividono il progetto Salus Space e che vogliono promuoverne gli spazi e le iniziative con attività culturali\, formative e ricreative. \nMolte altre attività dell’Associazione sono in cantiere. Se vuoi partecipare puoi scrivere all’indirizzo: incontriamociasalus@gmail.com \nA curare il Salotto culturale in relax è Giordana Alberti\, una cittadina attiva in molte realtà bolognesi. Le abbiamo chiesto quale è la sua idea per i mercoledì pomeriggio: \n“Posso dedicare un’oretta ogni mercoledì\, presenziando la biblioteca con bambini e o adulti\, appassionati all’ascolto di lettura di libri o a fare salotto di piacevole compagnia su temi di benessere relazionale. L’iniziativa di presidiare la biblioteca con un progetto di continuità è rivolta a coloro che ancora credono nel valore degli incontri fisici fra cittadini per ricreare una rete relazionale e di confronto. Nulla di nuovo\, ma in questo periodo storico antropologico unico\, necessita riappropriarsi del valore umano vero”.
URL:https://saluspace.eu/event/salotto-culturale-in-relax-16/
LOCATION:Salus Space\, via Malvezza 2/2\, Bologna
ORGANIZER;CN="Associazione Incontriamoci a Salus":MAILTO:incontriamociasalus@gmail.com
END:VEVENT
BEGIN:VEVENT
DTSTART;TZID=UTC:20230429T100000
DTEND;TZID=UTC:20230429T113000
DTSTAMP:20260421T150756
CREATED:20230321T111046Z
LAST-MODIFIED:20230412T123036Z
UID:3849-1682762400-1682767800@saluspace.eu
SUMMARY:Laboratorio acquaponica
DESCRIPTION:Nuovi laboratori gratuiti a Salus Space a cura di Aquaponic Design. Sono parte del percorso FoodE\, che coinvolge l’Università di Bologna (Dipartimento di Scienze e Tecnologie Agrarie e Alimentari). \nsabato 29 aprile\, dalle 10 alle 11.30: Acquaponica. Si tratta di un sistema di coltivazione fuori suolo che coniuga la produzione di ortaggi all’allevamento di pesci\, commestibili o ornamentali. \nL’obiettivo del progetto FoodE è quello di favorire la creazione di sistemi alimentari urbani partecipati\, riunendo iniziative locali da tutta Europa e co-sviluppando e diffondendo una serie di strumenti – in collaborazione con il mondo accademico\, i cittadini e le start-up del sistema alimentare – per garantire l’applicazione delle conoscenze intersettoriali più aggiornate.\nLa sfida principale è quindi quella di aggregare i modelli più sostenibili di sistemi alimentari nel contesto città-regione (City-Region Food Systems o CRFS) e consentire la co-progettazione di esperienze pilota innovative\, promuovendo la salute e il benessere dei cittadini europei. \nIl progetto è stato lanciato nel 2020 e durerà per 4 anni. Il consorzio coinvolge 24 partner di 8 paesi europei (Francia\, Germania\, Italia\, Paesi Bassi\, Norvegia\, Romania\, Slovenia e Spagna).
URL:https://saluspace.eu/event/laboratorio-acquaponica/
LOCATION:Salus Space\, via Malvezza 2/2\, Bologna
END:VEVENT
END:VCALENDAR