BEGIN:VCALENDAR
VERSION:2.0
PRODID:-//Saluspace 2.0 - ECPv6.15.20//NONSGML v1.0//EN
CALSCALE:GREGORIAN
METHOD:PUBLISH
X-ORIGINAL-URL:https://saluspace.eu
X-WR-CALDESC:Eventi per Saluspace 2.0
REFRESH-INTERVAL;VALUE=DURATION:PT1H
X-Robots-Tag:noindex
X-PUBLISHED-TTL:PT1H
BEGIN:VTIMEZONE
TZID:UTC
BEGIN:STANDARD
TZOFFSETFROM:+0000
TZOFFSETTO:+0000
TZNAME:UTC
DTSTART:20220101T000000
END:STANDARD
END:VTIMEZONE
BEGIN:VEVENT
DTSTART;TZID=UTC:20230505T180000
DTEND;TZID=UTC:20230505T193000
DTSTAMP:20260421T132334
CREATED:20230323T142021Z
LAST-MODIFIED:20230323T142021Z
UID:3885-1683309600-1683315000@saluspace.eu
SUMMARY:Corso scrittura creativa
DESCRIPTION:L’associazione Incontriamoci a Salus ha organizzato un piccolo corso di scrittura creativa gratuito\, Isabella Bidischini lo ha curato.\nLe date e l’orario: venerdì (21 aprile\, 5 e 19 maggio) dalle ore 18.00 alle 19.30\nEcco come lo descrive proprio Isabella: \nPiccoli luccicanti miracoli\, narcisi dorati\, fiori di susino e di ciliegio\, rovi tra tanta bellezza\, ed alberi di alto ed intricato fusto: immagini e parole in versi e prosa saranno il punto di partenza per entrare in contatto con la sensibilità di poeti e scrittori. \nCercheremo di carpirne i segreti e di interpretare il mistero della loro arte. Penetrando nelle loro vite\, ci metteremo un po’ delle nostre\, facendo filtrare qualcosa della nostra essenza e della nostra natura attraverso la parola scritta e detta. Improvviseremo sulla base delle suggestioni suscitate dalle letture e metteremo in comune emozioni\, pensieri e riflessioni in libertà. \nLa musica\, in sottofondo\, ci accompagnerà nel nostro cammino evocando epoche ed atmosfere. Tre incontri nei mesi più belli dell’anno\, tra aprile e maggio\, nell’ intrigante cornice di Salus Space! Vi aspettiamo! \nIscrivetevi qui: https://forms.gle/XhGQXJqpUDXY339a6 \nPortate fogli\, penna o tablet!
URL:https://saluspace.eu/event/corso-scrittura-creativa-2/
LOCATION:Salus Space\, via Malvezza 2/2\, Bologna
ORGANIZER;CN="Associazione Incontriamoci a Salus":MAILTO:incontriamociasalus@gmail.com
END:VEVENT
BEGIN:VEVENT
DTSTART;TZID=UTC:20230506T083000
DTEND;TZID=UTC:20230506T150000
DTSTAMP:20260421T132334
CREATED:20230208T114053Z
LAST-MODIFIED:20230208T114149Z
UID:3737-1683361800-1683385200@saluspace.eu
SUMMARY:RiViva - Mercato dell'usato
DESCRIPTION:Torna RiViva\, sabato 6 maggio\, dalle ore 9.00  alle 15.00. \nSiamo felici di darvi  la possibilità di offrire una seconda vita ai vostri vestiti e oggetti.\nCome sempre gli spazi espositivi nell’area di Salus Space sono gratuiti su prenotazione. \nDalle 10.00 alle 12.00 ci saranno anche i laboratori per bambini gestiti dai Cantieri Meticci. \nVi aspettiamo! La locanda è aperta dalle 8.30 alle 15 per colazioni\, spuntini e pranzo. \nper info e prenotazioni\nhttps://saluspace.eu/riviva\nmercato@saluspace.eu
URL:https://saluspace.eu/event/riviva-mercato-dellusato/
LOCATION:Salus Space\, via Malvezza 2/2\, Bologna
END:VEVENT
BEGIN:VEVENT
DTSTART;TZID=UTC:20230506T100000
DTEND;TZID=UTC:20230506T113000
DTSTAMP:20260421T132334
CREATED:20230417T160208Z
LAST-MODIFIED:20230417T160208Z
UID:3995-1683367200-1683372600@saluspace.eu
SUMMARY:Giochi d'altri Mondi 2
DESCRIPTION:Si terrà sabato 6 maggio la seconda parte del laboratorio di progettazione insieme a cittadine e cittadini per rendere più bella e accogliente Salus Space. Il primo appuntamento\, con la collaborazione della Comunità di Salus\, ha visto la partecipazione di una decina di persone il 15 aprile\, ed è stata l’occasione per riflettere e collaborare\, condividendo i pensieri\, alla realizzazione di un parco giochi e sportivo diffuso. \nTutte le idee raccolte saranno propedeutiche al campo di volontariato europeo che\, nel corso di una settimana nel mese di luglio\, si impegnerà a migliorare l’area di Salus. \nL’iniziativa è realizzata da Collettiva Chirikù in collaborazione con Salus Space. \nCos’è Collettiva Chirikù? Chi siamo?\nProvenienti da diversi contesti ed esperienze\, ci muoviamo nel sociale\, incontrandoci nel vasto terreno dell’educativa non formale. Con sguardo pedagogico e cura per la diversità\, sogniamo una comunità più inclusiva.
URL:https://saluspace.eu/event/giochi-daltri-mondi-2-2/
LOCATION:Salus Space\, via Malvezza 2/2\, Bologna
END:VEVENT
BEGIN:VEVENT
DTSTART;TZID=UTC:20230506T100000
DTEND;TZID=UTC:20230506T200000
DTSTAMP:20260421T132334
CREATED:20230417T154442Z
LAST-MODIFIED:20230417T154442Z
UID:3990-1683367200-1683403200@saluspace.eu
SUMMARY:Entrata di emergenza
DESCRIPTION:Una due giorni per un’economia di cambiamento\, per riflettere su cibo\, terra\, equità e scelta insieme a Camilla Emporio di Comunità e ad altre realtà che percorrono strade alternative.\nSabato 6 maggio e domenica 7 maggio si svolgeranno a Salus Space dibattiti\, laboratori per adulti e bambini e incontri con i produttori\, cibo e socialità con musica e teatro.\nPer riflettere sull’attuale situazione economica e sociale\, condividere idee e pratiche e rilanciare l’alternativa della cooperazione dell’autogestione.\n\nProgramma\nsabato 6 maggio dalle 16\nDibattito pubblico con Monica di Sisto\, Andrea di Stefano e Mimmo Perrotta\ndomenica 7 maggio dalle 10:30\nDibattito pubblico con Mauro Boarelli\, tutte le food coop italiane attive e alcune esperienze in Europa e Stati Uniti. Cena\, letture e musica dal vivo\nsabato pomeriggio mercato dei produttori\nsabato e domenica Laboratori per adulti e bambini\nsabato e domenica mattina Cibo e socialità all’aperto con il baretto\, la Locanda e i banchetti street-food
URL:https://saluspace.eu/event/entrata-di-emergenza/
LOCATION:Salus Space\, via Malvezza 2/2\, Bologna
END:VEVENT
BEGIN:VEVENT
DTSTART;TZID=UTC:20230506T123000
DTEND;TZID=UTC:20230506T133000
DTSTAMP:20260421T132334
CREATED:20230420T060416Z
LAST-MODIFIED:20230420T060925Z
UID:4003-1683376200-1683379800@saluspace.eu
SUMMARY:Semplice Complesso Acustico
DESCRIPTION:Sabato 6 maggio\, all’interno della due giorni Entrata di emergenza\, alle 12.30 a Salus ci sarà il concerto gratuito del gruppo Semplice Complesso Acustico. \nE’ un gruppo acustico costituito da tre amici\, che suonano insieme da lungo tempo\, accomunati dalla passione per il folk americano e la musica country.\nLa formazione è anomala\, con una chitarra (più voce)\, un banjo (più voce) e un sax basso al posto del basso elettrico\, che permette al trio di esibirsi come buskers. \nGuidoriccio Bonvicini: chitarra e voce\nMassimo Evangelisti: banjo e voce\nAndrea Scorzoni: sax basso
URL:https://saluspace.eu/event/semplice-complesso-acustico/
LOCATION:Salus Space\, via Malvezza 2/2\, Bologna
END:VEVENT
BEGIN:VEVENT
DTSTART;TZID=UTC:20230507T103000
DTEND;TZID=UTC:20230507T150000
DTSTAMP:20260421T132334
CREATED:20230417T154545Z
LAST-MODIFIED:20230417T154545Z
UID:3993-1683455400-1683471600@saluspace.eu
SUMMARY:Entrata di emergenza
DESCRIPTION:Una due giorni per un’economia di cambiamento\, per riflettere su cibo\, terra\, equità e scelta insieme a Camilla Emporio di Comunità e ad altre realtà che percorrono strade alternative.\nSabato 6 maggio e domenica 7 maggio si svolgeranno a Salus Space dibattiti\, laboratori per adulti e bambini e incontri con i produttori\, cibo e socialità con musica e teatro.\nPer riflettere sull’attuale situazione economica e sociale\, condividere idee e pratiche e rilanciare l’alternativa della cooperazione dell’autogestione.\n\nProgramma\nsabato 6 maggio dalle 16\nDibattito pubblico con Monica di Sisto\, Andrea di Stefano e Mimmo Perrotta\ndomenica 7 maggio dalle 10:30\nDibattito pubblico con Mauro Boarelli\, tutte le food coop italiane attive e alcune esperienze in Europa e Stati Uniti. Cena\, letture e musica dal vivo\nsabato pomeriggio mercato dei produttori\nsabato e domenica Laboratori per adulti e bambini\nsabato e domenica mattina Cibo e socialità all’aperto con il baretto\, la Locanda e i banchetti street-food
URL:https://saluspace.eu/event/entrata-di-emergenza-2/
LOCATION:Salus Space\, via Malvezza 2/2\, Bologna
END:VEVENT
BEGIN:VEVENT
DTSTART;TZID=UTC:20230510T183000
DTEND;TZID=UTC:20230510T210000
DTSTAMP:20260421T132334
CREATED:20230509T115252Z
LAST-MODIFIED:20230509T115252Z
UID:4061-1683743400-1683752400@saluspace.eu
SUMMARY:Open Yoga Day
DESCRIPTION:Mercoledì 10 maggio dalle 18.30 alle 21 a Salus Space La Dacia Hatha Vinyasa Yoga e Meditazione Bologna invita a un open day gratuito. \nNella prima parte (dalle 18.30 alle 20) sarà praticato Hata Yoga\,  la seconda parte (dalle 20 alle 21) sarà dedicata alla meditazione. \nLe sessioni sono gratuite. Portate: tappetino da yoga\, abiti comodi\, cuscino da meditazione o cuscino da divano piuttosto rigido. \nA seguire aperitivo e cena al ristorante siriano. \nObbligo di prenotazione al 348 32 46 519\, oppure via mail a maurocontinente@libero.it
URL:https://saluspace.eu/event/open-yoga-day/
LOCATION:Salus Space\, via Malvezza 2/2\, Bologna
END:VEVENT
BEGIN:VEVENT
DTSTART;TZID=UTC:20230520T100000
DTEND;TZID=UTC:20230520T113000
DTSTAMP:20260421T132334
CREATED:20230321T111613Z
LAST-MODIFIED:20230321T111819Z
UID:3852-1684576800-1684582200@saluspace.eu
SUMMARY:Laboratorio biolaghi
DESCRIPTION:Nuovi laboratori gratuiti a Salus Space a cura di Aquaponic Design. Sono parte del percorso FoodE\, che coinvolge l’Università di Bologna (Dipartimento di Scienze e Tecnologie Agrarie e Alimentari). \nsabato 20 maggio\, ore 10-11.30:  biolaghi. Il biolago è un bacino d’acqua realizzato dall’uomo\, in grado di ricreare le stesse condizioni presenti nel laghi naturali. Grazie al biolago è possibile creare una piccola nicchia ecologica\, dato che specie animali diverse vengono attratte dall’acqua. \nL’obiettivo del progetto FoodE è quello di favorire la creazione di sistemi alimentari urbani partecipati\, riunendo iniziative locali da tutta Europa e co-sviluppando e diffondendo una serie di strumenti – in collaborazione con il mondo accademico\, i cittadini e le start-up del sistema alimentare – per garantire l’applicazione delle conoscenze intersettoriali più aggiornate.\nLa sfida principale è quindi quella di aggregare i modelli più sostenibili di sistemi alimentari nel contesto città-regione (City-Region Food Systems o CRFS) e consentire la co-progettazione di esperienze pilota innovative\, promuovendo la salute e il benessere dei cittadini europei. \nIl progetto è stato lanciato nel 2020 e durerà per 4 anni. Il consorzio coinvolge 24 partner di 8 paesi europei (Francia\, Germania\, Italia\, Paesi Bassi\, Norvegia\, Romania\, Slovenia e Spagna).
URL:https://saluspace.eu/event/3852/
LOCATION:Salus Space\, via Malvezza 2/2\, Bologna
END:VEVENT
BEGIN:VEVENT
DTSTART;TZID=UTC:20230521T190000
DTEND;TZID=UTC:20230521T210000
DTSTAMP:20260421T132334
CREATED:20230509T114942Z
LAST-MODIFIED:20230509T114942Z
UID:4059-1684695600-1684702800@saluspace.eu
SUMMARY:Il sonno della casa
DESCRIPTION:Un nuovo spettacolo in scena a Salus Space\, frutto del laboratorio teatrale cominciato nell’autunno del 2022\, curato dai Cantieri Meticci\, proprio in via Malvezza. \nL’appuntamento\, per domenica 21 maggio alle 19\, è con Il sonno della casa – liberamente tratto da “Fatti vivo” di Chandra Livia Candiani. Nessuno è attore professionista\, tra i partecipanti la giovane abitante di Salus\, Sonia\, e poi persone di provenienze e origini diverse. \nRegia di Anna Luigia Autiero e Mohamed Amine Bour\nAssistente alla regia: Matilde Farinella\nMusiche: Jacopo Santoro\nIn scena: Mohamed Amine Bour\, Marco Cottignoli\, Matteo Crepaldi\, Elena Iotti\, Joumana Maana\, Sonia Samra\, Elisabeth Sowa\, Michele Zappa \nUna bambina è sola nel «sonno della casa» ad affrontare il silenzio\, per lei certi luoghi e oggetti si svegliano\, prendono voce\, si presentano.
URL:https://saluspace.eu/event/il-sonno-della-casa/
LOCATION:Salus Space\, via Malvezza 2/2\, Bologna
END:VEVENT
BEGIN:VEVENT
DTSTART;TZID=UTC:20230523T180000
DTEND;TZID=UTC:20230523T193000
DTSTAMP:20260421T132334
CREATED:20230323T142119Z
LAST-MODIFIED:20230427T090826Z
UID:3887-1684864800-1684870200@saluspace.eu
SUMMARY:Corso scrittura creativa
DESCRIPTION:L’associazione Incontriamoci a Salus ha organizzato un piccolo corso di scrittura creativa gratuito\, Isabella Bidischini lo ha curato.\nLe date e l’orario: venerdì (21 aprile\, 5 e 19 maggio) dalle ore 18.00 alle 19.30\nEcco come lo descrive proprio Isabella: \nPiccoli luccicanti miracoli\, narcisi dorati\, fiori di susino e di ciliegio\, rovi tra tanta bellezza\, ed alberi di alto ed intricato fusto: immagini e parole in versi e prosa saranno il punto di partenza per entrare in contatto con la sensibilità di poeti e scrittori. \nCercheremo di carpirne i segreti e di interpretare il mistero della loro arte. Penetrando nelle loro vite\, ci metteremo un po’ delle nostre\, facendo filtrare qualcosa della nostra essenza e della nostra natura attraverso la parola scritta e detta. Improvviseremo sulla base delle suggestioni suscitate dalle letture e metteremo in comune emozioni\, pensieri e riflessioni in libertà. \nLa musica\, in sottofondo\, ci accompagnerà nel nostro cammino evocando epoche ed atmosfere. Tre incontri nei mesi più belli dell’anno\, tra aprile e maggio\, nell’ intrigante cornice di Salus Space! Vi aspettiamo! \nIscrivetevi qui: https://forms.gle/XhGQXJqpUDXY339a6 \nPortate fogli\, penna o tablet!
URL:https://saluspace.eu/event/corso-scrittura-creativa-3/
LOCATION:Salus Space\, via Malvezza 2/2\, Bologna
ORGANIZER;CN="Associazione Incontriamoci a Salus":MAILTO:incontriamociasalus@gmail.com
END:VEVENT
BEGIN:VEVENT
DTSTART;TZID=UTC:20230527T160000
DTEND;TZID=UTC:20230527T170000
DTSTAMP:20260421T132334
CREATED:20230505T080951Z
LAST-MODIFIED:20230505T080951Z
UID:4042-1685203200-1685206800@saluspace.eu
SUMMARY:Angolo della storia
DESCRIPTION:Il piccolo gruppo “Angolo della storia” torna a Salus Space per un nuovo evento\, la presentazione del 16° numero della collana “Quaderni di Villa Salus”\, dedicati alla storia del territorio che accoglie oggi il nostro centro multifunzionale. \nL’appuntamento è per sabato 27 maggio alle 16\, nella sala convegni di Salus Space\, il libretto verrà distribuito in omaggio ai partecipanti.\nIl tema questa volta riguarda un “pezzo” dell’antica tenuta della Villa del ‘700 e cioè la casa e il podere che nelle antiche carte viene chiamato “Campasso” ed è l’area che si incontra in via Malvezza arrivando da via Due Madonne\,  sulla sinistra\, dove da qualche anno hanno ricostruito la bella casa gialla.\nCasa e podere nel 1949 passarono al professor Scaglietti e a Villa Salus. Sono rimaste di proprietà delle eredi fino al 2017. \nDietro a quella casa e al terreno c’è una lunga storia. Venite ad ascoltarla!
URL:https://saluspace.eu/event/angolo-della-storia/
LOCATION:Salus Space\, via Malvezza 2/2\, Bologna
END:VEVENT
BEGIN:VEVENT
DTSTART;TZID=UTC:20230527T203000
DTEND;TZID=UTC:20230527T213000
DTSTAMP:20260421T132334
CREATED:20230516T183053Z
LAST-MODIFIED:20230516T183053Z
UID:4073-1685219400-1685223000@saluspace.eu
SUMMARY:Danza africana
DESCRIPTION:Sabato 27 maggio\, ore 20.30\, vi aspettiamo a Salus Space per una serata all’insegna del divertimento con Mohamed Careca Bangoura che presenterà al pubblico le sue danze tradizionali della Guinea\, accompagnato da percussioni dal vivo e dalla suo gruppo di ballerini.\n📍 La Locanda siriana vi aspetta per aperitivi\, cena e birrette dalle 19!\n🚲 Siamo a #saluspace in via Malvezza 2/2\, dalle parti di via Due Madonne. Abbiamo anche il parcheggio e i bus 25 e 14 che arrivano in zona. Venite?\n📷 foto: @francesco.quero
URL:https://saluspace.eu/event/danza-africana/
LOCATION:Salus Space\, via Malvezza 2/2\, Bologna
END:VEVENT
END:VCALENDAR