BEGIN:VCALENDAR
VERSION:2.0
PRODID:-//Saluspace 2.0 - ECPv6.15.20//NONSGML v1.0//EN
CALSCALE:GREGORIAN
METHOD:PUBLISH
X-WR-CALNAME:Saluspace 2.0
X-ORIGINAL-URL:https://saluspace.eu
X-WR-CALDESC:Eventi per Saluspace 2.0
REFRESH-INTERVAL;VALUE=DURATION:PT1H
X-Robots-Tag:noindex
X-PUBLISHED-TTL:PT1H
BEGIN:VTIMEZONE
TZID:UTC
BEGIN:STANDARD
TZOFFSETFROM:+0000
TZOFFSETTO:+0000
TZNAME:UTC
DTSTART:20210101T000000
END:STANDARD
END:VTIMEZONE
BEGIN:VEVENT
DTSTART;TZID=UTC:20220702T070000
DTEND;TZID=UTC:20220702T200000
DTSTAMP:20260421T174844
CREATED:20220606T162810Z
LAST-MODIFIED:20220628T140751Z
UID:3016-1656745200-1656792000@saluspace.eu
SUMMARY:Allargate il Cerchio!
DESCRIPTION:Nuovo appuntamento sabato 2 luglio\, ore 19\, con la “Paranza sociale “Allargate il Cerchio!”. \nUn progetto di musica inclusiva nel cui ambito sviluppare diverse attività musicali finalizzate al benessere e alla partecipazione attiva di tutti – nessuno escluso!\n“Allargate il cerchio!” è una frase tipica che si può udire durante l’esecuzione di una tammurriata\, urlata dal tammorraro o dal cantore\, quando gli spettatori non lasciano abbastanza spazio ai ballerini per danzare\, o quando i ballerini stessi sono troppo attaccati tra di loro. “Allargate il cerchio!” vuol dire favorire il benessere e l’inclusione di tutte le fasce di popolazione mediante attività musicali e musicoterapiche\, o meglio\, mediante una musicoterapia di comunità. Vuol dire aprirsi alla diversità\, creare affinità\, vicinanza\, nuovi legami e nuove possibilità per tutte le persone.\nLa base è la musica popolare del sud Italia\, ma tutte le musiche del mondo sono legate da radici comuni. Solo attraverso la commistione e la contaminazione di culture e musiche diverse si può arrivare ad allargare il nostro cerchio personale\, sociale e comunitario.
URL:https://saluspace.eu/event/paranza-sociale-allargate-il-cerchio/
LOCATION:Salus Space\, via Malvezza 2/2\, Bologna
END:VEVENT
END:VCALENDAR