BEGIN:VCALENDAR
VERSION:2.0
PRODID:-//Saluspace 2.0 - ECPv6.15.20//NONSGML v1.0//EN
CALSCALE:GREGORIAN
METHOD:PUBLISH
X-WR-CALNAME:Saluspace 2.0
X-ORIGINAL-URL:https://saluspace.eu
X-WR-CALDESC:Eventi per Saluspace 2.0
REFRESH-INTERVAL;VALUE=DURATION:PT1H
X-Robots-Tag:noindex
X-PUBLISHED-TTL:PT1H
BEGIN:VTIMEZONE
TZID:UTC
BEGIN:STANDARD
TZOFFSETFROM:+0000
TZOFFSETTO:+0000
TZNAME:UTC
DTSTART:20200101T000000
END:STANDARD
END:VTIMEZONE
BEGIN:VEVENT
DTSTART;TZID=UTC:20211207T180000
DTEND;TZID=UTC:20211207T203000
DTSTAMP:20260420T141729
CREATED:20211203T105729Z
LAST-MODIFIED:20211203T105729Z
UID:1970-1638900000-1638909000@saluspace.eu
SUMMARY:Agricoltura urbana e green design
DESCRIPTION:Martedì 7 dicembre il corso gratuito di biolaghi e biopiscine\, in edizione serale con aperitivo siriano\, a cura di Aquaponic Design.\nAlle 18 si comincia parlando di innofarming\, un progetto per promuovere innovazione\, formazione e consapevolezza sulla sostenibilità in agricoltura urbana (Università di Bologna). Poi la parte dedicata a come si progettano\, realizzano e gestiscono biolaghi e biopiscine.\nIn chiusura\, alle 20\,30\, aperitivo offerto con bevande e stuzzichini.\n\nPosti limitati\, prenotazioni a questo link  https://bit.ly/Biolaghiebiopiscine
URL:https://saluspace.eu/event/agricoltura-urbana-e-green-design/
LOCATION:Salus Space\, via Malvezza 2/2\, Bologna
ATTACH;FMTTYPE=image/png:https://saluspace.eu/wp-content/uploads/2021/12/innofarming.png
END:VEVENT
END:VCALENDAR