BEGIN:VCALENDAR
VERSION:2.0
PRODID:-//Saluspace 2.0 - ECPv6.15.20//NONSGML v1.0//EN
CALSCALE:GREGORIAN
METHOD:PUBLISH
X-ORIGINAL-URL:https://saluspace.eu
X-WR-CALDESC:Eventi per Saluspace 2.0
REFRESH-INTERVAL;VALUE=DURATION:PT1H
X-Robots-Tag:noindex
X-PUBLISHED-TTL:PT1H
BEGIN:VTIMEZONE
TZID:UTC
BEGIN:STANDARD
TZOFFSETFROM:+0000
TZOFFSETTO:+0000
TZNAME:UTC
DTSTART:20220101T000000
END:STANDARD
END:VTIMEZONE
BEGIN:VEVENT
DTSTART;TZID=UTC:20230201T173000
DTEND;TZID=UTC:20230201T183000
DTSTAMP:20260421T100724
CREATED:20230111T153951Z
LAST-MODIFIED:20230111T153951Z
UID:3646-1675272600-1675276200@saluspace.eu
SUMMARY:Salotto culturale in relax
DESCRIPTION:Dall’11 gennaio 2023 tutti i mercoledì pomeriggio dalle 17.30 alle 18.30 si tiene presso il Centro di Animazione Culturale (la biblioteca) il “Salotto culturale in relax”\, letture e chiacchiere in compagnia per grandi e piccini. \nE’ uno degli appuntamenti settimanali curati da Incontriamoci a Salus\, l’associazione di cittadine e cittadini che condividono il progetto Salus Space e che vogliono promuoverne gli spazi e le iniziative con attività culturali\, formative e ricreative. \nMolte altre attività dell’Associazione sono in cantiere. Se vuoi partecipare puoi scrivere all’indirizzo: incontriamociasalus@gmail.com \nA curare il Salotto culturale in relax è Giordana Alberti\, una cittadina attiva in molte realtà bolognesi. Le abbiamo chiesto quale è la sua idea per i mercoledì pomeriggio: \n“Posso dedicare un’oretta ogni mercoledì\, presenziando la biblioteca con bambini e o adulti\, appassionati all’ascolto di lettura di libri o a fare salotto di piacevole compagnia su temi di benessere relazionale. L’iniziativa di presidiare la biblioteca con un progetto di continuità è rivolta a coloro che ancora credono nel valore degli incontri fisici fra cittadini per ricreare una rete relazionale e di confronto. Nulla di nuovo\, ma in questo periodo storico antropologico unico\, necessita riappropriarsi del valore umano vero”.
URL:https://saluspace.eu/event/salotto-culturale-in-relax-4/
LOCATION:Salus Space\, via Malvezza 2/2\, Bologna
ORGANIZER;CN="Associazione Incontriamoci a Salus":MAILTO:incontriamociasalus@gmail.com
END:VEVENT
BEGIN:VEVENT
DTSTART;TZID=UTC:20230204T093000
DTEND;TZID=UTC:20230204T093000
DTSTAMP:20260421T100724
CREATED:20230111T152805Z
LAST-MODIFIED:20230111T152805Z
UID:3639-1675503000-1675503000@saluspace.eu
SUMMARY:BookCrossing e biblioteca
DESCRIPTION:Dal 14 gennaio\, tutti i sabati mattina dalle 9.30 alle 12.30 prosegue all’interno del Centro Studi l’organizzazione del BookCrossing\, che vuole favorire la circolazione e il libero scambio di libri: si può prendere uno o più libri e/o portarne di già letti. Il tutto gratuitamente\nAll’interno del Centro di Animazione Culturale di Salus Space sarà anche possibile\, sempre il sabato mattina\, consultare e prendere in prestito uno o più libri. Potrai trovare\, tra gli oltre 1200 titoli presenti in biblioteca\, volumi di pregio sul territorio bolognese donati dalla Fondazione Carisbo e tanti altri di narrativa\, storia\, arte\, politica\, religione\, poesia\, biografie\, cucina. E’ presente anche una ricca sezione di letteratura per l’infanzia e per ragazzi! \nL’iniziativa è a cura di di Incontriamoci a Salus\, l’associazione di cittadine e cittadini che condividono il progetto Salus Space e che vogliono promuoverne gli spazi e le iniziative con attività culturali\, formative e ricreative.
URL:https://saluspace.eu/event/bookcrossing-e-biblioteca-4/
LOCATION:Salus Space\, via Malvezza 2/2\, Bologna
ORGANIZER;CN="Associazione Incontriamoci a Salus":MAILTO:incontriamociasalus@gmail.com
END:VEVENT
BEGIN:VEVENT
DTSTART;TZID=UTC:20230213T193000
DTEND;TZID=UTC:20230213T203000
DTSTAMP:20260421T100724
CREATED:20230208T112327Z
LAST-MODIFIED:20230208T112327Z
UID:3731-1676316600-1676320200@saluspace.eu
SUMMARY:Serata gratuita di meditazione
DESCRIPTION:L’associazione Incontriamoci a Salus in collaborazione con Sahaja Yoga ha organizzato una serata gratuita di meditazione nella tradizione di Shri Mataji Nirmala Devi. Sarà lunedì 13 febbraio alle ore 19.30\, nel centro studi di via Malvezza 2/2\, a Bologna. \nCi scrivono gli organizzatori: \n“La pratica di questa meditazione permette di sperimentare un nuovo equilibrio al fine di raggiungere un gioioso stato di quiete mentale\, un miglioramento della qualità della vita\, con la riduzione dei sintomi dello stress e l’aumento del benessere psicofisico fino al miglioramento delle capacità di affrontare tutte le situazioni critiche del quotidiano. Un miglioramento che da individuale diviene sociale: migliorare sé stessi per migliorare il proprio paese”. \n In sala sono presenti delle sedie\, ma chi già pratica meditazione potrà\, se preferisce\, portare il proprio tappetino\, cuscino/panchetto personale. \nlocandina 
URL:https://saluspace.eu/event/serata-gratuita-di-meditazione/
LOCATION:Salus Space\, via Malvezza 2/2\, Bologna
ORGANIZER;CN="Associazione Incontriamoci a Salus":MAILTO:incontriamociasalus@gmail.com
END:VEVENT
END:VCALENDAR