BEGIN:VCALENDAR
VERSION:2.0
PRODID:-//Saluspace 2.0 - ECPv6.15.20//NONSGML v1.0//EN
CALSCALE:GREGORIAN
METHOD:PUBLISH
X-WR-CALNAME:Saluspace 2.0
X-ORIGINAL-URL:https://saluspace.eu
X-WR-CALDESC:Eventi per Saluspace 2.0
REFRESH-INTERVAL;VALUE=DURATION:PT1H
X-Robots-Tag:noindex
X-PUBLISHED-TTL:PT1H
BEGIN:VTIMEZONE
TZID:UTC
BEGIN:STANDARD
TZOFFSETFROM:+0000
TZOFFSETTO:+0000
TZNAME:UTC
DTSTART:20220101T000000
END:STANDARD
END:VTIMEZONE
BEGIN:VEVENT
DTSTART;TZID=UTC:20231109T180000
DTEND;TZID=UTC:20231109T190000
DTSTAMP:20260420T181003
CREATED:20231018T085527Z
LAST-MODIFIED:20231018T085540Z
UID:4751-1699552800-1699556400@saluspace.eu
SUMMARY:Assemblea "Incontriamoci a Salus"
DESCRIPTION:Giovedì 9 novembre l’associazione Incontriamoci a Salus si riunirà alle ore 18 per condividere le iniziative già realizzate ed in corso di realizzazione\, ma soprattutto per programmare le attività dell’associazione per il 2024.\nL’incontro è rivolto non solo ai soci\, ma aperto alla Comunità di Salus Space e a tutte le cittadine e i cittadini interessati a promuovere e a realizzare attività culturali\, formative e ricreative a Salus Space\, anche in collaborazione con altre associazioni del territorio.\nL’appuntamento è presso la Sala del Centro Studi.\nPer informazioni e contatti: incontriamociasalus@gmail.com
URL:https://saluspace.eu/event/assemblea-incontriamoci-a-salus/
LOCATION:Salus Space\, via Malvezza 2/2\, Bologna
ORGANIZER;CN="Associazione Incontriamoci a Salus":MAILTO:incontriamociasalus@gmail.com
END:VEVENT
BEGIN:VEVENT
DTSTART;TZID=UTC:20231129T180000
DTEND;TZID=UTC:20231129T190000
DTSTAMP:20260420T181003
CREATED:20231121T084726Z
LAST-MODIFIED:20231121T084726Z
UID:4854-1701280800-1701284400@saluspace.eu
SUMMARY:Corso scrittura creativa
DESCRIPTION:Mercoledì 29 Novembre alle ore 18.00\, nella sala biblioteca di Salus Space\, nuovo appuntamento con il “Piccolo corso di scrittura creativa” a cura di Isabella Bidischini\, dopo i tre incontri della scorsa primavera” (21 aprile\, 5 e 23 maggio). \nE’ una iniziativa dell’associazione Incontriamoci a Salus\, che\, dopo l’assemblea di giovedì 9 novembre\, sta lavorando a nuove iniziative per il 2024. \n 
URL:https://saluspace.eu/event/corso-scrittura-creativa-4/
LOCATION:Salus Space\, via Malvezza 2/2\, Bologna
ORGANIZER;CN="Associazione Incontriamoci a Salus":MAILTO:incontriamociasalus@gmail.com
END:VEVENT
END:VCALENDAR