BEGIN:VCALENDAR
VERSION:2.0
PRODID:-//Saluspace 2.0 - ECPv6.15.20//NONSGML v1.0//EN
CALSCALE:GREGORIAN
METHOD:PUBLISH
X-ORIGINAL-URL:https://saluspace.eu
X-WR-CALDESC:Eventi per Saluspace 2.0
REFRESH-INTERVAL;VALUE=DURATION:PT1H
X-Robots-Tag:noindex
X-PUBLISHED-TTL:PT1H
BEGIN:VTIMEZONE
TZID:UTC
BEGIN:STANDARD
TZOFFSETFROM:+0000
TZOFFSETTO:+0000
TZNAME:UTC
DTSTART:20200101T000000
END:STANDARD
END:VTIMEZONE
BEGIN:VEVENT
DTSTART;TZID=UTC:20211120T100000
DTEND;TZID=UTC:20211120T163000
DTSTAMP:20260420T134054
CREATED:20211112T120917Z
LAST-MODIFIED:20211112T120917Z
UID:1922-1637402400-1637425800@saluspace.eu
SUMMARY:Costruire un biolago
DESCRIPTION:Salus Space propone un corso per progettare e gestire un biolago o una biopiscina. Sarà sabato 20 novembre dalle 10 alle 16.30 in via Malvezza 2/2\, a Bologna. \nSi comincia con la parte dedicata agli aspetti principali\, alla terminologia\, ai temi delle zone rigenerative e ai sistemi attivi di circolazione delle acque. Dopo il coffe break si passa a questi argomenti: batteri aerobici e anaerobici\, zona di balneazione\, reintegro acqua e normativa. \nNel pomeriggio si passa all’azione con la costruzione del biolago di Salus Space. \nE’ obbligatorio prenotarsi a info@aquaponicdesign.it\nCi sono 30 posti. \nIl corso è curato da Aquaponic Design\, partner dell’ATS che gestisce Salus Space.
URL:https://saluspace.eu/event/costruire-un-biolago/
LOCATION:Salus Space\, via Malvezza 2/2\, Bologna
ATTACH;FMTTYPE=image/jpeg:https://saluspace.eu/wp-content/uploads/2021/11/Locandina_Biolago.jpg
END:VEVENT
END:VCALENDAR