BEGIN:VCALENDAR
VERSION:2.0
PRODID:-//Saluspace 2.0 - ECPv6.15.20//NONSGML v1.0//EN
CALSCALE:GREGORIAN
METHOD:PUBLISH
X-ORIGINAL-URL:https://saluspace.eu
X-WR-CALDESC:Eventi per Saluspace 2.0
REFRESH-INTERVAL;VALUE=DURATION:PT1H
X-Robots-Tag:noindex
X-PUBLISHED-TTL:PT1H
BEGIN:VTIMEZONE
TZID:UTC
BEGIN:STANDARD
TZOFFSETFROM:+0000
TZOFFSETTO:+0000
TZNAME:UTC
DTSTART:20200101T000000
END:STANDARD
END:VTIMEZONE
BEGIN:VEVENT
DTSTART;TZID=UTC:20211002T083000
DTEND;TZID=UTC:20211002T130000
DTSTAMP:20260422T105336
CREATED:20210930T134307Z
LAST-MODIFIED:20210930T134307Z
UID:1727-1633163400-1633179600@saluspace.eu
SUMMARY:Mercato Contadino
DESCRIPTION:Ogni sabato mattina\, dalle 8.30 alle 13\, al Mercato Contadino di Salus Space si trovano ortaggi\, frutta\, formaggio\, pane e uova\, ma anche prodotti artigianali. Un’offerta di qualità negli ampi spazi aperti di via Malvezza 2/2\, a Bologna. \nA partire dalle ore 11\, sempre di sabato\, si tengono i laboratori curati dai Cantieri Meticci parte del progetto TavolaCittà\, aperti a persone di tutte le età e della durata di un’ora e mezza.\nTavolaCittà è un progetto di attivazione cittadina\, una chiamata alle arti per la creazione di un’installazione comunitaria: i laboratori sono rivolti a tutt* per raccogliere un racconto polifonico\, visionario e intimo della (e delle) città che viviamo\, ricordiamo o immaginiamo.\nI laboratori sono gratuiti\, ma è meglio prenotarsi scrivendo a formazione@cantierimeticci.it \n\nA Salus Space il sabato è aperta la Locanda\, dove si possono assaggiare i piatti della cucina siriana di Habib e Shaza.\nMa la Locanda è aperta anche a pranzo e a cena tutti gli altri giorni dal martedì al sabato.\nPer informazioni e prenotazioni: locanda@saluspace.eu\nQui il menù
URL:https://saluspace.eu/event/mercato-contadino-11/
LOCATION:Salus Space\, via Malvezza 2/2\, Bologna
ATTACH;FMTTYPE=image/jpeg:https://saluspace.eu/wp-content/uploads/2021/09/mercato-1.jpg
END:VEVENT
BEGIN:VEVENT
DTSTART;TZID=UTC:20211009T083000
DTEND;TZID=UTC:20211009T130000
DTSTAMP:20260422T105336
CREATED:20210930T135659Z
LAST-MODIFIED:20210930T135659Z
UID:1732-1633768200-1633784400@saluspace.eu
SUMMARY:Mercato Contadino
DESCRIPTION:Ogni sabato mattina\, dalle 8.30 alle 13\, al Mercato Contadino di Salus Space si trovano ortaggi\, frutta\, formaggio\, pane e uova\, ma anche prodotti artigianali. Un’offerta di qualità negli ampi spazi aperti di via Malvezza 2/2\, a Bologna. \nIn occasione del mercato\, il sabato mattina (dal 9 ottobre)\, spazio per i bambini con Riciclattolo! I più piccoli possono allestire un vero e proprio mercatino per scambi e acquisti con una moneta del tutto particolare! \nA partire dalle ore 11\, sempre di sabato\, si tengono invece i laboratori curati dai Cantieri Meticci parte del progetto TavolaCittà\, aperti a persone di tutte le età e della durata di un’ora e mezza.\nTavolaCittà è un progetto di attivazione cittadina\, una chiamata alle arti per la creazione di un’installazione comunitaria: i laboratori sono rivolti a tutt* per raccogliere un racconto polifonico\, visionario e intimo della (e delle) città che viviamo\, ricordiamo o immaginiamo.\nI laboratori sono gratuiti\, ma è meglio prenotarsi scrivendo a formazione@cantierimeticci.it \n\nA Salus Space il sabato è aperta la Locanda\, dove si possono assaggiare i piatti della cucina siriana di Habib e Shaza.\nMa la Locanda è aperta anche a pranzo e a cena tutti gli altri giorni dal martedì al sabato.\nPer informazioni e prenotazioni: locanda@saluspace.eu\nQui il menù
URL:https://saluspace.eu/event/mercato-contadino-12/
LOCATION:Salus Space\, via Malvezza 2/2\, Bologna
ATTACH;FMTTYPE=image/jpeg:https://saluspace.eu/wp-content/uploads/2021/09/mercato-1.jpg
END:VEVENT
BEGIN:VEVENT
DTSTART;TZID=UTC:20211009T100000
DTEND;TZID=UTC:20211009T120000
DTSTAMP:20260422T105336
CREATED:20211008T133826Z
LAST-MODIFIED:20211008T133826Z
UID:1775-1633773600-1633780800@saluspace.eu
SUMMARY:Riciclattolo!
DESCRIPTION:Salus Space il sabato mattina fa spazio al mercato dei bambini.\nDal 9 ottobre\, ogni 15 giorni\, il Riciclattolo dalle 10 alle 12 invita le bambine e i bambini della città a portare giocattoli funzionanti e abiti in buone condizioni per scambiarli.  Saranno accolti tra le ore 9 e le ore 10 per l’allestimento del tavolo che sarà messo loro a disposizione dall’organizzazione.\nLa prenotazione è fortemente consigliata alla mail mercato@saluspace.eu \nTra le 12 e le 12.30 il mercato dei bambini sarà sgomberato. \nEcco le date previste: sabato 23 ottobre\, sabato 6 novembre\, sabato 20 novembre\, sabato 4 dicembre\, sabato 18 dicembre. Si riprenderà dopo la pausa natalizia il 15 gennaio. \nOgni sabato ricordiamo che a Salus Space si tiene il Mercato Contadino\, con frutta\, verdura\, pane e altri prodotti del territorio.
URL:https://saluspace.eu/event/riciclattolo/
LOCATION:Salus Space\, via Malvezza 2/2\, Bologna
ATTACH;FMTTYPE=image/jpeg:https://saluspace.eu/wp-content/uploads/2021/10/riciclattolo.jpg
END:VEVENT
BEGIN:VEVENT
DTSTART;TZID=UTC:20211016T083000
DTEND;TZID=UTC:20211016T130000
DTSTAMP:20260422T105336
CREATED:20211001T095243Z
LAST-MODIFIED:20211001T095243Z
UID:1736-1634373000-1634389200@saluspace.eu
SUMMARY:Mercato Contadino
DESCRIPTION:Ogni sabato mattina\, dalle 8.30 alle 13\, al Mercato Contadino di Salus Space si trovano ortaggi\, frutta\, formaggio\, pane e uova\, ma anche prodotti artigianali. Un’offerta di qualità negli ampi spazi aperti di via Malvezza 2/2\, a Bologna. \nIn occasione del mercato\, il sabato mattina (dal 9 ottobre)\, spazio per i bambini con Riciclattolo! I più piccoli possono allestire un vero e proprio mercatino per scambi e acquisti con una moneta del tutto particolare! \nA partire dalle ore 11\, sempre di sabato\, si tengono invece i laboratori curati dai Cantieri Meticci parte del progetto TavolaCittà\, aperti a persone di tutte le età e della durata di un’ora e mezza.\nTavolaCittà è un progetto di attivazione cittadina\, una chiamata alle arti per la creazione di un’installazione comunitaria: i laboratori sono rivolti a tutt* per raccogliere un racconto polifonico\, visionario e intimo della (e delle) città che viviamo\, ricordiamo o immaginiamo.\nI laboratori sono gratuiti\, ma è meglio prenotarsi scrivendo a formazione@cantierimeticci.it \n\nA Salus Space il sabato è aperta la Locanda\, dove si possono assaggiare i piatti della cucina siriana di Habib e Shaza.\nMa la Locanda è aperta anche a pranzo e a cena tutti gli altri giorni dal martedì al sabato.\nPer informazioni e prenotazioni: locanda@saluspace.eu\nQui il menù
URL:https://saluspace.eu/event/mercato-contadino-13/
LOCATION:Salus Space\, via Malvezza 2/2\, Bologna
ATTACH;FMTTYPE=image/jpeg:https://saluspace.eu/wp-content/uploads/2021/09/mercato-1.jpg
END:VEVENT
BEGIN:VEVENT
DTSTART;TZID=UTC:20211018T203000
DTEND;TZID=UTC:20211018T230000
DTSTAMP:20260422T105336
CREATED:20210930T110306Z
LAST-MODIFIED:20211008T132503Z
UID:1721-1634589000-1634598000@saluspace.eu
SUMMARY:Autostima e assertività
DESCRIPTION:Per la rassegna “Robe da Matti 2021! – Psicologia per Tutti” curata dai professionisti di PsicoSfere  \nLunedì 18 ottobre alle ore 20\,30 la dottoressa Paola Finelli interverrà sul tema Autostima e Assertività: la complessa arte di gestire la rabbia\, l’ansia e il distress nelle Persone Altamente Sensibili.\nQuale relazione fra Autostima e conquista dello Stile Assertivo?\nCome stabilire dei Confini che facciano sentire a proprio agio le Persone Altamente Sensibili\, incontrando sì l’Altro ma non perdendo di vista Se stesse?\nSpesso ci troviamo a fare i conti con l’ansia e il distress che ci sovrastano e ci fanno perdere di vista la qualità del tempo a disposizione nella nostra esistenza.\nMigliorare la gestione delle emozioni autoregolando il tumulto che alle volte ci permea\, permette di sintonizzarsi nel modo più ecologico possibile ai nostri tre differenti livelli: pensieri\, emozioni e comportamenti.\nLiberarsi dai blocchi\, che spesso inconsapevolmente ci si porta addosso\, facilita il contatto con la Fiducia che non si è sbagliati\, che si possono commettere errori e dissentire e che\, nonostante tutto\, si è apprezzabili e degni di stima.\nArrivare a sentirsi profondamente soddisfatti di come si è\, avvicina all’importante meta di un atteggiamento positivo\, sereno e propositivo nei confronti della vita. \nPrenotazione obbligatoria al 3470725212
URL:https://saluspace.eu/event/autostima-e-assertivita/
LOCATION:Salus Space\, via Malvezza 2/2\, Bologna
ATTACH;FMTTYPE=image/jpeg:https://saluspace.eu/wp-content/uploads/2021/09/mani-2.jpg
END:VEVENT
BEGIN:VEVENT
DTSTART;TZID=UTC:20211023T083000
DTEND;TZID=UTC:20211023T130000
DTSTAMP:20260422T105336
CREATED:20211001T095418Z
LAST-MODIFIED:20211001T095418Z
UID:1738-1634977800-1634994000@saluspace.eu
SUMMARY:Mercato Contadino
DESCRIPTION:Ogni sabato mattina\, dalle 8.30 alle 13\, al Mercato Contadino di Salus Space si trovano ortaggi\, frutta\, formaggio\, pane e uova\, ma anche prodotti artigianali. Un’offerta di qualità negli ampi spazi aperti di via Malvezza 2/2\, a Bologna. \nIn occasione del mercato\, il sabato mattina (dal 9 ottobre)\, spazio per i bambini con Riciclattolo! I più piccoli possono allestire un vero e proprio mercatino per scambi e acquisti con una moneta del tutto particolare! \nA partire dalle ore 11\, sempre di sabato\, si tengono invece i laboratori curati dai Cantieri Meticci parte del progetto TavolaCittà\, aperti a persone di tutte le età e della durata di un’ora e mezza.\nTavolaCittà è un progetto di attivazione cittadina\, una chiamata alle arti per la creazione di un’installazione comunitaria: i laboratori sono rivolti a tutt* per raccogliere un racconto polifonico\, visionario e intimo della (e delle) città che viviamo\, ricordiamo o immaginiamo.\nI laboratori sono gratuiti\, ma è meglio prenotarsi scrivendo a formazione@cantierimeticci.it \n\nA Salus Space il sabato è aperta la Locanda\, dove si possono assaggiare i piatti della cucina siriana di Habib e Shaza.\nMa la Locanda è aperta anche a pranzo e a cena tutti gli altri giorni dal martedì al sabato.\nPer informazioni e prenotazioni: locanda@saluspace.eu\nQui il menù
URL:https://saluspace.eu/event/mercato-contadino-14/
LOCATION:Salus Space\, via Malvezza 2/2\, Bologna
ATTACH;FMTTYPE=image/jpeg:https://saluspace.eu/wp-content/uploads/2021/09/mercato-1.jpg
END:VEVENT
BEGIN:VEVENT
DTSTART;TZID=UTC:20211023T100000
DTEND;TZID=UTC:20211023T100000
DTSTAMP:20260422T105336
CREATED:20211008T134149Z
LAST-MODIFIED:20211008T134532Z
UID:1779-1634983200-1634983200@saluspace.eu
SUMMARY:Riciclattolo!
DESCRIPTION:Salus Space il sabato mattina fa spazio al mercato dei bambini.\nDal 9 ottobre\, ogni 15 giorni\, il Riciclattolo dalle 10 alle 12 invita le bambine e i bambini della città a portare giocattoli funzionanti e abiti in buone condizioni per scambiarli.  Saranno accolti tra le ore 9 e le ore 10 per l’allestimento del tavolo che sarà messo loro a disposizione dall’organizzazione.\nLa prenotazione è fortemente consigliata alla mail mercato@saluspace.eu \nTra le 12 e le 12.30 il mercato dei bambini sarà sgomberato. \nEcco le date previste: sabato 23 ottobre\, sabato 6 novembre\, sabato 20 novembre\, sabato 4 dicembre\, sabato 18 dicembre. Si riprenderà dopo la pausa natalizia il 15 gennaio. \nOgni sabato ricordiamo che a Salus Space si tiene il Mercato Contadino\, con frutta\, verdura\, pane e altri prodotti del territorio.
URL:https://saluspace.eu/event/riciclattolo-2/
LOCATION:Salus Space\, via Malvezza 2/2\, Bologna
ATTACH;FMTTYPE=image/jpeg:https://saluspace.eu/wp-content/uploads/2021/10/riciclattolo.jpg
END:VEVENT
BEGIN:VEVENT
DTSTART;TZID=UTC:20211026T180000
DTEND;TZID=UTC:20211026T200000
DTSTAMP:20260422T105336
CREATED:20211008T105523Z
LAST-MODIFIED:20211008T134828Z
UID:1767-1635271200-1635278400@saluspace.eu
SUMMARY:Un ricordo del professor Scaglietti
DESCRIPTION:Martedì 26 ottobre alle 18 ci sarà a Salus Space una nuova occasione per ricordare il professor Oscar Scaglietti\, creatore di Villa Salus\, progenitrice di Salus Space. \nL’incontro aperto a tutti\, a cura dell’Angolo della storia\, si intitola: “Un ricordo del prof. Scaglietti nel 28° anniversario della morte”. Ci saranno letture\, un filmato\, testimonianze. \nNella foto\, proprietà della figlia del professore\, Lucilla\, Oscar Scaglietti a Villa Salus
URL:https://saluspace.eu/event/un-ricordo-del-professor-scaglietti/
LOCATION:Salus Space\, via Malvezza 2/2\, Bologna
ATTACH;FMTTYPE=image/jpeg:https://saluspace.eu/wp-content/uploads/2021/10/scaglietti-a-Salus.jpg
END:VEVENT
BEGIN:VEVENT
DTSTART;TZID=UTC:20211030T083000
DTEND;TZID=UTC:20211030T130000
DTSTAMP:20260422T105336
CREATED:20211001T095551Z
LAST-MODIFIED:20211001T095551Z
UID:1740-1635582600-1635598800@saluspace.eu
SUMMARY:Mercato Contadino
DESCRIPTION:Ogni sabato mattina\, dalle 8.30 alle 13\, al Mercato Contadino di Salus Space si trovano ortaggi\, frutta\, formaggio\, pane e uova\, ma anche prodotti artigianali. Un’offerta di qualità negli ampi spazi aperti di via Malvezza 2/2\, a Bologna. \nIn occasione del mercato\, il sabato mattina (dal 9 ottobre)\, spazio per i bambini con Riciclattolo! I più piccoli possono allestire un vero e proprio mercatino per scambi e acquisti con una moneta del tutto particolare! \nA partire dalle ore 11\, sempre di sabato\, si tengono invece i laboratori curati dai Cantieri Meticci parte del progetto TavolaCittà\, aperti a persone di tutte le età e della durata di un’ora e mezza.\nTavolaCittà è un progetto di attivazione cittadina\, una chiamata alle arti per la creazione di un’installazione comunitaria: i laboratori sono rivolti a tutt* per raccogliere un racconto polifonico\, visionario e intimo della (e delle) città che viviamo\, ricordiamo o immaginiamo.\nI laboratori sono gratuiti\, ma è meglio prenotarsi scrivendo a formazione@cantierimeticci.it \n\nA Salus Space il sabato è aperta la Locanda\, dove si possono assaggiare i piatti della cucina siriana di Habib e Shaza.\nMa la Locanda è aperta anche a pranzo e a cena tutti gli altri giorni dal martedì al sabato.\nPer informazioni e prenotazioni: locanda@saluspace.eu\nQui il menù
URL:https://saluspace.eu/event/mercato-contadino-15/
LOCATION:Salus Space\, via Malvezza 2/2\, Bologna
ATTACH;FMTTYPE=image/jpeg:https://saluspace.eu/wp-content/uploads/2021/09/mercato-1.jpg
END:VEVENT
BEGIN:VEVENT
DTSTART;TZID=UTC:20211030T110000
DTEND;TZID=UTC:20211030T120000
DTSTAMP:20260422T105336
CREATED:20211012T101730Z
LAST-MODIFIED:20211012T101730Z
UID:1832-1635591600-1635595200@saluspace.eu
SUMMARY:Laboratorio per bambini
DESCRIPTION:Il sabato\, in alternanza al Riciclattolo\, ogni 15 giorni\, a partire dalle ore 11 si tengono i laboratori per i bambini\, curati dai Cantieri Meticci.\nSono intesi come momenti di condivisione di un’esperienza creativa attraverso la lettura di storie\, di giochi teatrali e la costruzione di piccoli oggetti scenici.\nLa partecipazione è aperta e libera\, per permettere alle famiglie che non conoscono l’attività di unirsi ad essa in qualsiasi momento nell’arco della mattinata. Anche i più piccoli possono partecipare\, con l’aiuto e la supervisione dei genitori.
URL:https://saluspace.eu/event/laboratorio-per-bambini-7/
LOCATION:Salus Space\, via Malvezza 2/2\, Bologna
ATTACH;FMTTYPE=image/jpeg:https://saluspace.eu/wp-content/uploads/2021/10/laboratori1.jpg
END:VEVENT
END:VCALENDAR