BEGIN:VCALENDAR
VERSION:2.0
PRODID:-//Saluspace 2.0 - ECPv6.15.20//NONSGML v1.0//EN
CALSCALE:GREGORIAN
METHOD:PUBLISH
X-ORIGINAL-URL:https://saluspace.eu
X-WR-CALDESC:Eventi per Saluspace 2.0
REFRESH-INTERVAL;VALUE=DURATION:PT1H
X-Robots-Tag:noindex
X-PUBLISHED-TTL:PT1H
BEGIN:VTIMEZONE
TZID:UTC
BEGIN:STANDARD
TZOFFSETFROM:+0000
TZOFFSETTO:+0000
TZNAME:UTC
DTSTART:20210101T000000
END:STANDARD
END:VTIMEZONE
BEGIN:VEVENT
DTSTART;TZID=UTC:20220507T003000
DTEND;TZID=UTC:20220507T130000
DTSTAMP:20260421T223918
CREATED:20220413T100405Z
LAST-MODIFIED:20220422T073555Z
UID:2726-1651883400-1651928400@saluspace.eu
SUMMARY:TaiPaz vs Poteriforti
DESCRIPTION:Sabato 7 maggio appuntamento alle ore 12 con  TaiPaz vs Poteriforti. \nRitmi e testi originali e trasversali ispirati dai viaggi in dentro e in fuori\, in lungo e in largo\, per smuovere l’animo e il bacino in una chiave danzereccia e ironica\, senza rinunciare a una buona dose di saudade sognante.\nTaipaz (basso e voce) suona con i Poteri Forti\, oligarchi ed oligarchesse del suono di qualità:\nLorenzo Brighi: chitarra elettrica\nDiana Parva Cruz: Batteria\nAnna Corazza: cori \nCome sempre tutt* sono benvenut* \, a partire dal mattino alle 8.30 quando prende il via il mercato contadino\, che chiude alle 13 circa. La musica arriva alle 12\, l’ingresso è gratuito.\nAd accogliere chi viene a trovarci\, il bar e la locanda siriana.
URL:https://saluspace.eu/event/taipaz-vs-poteriforti/
LOCATION:Salus Space\, via Malvezza 2/2\, Bologna
END:VEVENT
BEGIN:VEVENT
DTSTART;TZID=UTC:20220507T083000
DTEND;TZID=UTC:20220507T130000
DTSTAMP:20260421T223918
CREATED:20220428T064137Z
LAST-MODIFIED:20220428T064137Z
UID:2794-1651912200-1651928400@saluspace.eu
SUMMARY:Mercato contadino
DESCRIPTION:Ogni sabato mattina\, dalle 8.30 alle 13\, al Mercato Contadino di Salus Space si trovano ortaggi\, frutta\, formaggio\, pane e uova\, ma anche prodotti artigianali. \nUn’offerta di qualità negli ampi spazi aperti di via Malvezza 2/2\, a Bologna. \nLa Locanda e l’Emporio sono aperti nelle ore di mercato. \nLa Locanda propone i deliziosi piatti della cucina siriana\, qui trovi il menù e gli orari di apertura. \nL’Emporio dello sfuso mette a disposizione di tutta la città prodotti alimentari e artigianali del territorio. Si trovano farine\, pasta\, vino\, birre artigianali\, miele e altro ancora\, il tutto selezionato con grande attenzione alla qualità.\nTrovate inoltre oggetti per la tavola e non solo in vetro di recupero
URL:https://saluspace.eu/event/mercato-contadino-40/
LOCATION:Salus Space\, via Malvezza 2/2\, Bologna
ATTACH;FMTTYPE=image/jpeg:https://saluspace.eu/wp-content/uploads/2022/02/mercato-1.jpg
END:VEVENT
BEGIN:VEVENT
DTSTART;TZID=UTC:20220507T103000
DTEND;TZID=UTC:20220507T103000
DTSTAMP:20260421T223918
CREATED:20220428T062642Z
LAST-MODIFIED:20220428T062642Z
UID:2786-1651919400-1651919400@saluspace.eu
SUMMARY:Laboratori per bimbi
DESCRIPTION:Tornano i laboratori del sabato mattina a Salus Space con gli ARTIgiani di Cantieri Meticci!\nAppuntamenti per i più piccoli\, dalle 10.30 alle 12.30:\n• 7 maggio: Auguri mamma!\nSperimenteremo diverse tecniche creative e trasformeremo i materiali più semplici con forbici\, colla\, colori e tanto altro… per realizzare insieme un regalo originale per tutte le mamme!\n\n\nVi aspettiamo in fondo al viale\, sotto la bandiera della Pace!\n\nI laboratori sono gratuiti\, per bimbe e bimbi dai 6 agli 11 anni e non occorre prenotazione.\ninfo: cantierimeticci.it/lab-bimbi-salus/
URL:https://saluspace.eu/event/laboratori-per-bimbi-3/
LOCATION:Salus Space\, via Malvezza 2/2\, Bologna
ATTACH;FMTTYPE=image/jpeg:https://saluspace.eu/wp-content/uploads/2022/04/laboratori-1.jpg
END:VEVENT
BEGIN:VEVENT
DTSTART;TZID=UTC:20220514T083000
DTEND;TZID=UTC:20220514T130000
DTSTAMP:20260421T223918
CREATED:20220428T064343Z
LAST-MODIFIED:20220428T064343Z
UID:2796-1652517000-1652533200@saluspace.eu
SUMMARY:Mercato contadino
DESCRIPTION:Ogni sabato mattina\, dalle 8.30 alle 13\, al Mercato Contadino di Salus Space si trovano ortaggi\, frutta\, formaggio\, pane e uova\, ma anche prodotti artigianali. \nUn’offerta di qualità negli ampi spazi aperti di via Malvezza 2/2\, a Bologna. \nLa Locanda e l’Emporio sono aperti nelle ore di mercato. \nLa Locanda propone i deliziosi piatti della cucina siriana\, qui trovi il menù e gli orari di apertura. \nL’Emporio dello sfuso mette a disposizione di tutta la città prodotti alimentari e artigianali del territorio. Si trovano farine\, pasta\, vino\, birre artigianali\, miele e altro ancora\, il tutto selezionato con grande attenzione alla qualità.\nTrovate inoltre oggetti per la tavola e non solo in vetro di recupero
URL:https://saluspace.eu/event/mercato-contadino-41/
LOCATION:Salus Space\, via Malvezza 2/2\, Bologna
ATTACH;FMTTYPE=image/jpeg:https://saluspace.eu/wp-content/uploads/2022/02/mercato-1.jpg
END:VEVENT
BEGIN:VEVENT
DTSTART;TZID=UTC:20220514T103000
DTEND;TZID=UTC:20220514T103000
DTSTAMP:20260421T223918
CREATED:20220428T062802Z
LAST-MODIFIED:20220428T062915Z
UID:2788-1652524200-1652524200@saluspace.eu
SUMMARY:Laboratori per bimbi
DESCRIPTION:Tornano i laboratori del sabato mattina a Salus Space con gli ARTIgiani di Cantieri Meticci!\nAppuntamenti per i più piccoli\, dalle 10.30 alle 12.30:\n• 14 maggio: A tutto ritmo!\nAllargate il Cerchio! presenta un laboratorio di giochi musicali\, canzoni\, tamburi e tanto divertimento per i bambini e non solo\n\n\nVi aspettiamo in fondo al viale\, sotto la bandiera della Pace!\n\nI laboratori sono gratuiti e non occorre prenotazione. per bimbe e bimbi dai 6 agli 11 anni.\ninfo: cantierimeticci.it/lab-bimbi-salus/
URL:https://saluspace.eu/event/laboratori-per-bimbi-4/
LOCATION:Salus Space\, via Malvezza 2/2\, Bologna
ATTACH;FMTTYPE=image/jpeg:https://saluspace.eu/wp-content/uploads/2022/04/laboratori-1.jpg
END:VEVENT
BEGIN:VEVENT
DTSTART;TZID=UTC:20220519T190000
DTEND;TZID=UTC:20220519T210000
DTSTAMP:20260421T223918
CREATED:20220429T094400Z
LAST-MODIFIED:20220429T094400Z
UID:2809-1652986800-1652994000@saluspace.eu
SUMMARY:Spettacolo teatrale
DESCRIPTION:Giovedi 19 maggio 2022 a Salus Space\, alle ore 19:00 andrà in scena uno spettacolo teatrale intitolato  “Il diario poetico di un amore a distanza” tratto dal libro Il signore d’oro di Vivian Lamarque.  E’ il risultato di un laboratorio\, cominciato nell’autunno del 2021\, curato dai Cantieri Meticci\, che si è tenuto proprio a Salus.\nIn scena anche due giovanissime attrici\, che vivono nello spazio di via Malvezza: Joulya e Sonia Samra\, due sorelle di 10 e 9 anni. \nRegia di Anna Luigia Autiero e Valeria Passeri\nmusiche di Francesco Quero\nin scena Marco Cottignoli\, Sun Elmi\, Martina Librio\, Joumana Maana\, Martina Palumbo\, Angela Pinta\, Francesco Quero\, Margherita Rizzo\, Joulya Samra\, Sonia Samra\, Chiara Serafini\, Michele Zappa.
URL:https://saluspace.eu/event/spettacolo-teatrale/
LOCATION:Salus Space\, via Malvezza 2/2\, Bologna
ATTACH;FMTTYPE=image/jpeg:https://saluspace.eu/wp-content/uploads/2022/04/oro3.jpg
END:VEVENT
BEGIN:VEVENT
DTSTART;TZID=UTC:20220521T000000
DTEND;TZID=UTC:20220521T130000
DTSTAMP:20260421T223918
CREATED:20220413T110156Z
LAST-MODIFIED:20220413T110156Z
UID:2735-1653091200-1653138000@saluspace.eu
SUMMARY:OmmiodDuo in Quartet
DESCRIPTION:Sabato 21 maggio\, alle ore 12\, torna la musica a Salus Space con OmmiodDuo in Quartet. \nCome sempre tutt* sono benvenut* \, a partire dal mattino alle 8.30 quando prende il via il mercato contadino\, che chiude alle 13 circa. La musica arriva alle 12\, l’ingresso è gratuito.\nAd accogliere chi viene a trovarci\, il bar e la locanda siriana. \n 
URL:https://saluspace.eu/event/ommiodduo-in-quartet/
LOCATION:Salus Space\, via Malvezza 2/2\, Bologna
END:VEVENT
BEGIN:VEVENT
DTSTART;TZID=UTC:20220521T083000
DTEND;TZID=UTC:20220521T130000
DTSTAMP:20260421T223918
CREATED:20220428T064518Z
LAST-MODIFIED:20220428T064518Z
UID:2798-1653121800-1653138000@saluspace.eu
SUMMARY:Mercato contadino
DESCRIPTION:Ogni sabato mattina\, dalle 8.30 alle 13\, al Mercato Contadino di Salus Space si trovano ortaggi\, frutta\, formaggio\, pane e uova\, ma anche prodotti artigianali. \nUn’offerta di qualità negli ampi spazi aperti di via Malvezza 2/2\, a Bologna. \nLa Locanda e l’Emporio sono aperti nelle ore di mercato. \nLa Locanda propone i deliziosi piatti della cucina siriana\, qui trovi il menù e gli orari di apertura. \nL’Emporio dello sfuso mette a disposizione di tutta la città prodotti alimentari e artigianali del territorio. Si trovano farine\, pasta\, vino\, birre artigianali\, miele e altro ancora\, il tutto selezionato con grande attenzione alla qualità.\nTrovate inoltre oggetti per la tavola e non solo in vetro di recupero
URL:https://saluspace.eu/event/mercato-contadino-42/
LOCATION:Salus Space\, via Malvezza 2/2\, Bologna
ATTACH;FMTTYPE=image/jpeg:https://saluspace.eu/wp-content/uploads/2022/02/mercato-1.jpg
END:VEVENT
BEGIN:VEVENT
DTSTART;TZID=UTC:20220521T103000
DTEND;TZID=UTC:20220521T103000
DTSTAMP:20260421T223918
CREATED:20220428T063235Z
LAST-MODIFIED:20220428T063235Z
UID:2790-1653129000-1653129000@saluspace.eu
SUMMARY:Laboratori per bimbi
DESCRIPTION:Tornano i laboratori del sabato mattina a Salus Space con gli ARTIgiani di Cantieri Meticci!\nAppuntamenti per i più piccoli\, dalle 10.30 alle 12.30:\n• 21 maggio: Pu…Pazzi!\nUn laboratorio per creare pupazzi e burattini con materiali di scarto e di riciclo. Con un po’ di fantasia trasformeremo vecchi calzini in dolci animaletti o temibili mostri!\n\n\nVi aspettiamo in fondo al viale\, sotto la bandiera della Pace!\n\nI laboratori sono gratuiti e non occorre prenotazione. per bimbe e bimbi dai 6 anni agli 11.\ninfo: cantierimeticci.it/lab-bimbi-salus/
URL:https://saluspace.eu/event/laboratori-per-bimbi-5/
LOCATION:Salus Space\, via Malvezza 2/2\, Bologna
ATTACH;FMTTYPE=image/jpeg:https://saluspace.eu/wp-content/uploads/2022/04/laboratori-1.jpg
END:VEVENT
BEGIN:VEVENT
DTSTART;TZID=UTC:20220528T000000
DTEND;TZID=UTC:20220528T130000
DTSTAMP:20260421T223918
CREATED:20220413T111105Z
LAST-MODIFIED:20220413T111105Z
UID:2737-1653696000-1653742800@saluspace.eu
SUMMARY:Danza africana con Careca Bangoura
DESCRIPTION:Sabato 28 maggio\, alle ore 12\, torna la danza tradizionale africana con Mohamed Careca Bangoura! \nOriginario della Guinea Conakry\, Mohamed ha uno stile energico e intriso di pura tradizione della Guinea. Cresce immerso nella musica e la sua formazione artistica professionale comincia molto presto. Conakry è la capitale dei grandi balletti\, dove gli artisti vengono plasmati attraverso una formazione dura e severa. Nel 2002\, è già coreografo dell “Balletto Folonko” che lo porta prima in Gambia e poi in Mali. Arriva in Francia dove viene immediatamente notato dal grande coreografo Moustapha Bangoura che lo vuole nel suo progetto “Ballet Wontanara”. Da allora Mohamed continua il suo percorso di ricerca artistica e tiene stage e corsi in tutta Europa. \nMohamed con percussionisti e ballerini/e  ha già portato la sua energia a Salus Space il 26 marzo. \nQui le immagini dello spettacolo. \nCome sempre tutt* sono benvenut* \, a partire dal mattino alle 8.30 quando prende il via il mercato contadino\, che chiude alle 13 circa. La musica arriva alle 12\, l’ingresso è gratuito.\nAd accogliere chi viene a trovarci\, il bar e la locanda siriana. \n 
URL:https://saluspace.eu/event/danza-africana-con-careca-bangoura/
LOCATION:Salus Space\, via Malvezza 2/2\, Bologna
ATTACH;FMTTYPE=image/jpeg:https://saluspace.eu/wp-content/uploads/2022/04/danza3.jpg
END:VEVENT
BEGIN:VEVENT
DTSTART;TZID=UTC:20220528T083000
DTEND;TZID=UTC:20220528T130000
DTSTAMP:20260421T223918
CREATED:20220428T064648Z
LAST-MODIFIED:20220428T064648Z
UID:2800-1653726600-1653742800@saluspace.eu
SUMMARY:Mercato contadino
DESCRIPTION:Ogni sabato mattina\, dalle 8.30 alle 13\, al Mercato Contadino di Salus Space si trovano ortaggi\, frutta\, formaggio\, pane e uova\, ma anche prodotti artigianali. \nUn’offerta di qualità negli ampi spazi aperti di via Malvezza 2/2\, a Bologna. \nLa Locanda e l’Emporio sono aperti nelle ore di mercato. \nLa Locanda propone i deliziosi piatti della cucina siriana\, qui trovi il menù e gli orari di apertura. \nL’Emporio dello sfuso mette a disposizione di tutta la città prodotti alimentari e artigianali del territorio. Si trovano farine\, pasta\, vino\, birre artigianali\, miele e altro ancora\, il tutto selezionato con grande attenzione alla qualità.\nTrovate inoltre oggetti per la tavola e non solo in vetro di recupero
URL:https://saluspace.eu/event/mercato-contadino-43/
LOCATION:Salus Space\, via Malvezza 2/2\, Bologna
ATTACH;FMTTYPE=image/jpeg:https://saluspace.eu/wp-content/uploads/2022/02/mercato-1.jpg
END:VEVENT
BEGIN:VEVENT
DTSTART;TZID=UTC:20220528T103000
DTEND;TZID=UTC:20220528T103000
DTSTAMP:20260421T223918
CREATED:20220428T063635Z
LAST-MODIFIED:20220428T063635Z
UID:2792-1653733800-1653733800@saluspace.eu
SUMMARY:Laboratori per bimbi
DESCRIPTION:Tornano i laboratori del sabato mattina a Salus Space con gli ARTIgiani di Cantieri Meticci!\nAppuntamenti per i più piccoli\, dalle 10.30 alle 12.30:\n\n• 28 maggio: Viaggi fantastici (e come costruirli)\nLaboratorio manuale per creare tutti insieme piccoli oggetti scenici\, che permetteranno di raccontare mille storie differenti e viaggiare in mondi immaginari\n\n\nVi aspettiamo in fondo al viale\, sotto la bandiera della Pace!\n\nI laboratori sono gratuiti e non occorre prenotazione. Per bimbe  e bimbi dai 6 agli 11 anni.\ninfo: cantierimeticci.it/lab-bimbi-salus/
URL:https://saluspace.eu/event/laboratori-per-bimbi-6/
LOCATION:Salus Space\, via Malvezza 2/2\, Bologna
ATTACH;FMTTYPE=image/jpeg:https://saluspace.eu/wp-content/uploads/2022/04/laboratori-1.jpg
END:VEVENT
BEGIN:VEVENT
DTSTART;TZID=UTC:20220528T180000
DTEND;TZID=UTC:20220528T230000
DTSTAMP:20260421T223918
CREATED:20220516T135647Z
LAST-MODIFIED:20220516T135647Z
UID:2874-1653760800-1653778800@saluspace.eu
SUMMARY:China Night!
DESCRIPTION:Sabato 28 maggio puoi trovare musica dal vivo a entrata libera anche in serata: dalle ore 18.30 China Night!\nComincia Ilenia Fu Al Guzheng\, alle 20 Ensemble du Sud\nCena alla Locanda siriana di Salus con menù fisso a 18 euro bevanda inclusa. \nPrenotazioni a: locanda@saluspace.eu
URL:https://saluspace.eu/event/china-night/
LOCATION:Salus Space\, via Malvezza 2/2\, Bologna
ATTACH;FMTTYPE=image/jpeg:https://saluspace.eu/wp-content/uploads/2022/05/cina2.jpg
END:VEVENT
END:VCALENDAR