BEGIN:VCALENDAR
VERSION:2.0
PRODID:-//Saluspace 2.0 - ECPv6.15.20//NONSGML v1.0//EN
CALSCALE:GREGORIAN
METHOD:PUBLISH
X-WR-CALNAME:Saluspace 2.0
X-ORIGINAL-URL:https://saluspace.eu
X-WR-CALDESC:Eventi per Saluspace 2.0
REFRESH-INTERVAL;VALUE=DURATION:PT1H
X-Robots-Tag:noindex
X-PUBLISHED-TTL:PT1H
BEGIN:VTIMEZONE
TZID:UTC
BEGIN:STANDARD
TZOFFSETFROM:+0000
TZOFFSETTO:+0000
TZNAME:UTC
DTSTART:20210101T000000
END:STANDARD
END:VTIMEZONE
BEGIN:VEVENT
DTSTART;TZID=UTC:20220604T083000
DTEND;TZID=UTC:20220604T130000
DTSTAMP:20260421T210410
CREATED:20220526T124123Z
LAST-MODIFIED:20220526T124123Z
UID:2904-1654331400-1654347600@saluspace.eu
SUMMARY:Mercato contadino
DESCRIPTION:Ogni sabato mattina\, dalle 8.30 alle 13\, al Mercato Contadino di Salus Space si trovano ortaggi\, frutta\, formaggio\, pane e uova\, ma anche prodotti artigianali. La verdura prodotta dagli orti di Salus è in vendita! \nUn’offerta di qualità negli ampi spazi aperti di via Malvezza 2/2\, a Bologna. \nLa Locanda e l’Emporio sono aperti nelle ore di mercato. \nLa Locanda propone i deliziosi piatti della cucina siriana\, qui trovi il menù e gli orari di apertura. \nL’Emporio dello sfuso mette a disposizione di tutta la città prodotti alimentari e artigianali del territorio. Si trovano farine\, pasta\, vino\, birre artigianali\, miele e altro ancora\, il tutto selezionato con grande attenzione alla qualità.\nTrovate inoltre oggetti per la tavola e non solo in vetro di recupero
URL:https://saluspace.eu/event/mercato-contadino-44/
LOCATION:Salus Space\, via Malvezza 2/2\, Bologna
ATTACH;FMTTYPE=image/jpeg:https://saluspace.eu/wp-content/uploads/2021/09/mercato-1.jpg
END:VEVENT
BEGIN:VEVENT
DTSTART;TZID=UTC:20220604T090000
DTEND;TZID=UTC:20220604T150000
DTSTAMP:20260421T210410
CREATED:20220530T144116Z
LAST-MODIFIED:20220530T144355Z
UID:2989-1654333200-1654354800@saluspace.eu
SUMMARY:RiViva\, il mercato dell'usato
DESCRIPTION:Per dare una seconda vita ai tuoi vestiti e ai tuoi oggetti\, a Salus Space c’è Riviva\, il mercato dell’usato in cui puoi avere uno spazio gratis per esporre e vendere le tue vecchie cose. Lo spazio è all’aperto\, ma coperto\, da una tensostruttura. \nAppuntamento sabato 4 giugno\, dalle 9.00 alle 15.00. \nSi può portare: oggettistica\, vestiti\, libri\, mobili piccoli… \nIn caso di maltempo il mercato sarà sospeso. \nPer info e prenotazioni:  mercato@saluspace.eu\nWhatsApp 3927330060
URL:https://saluspace.eu/event/riviva-il-mercato-dellusato-2/
LOCATION:Salus Space\, via Malvezza 2/2\, Bologna
ATTACH;FMTTYPE=image/jpeg:https://saluspace.eu/wp-content/uploads/2022/05/riviva-banner-1.jpg
END:VEVENT
BEGIN:VEVENT
DTSTART;TZID=UTC:20220604T103000
DTEND;TZID=UTC:20220604T103000
DTSTAMP:20260421T210410
CREATED:20220525T140010Z
LAST-MODIFIED:20220525T140946Z
UID:2889-1654338600-1654338600@saluspace.eu
SUMMARY:Laboratori
DESCRIPTION:Con l’arrivo dell’estate non si fermano i laboratori con gli ARTIgiani di Cantieri Meticci!\nAll’inizio li avevamo pensati per i più piccoli\, ma ora sono aperti a tutti (soprattutto agli adulti rimasti un po’ bambini dentro)!\nUnico requisito: la voglia di mettersi in gioco con qualcosa di nuovo!\nAppuntamento il sabato mattina a Salus Space\, dalle 10.30 alle 12.30:\n\n• 4 giugno: Pu…Pazzi!\nUn laboratorio per creare pupazzi e burattini con materiali di scarto e di riciclo. Con un po’ di fantasia trasformeremo vecchi calzini in dolci animaletti o temibili mostri!\nVi aspettiamo in fondo al viale\, sotto la bandiera della Pace!\n\nI laboratori sono gratuiti e non occorre prenotazione.\ninfo: cantierimeticci.it/lab-bimbi-salus/
URL:https://saluspace.eu/event/laboratori/
LOCATION:Salus Space\, via Malvezza 2/2\, Bologna
ATTACH;FMTTYPE=image/jpeg:https://saluspace.eu/wp-content/uploads/2022/05/bandierapace.jpg
END:VEVENT
BEGIN:VEVENT
DTSTART;TZID=UTC:20220604T123000
DTEND;TZID=UTC:20220604T133000
DTSTAMP:20260421T210410
CREATED:20220530T143413Z
LAST-MODIFIED:20220530T143413Z
UID:2985-1654345800-1654349400@saluspace.eu
SUMMARY:Giuliano Tedeschi fisarmonicista
DESCRIPTION:Sabato 4 giugno alle 12.30 l’appuntamento con la musica dal vivo prevede la performance di Giuliano Tedeschi\,  fisarmonicista autodidatta.\nAmante  dei Beatles e della musica francese d’autore\, si propone in un repertorio  anni 80 new wave\, abbastanza inusuale per la fisarmonica.
URL:https://saluspace.eu/event/giuliano-tedeschi-fisarmonicista/
LOCATION:Salus Space\, via Malvezza 2/2\, Bologna
ATTACH;FMTTYPE=image/jpeg:https://saluspace.eu/wp-content/uploads/2022/05/fisarmonica.jpg
END:VEVENT
BEGIN:VEVENT
DTSTART;TZID=UTC:20220611T083000
DTEND;TZID=UTC:20220611T130000
DTSTAMP:20260421T210410
CREATED:20220526T124507Z
LAST-MODIFIED:20220526T124507Z
UID:2906-1654936200-1654952400@saluspace.eu
SUMMARY:Mercato contadino
DESCRIPTION:Ogni sabato mattina\, dalle 8.30 alle 13\, al Mercato Contadino di Salus Space si trovano ortaggi\, frutta\, formaggio\, pane e uova\, ma anche prodotti artigianali. La verdura prodotta dagli orti di Salus è in vendita! \nUn’offerta di qualità negli ampi spazi aperti di via Malvezza 2/2\, a Bologna. \nLa Locanda e l’Emporio sono aperti nelle ore di mercato. \nLa Locanda propone i deliziosi piatti della cucina siriana\, qui trovi il menù e gli orari di apertura. \nL’Emporio dello sfuso mette a disposizione di tutta la città prodotti alimentari e artigianali del territorio. Si trovano farine\, pasta\, vino\, birre artigianali\, miele e altro ancora\, il tutto selezionato con grande attenzione alla qualità.\nTrovate inoltre oggetti per la tavola e non solo in vetro di recupero
URL:https://saluspace.eu/event/mercato-contadino-45/
LOCATION:Salus Space\, via Malvezza 2/2\, Bologna
ATTACH;FMTTYPE=image/jpeg:https://saluspace.eu/wp-content/uploads/2021/09/mercato-1.jpg
END:VEVENT
BEGIN:VEVENT
DTSTART;TZID=UTC:20220611T103000
DTEND;TZID=UTC:20220611T103000
DTSTAMP:20260421T210410
CREATED:20220526T113940Z
LAST-MODIFIED:20220526T114056Z
UID:2896-1654943400-1654943400@saluspace.eu
SUMMARY:Laboratori
DESCRIPTION:Con l’arrivo dell’estate non si fermano i laboratori con gli ARTIgiani di Cantieri Meticci!\nAll’inizio li avevamo pensati per i più piccoli\, ma ora sono aperti a tutti (soprattutto agli adulti rimasti un po’ bambini dentro)!\nUnico requisito: la voglia di mettersi in gioco con qualcosa di nuovo!\nAppuntamento il sabato mattina a Salus Space\, dalle 10.30 alle 12.30:• 11 giugno: A tutto ritmo!\nAllargate il Cerchio! presenta un laboratorio di giochi musicali\, canzoni\, tamburi e tanto divertimento per i bambini e non soloVi aspettiamo in fondo al viale\, sotto la bandiera della Pace! \nI laboratori sono gratuiti e non occorre prenotazione.\ninfo: cantierimeticci.it/lab-bimbi-salus/
URL:https://saluspace.eu/event/laboratori-2/
LOCATION:Salus Space\, via Malvezza 2/2\, Bologna
ATTACH;FMTTYPE=image/jpeg:https://saluspace.eu/wp-content/uploads/2022/05/bandierapace.jpg
END:VEVENT
BEGIN:VEVENT
DTSTART;TZID=UTC:20220611T123000
DTEND;TZID=UTC:20220611T133000
DTSTAMP:20260421T210410
CREATED:20220530T144829Z
LAST-MODIFIED:20220530T144829Z
UID:2993-1654950600-1654954200@saluspace.eu
SUMMARY:Yakhana Duo
DESCRIPTION:Per l’appuntamento con la musica dal vivo\, sabato 11 giugno alle 12.30\,  Yakhana Duo!\nSuono latinoamericano tra natura e spazio urbano.\nStefania Alterio Lasalvia – voce\nAlessandro Predasso – chitarra
URL:https://saluspace.eu/event/yakhana-duo/
LOCATION:Salus Space\, via Malvezza 2/2\, Bologna
END:VEVENT
BEGIN:VEVENT
DTSTART;TZID=UTC:20220618T003000
DTEND;TZID=UTC:20220618T133000
DTSTAMP:20260421T210410
CREATED:20220601T144856Z
LAST-MODIFIED:20220621T124207Z
UID:2997-1655512200-1655559000@saluspace.eu
SUMMARY:Bolognabridge Band
DESCRIPTION:Musica dal vivo il sabato mattina a Salus Space\, il 18 giugno tocca alla  Bolognabridge Band\nLa street band condisce lo stile new orleans con groove funky e ritmi techno. \nOre 12.30\nvia Malvezza 2/2 \nCome sempre il sabato mattina\, mercato contadino\, bar e locanda a vostra disposizione.\nIngresso gratuito
URL:https://saluspace.eu/event/bolognabridge-band/
LOCATION:Salus Space\, via Malvezza 2/2\, Bologna
END:VEVENT
BEGIN:VEVENT
DTSTART;TZID=UTC:20220618T083000
DTEND;TZID=UTC:20220618T130000
DTSTAMP:20260421T210410
CREATED:20220526T124714Z
LAST-MODIFIED:20220526T124714Z
UID:2909-1655541000-1655557200@saluspace.eu
SUMMARY:Mercato contadino
DESCRIPTION:Ogni sabato mattina\, dalle 8.30 alle 13\, al Mercato Contadino di Salus Space si trovano ortaggi\, frutta\, formaggio\, pane e uova\, ma anche prodotti artigianali. La verdura prodotta dagli orti di Salus è in vendita! \nUn’offerta di qualità negli ampi spazi aperti di via Malvezza 2/2\, a Bologna. \nLa Locanda e l’Emporio sono aperti nelle ore di mercato. \nLa Locanda propone i deliziosi piatti della cucina siriana\, qui trovi il menù e gli orari di apertura. \nL’Emporio dello sfuso mette a disposizione di tutta la città prodotti alimentari e artigianali del territorio. Si trovano farine\, pasta\, vino\, birre artigianali\, miele e altro ancora\, il tutto selezionato con grande attenzione alla qualità.\nTrovate inoltre oggetti per la tavola e non solo in vetro di recupero
URL:https://saluspace.eu/event/mercato-contadino-46/
LOCATION:Salus Space\, via Malvezza 2/2\, Bologna
ATTACH;FMTTYPE=image/jpeg:https://saluspace.eu/wp-content/uploads/2022/02/mercato-1.jpg
END:VEVENT
BEGIN:VEVENT
DTSTART;TZID=UTC:20220618T103000
DTEND;TZID=UTC:20220618T103000
DTSTAMP:20260421T210410
CREATED:20220526T123207Z
LAST-MODIFIED:20220526T123207Z
UID:2900-1655548200-1655548200@saluspace.eu
SUMMARY:Laboratori
DESCRIPTION:Con l’arrivo dell’estate non si fermano i laboratori con gli ARTIgiani di Cantieri Meticci!\nAll’inizio li avevamo pensati per i più piccoli\, ma ora sono aperti a tutti (soprattutto agli adulti rimasti un po’ bambini dentro)!\nUnico requisito: la voglia di mettersi in gioco con qualcosa di nuovo!\nAppuntamento il sabato mattina a Salus Space\, dalle 10 alle 12: \n• 18 giugno: Viaggi fantastici (e come costruirli)\nLaboratorio manuale per creare tutti insieme piccoli oggetti scenici\, che permetteranno di raccontare mille storie differenti e viaggiare in mondi immaginari \nVi aspettiamo in fondo al viale\, sotto la bandiera della Pace! \nI laboratori sono gratuiti e non occorre prenotazione.\ninfo: cantierimeticci.it/lab-bimbi-salus/
URL:https://saluspace.eu/event/laboratori-3/
LOCATION:Salus Space\, via Malvezza 2/2\, Bologna
ATTACH;FMTTYPE=image/jpeg:https://saluspace.eu/wp-content/uploads/2022/05/bandierapace.jpg
END:VEVENT
BEGIN:VEVENT
DTSTART;TZID=UTC:20220625T003000
DTEND;TZID=UTC:20220625T133000
DTSTAMP:20260421T210410
CREATED:20220606T103754Z
LAST-MODIFIED:20220606T103754Z
UID:2999-1656117000-1656163800@saluspace.eu
SUMMARY:Robè e Paranza sociale
DESCRIPTION:L’appuntamento musicale del 25 giugno prevede  Robbè + Paranza sociale “Allargate il Cerchio!” \nRobbè\, è un cantautore\, classe ’94\, nato a Deliceto\, piccolo paese del Subappennino Dauno\, terra di confine tra la Puglia\, l’Irpinia e la\nBasilicata. Una terra che porta con sé in giro per il mondo\, contaminandola di influenze che man mano raccoglie lungo il proprio\ncammino: dall’entroterra del sud alle dolci colline bolognesi\, fino alle ripide scogliere d’Irlanda\, Robbè traspone il proprio vissuto e le proprie radici in reels e ballads\, mescolando sapientemente stili\, culture e tradizioni.\nIn un panorama musicale fatto di emozioni “mordi e fuggi”\, Robbè si presenta al pubblico con un album di ben 12 brani\, denso e\nstilisticamente ricco\, in un originale vortice di malinconie ed eccentricità che lascia spazio a intensi attimi di respiro: da buon\n“artigiano della musica”\, Robbè elabora emozioni e nostalgie con minuziosa cura e raffinata attenzione\, cesellandone ogni dettaglio. \nIngresso gratuito\, ore 12.30
URL:https://saluspace.eu/event/robe-e-paranza-sociale/
LOCATION:Salus Space\, via Malvezza 2/2\, Bologna
END:VEVENT
BEGIN:VEVENT
DTSTART;TZID=UTC:20220625T083000
DTEND;TZID=UTC:20220625T130000
DTSTAMP:20260421T210410
CREATED:20220526T124941Z
LAST-MODIFIED:20220526T124941Z
UID:2911-1656145800-1656162000@saluspace.eu
SUMMARY:Mercato contadino
DESCRIPTION:Ogni sabato mattina\, dalle 8.30 alle 13\, al Mercato Contadino di Salus Space si trovano ortaggi\, frutta\, formaggio\, pane e uova\, ma anche prodotti artigianali. La verdura prodotta dagli orti di Salus è in vendita! \nUn’offerta di qualità negli ampi spazi aperti di via Malvezza 2/2\, a Bologna. \nLa Locanda e l’Emporio sono aperti nelle ore di mercato. \nLa Locanda propone i deliziosi piatti della cucina siriana\, qui trovi il menù e gli orari di apertura. \nL’Emporio dello sfuso mette a disposizione di tutta la città prodotti alimentari e artigianali del territorio. Si trovano farine\, pasta\, vino\, birre artigianali\, miele e altro ancora\, il tutto selezionato con grande attenzione alla qualità.\nTrovate inoltre oggetti per la tavola e non solo in vetro di recupero.
URL:https://saluspace.eu/event/mercato-contadino-47/
LOCATION:Salus Space\, via Malvezza 2/2\, Bologna
ATTACH;FMTTYPE=image/jpeg:https://saluspace.eu/wp-content/uploads/2022/02/mercato-1.jpg
END:VEVENT
BEGIN:VEVENT
DTSTART;TZID=UTC:20220625T103000
DTEND;TZID=UTC:20220625T103000
DTSTAMP:20260421T210410
CREATED:20220526T123505Z
LAST-MODIFIED:20220526T123505Z
UID:2902-1656153000-1656153000@saluspace.eu
SUMMARY:Laboratori
DESCRIPTION:Con l’arrivo dell’estate non si fermano i laboratori con gli ARTIgiani di Cantieri Meticci!\nAll’inizio li avevamo pensati per i più piccoli\, ma ora sono aperti a tutti (soprattutto agli adulti rimasti un po’ bambini dentro)!\nUnico requisito: la voglia di mettersi in gioco con qualcosa di nuovo!\nAppuntamento il sabato mattina a Salus Space\, dalle 10.30 alle 12.30: \n• 25 giugno: Tutti in scena! \nPiccoli giochi teatrali per esplorare l’uso del corpo e del ritmo in maniera creativa e divertente (cari adulti\, lasciatevi andare!) \nVi aspettiamo in fondo al viale\, sotto la bandiera della Pace! \nI laboratori sono gratuiti e non occorre prenotazione.\ninfo: cantierimeticci.it/lab-bimbi-salus/
URL:https://saluspace.eu/event/laboratori-4/
LOCATION:Salus Space\, via Malvezza 2/2\, Bologna
ATTACH;FMTTYPE=image/jpeg:https://saluspace.eu/wp-content/uploads/2022/05/bandierapace.jpg
END:VEVENT
END:VCALENDAR