BEGIN:VCALENDAR
VERSION:2.0
PRODID:-//Saluspace 2.0 - ECPv6.15.20//NONSGML v1.0//EN
CALSCALE:GREGORIAN
METHOD:PUBLISH
X-ORIGINAL-URL:https://saluspace.eu
X-WR-CALDESC:Eventi per Saluspace 2.0
REFRESH-INTERVAL;VALUE=DURATION:PT1H
X-Robots-Tag:noindex
X-PUBLISHED-TTL:PT1H
BEGIN:VTIMEZONE
TZID:UTC
BEGIN:STANDARD
TZOFFSETFROM:+0000
TZOFFSETTO:+0000
TZNAME:UTC
DTSTART:20220101T000000
END:STANDARD
END:VTIMEZONE
BEGIN:VEVENT
DTSTART;TZID=UTC:20230706T203000
DTEND;TZID=UTC:20230706T223000
DTSTAMP:20260420T223420
CREATED:20230620T082018Z
LAST-MODIFIED:20230620T082018Z
UID:4225-1688675400-1688682600@saluspace.eu
SUMMARY:Cricket Sonic Attack Live
DESCRIPTION:Concerto a Salus Space giovedì 6 luglio alle 20.30.  Cricket Sonic Attack Live è un progetto musicale che attinge a piene mani da più tradizioni – maloya\, folklore cubano – sfumandole con sonorità nu jazz e funk. \nSax e clarinetto:  Timothy Raeymaekers \nPercussioni: Nicoletta Betta e Tommaso Grassi \nCon la partecipazione di Teresa Kanak (violino) e Chris Riseley (basso).
URL:https://saluspace.eu/event/cricket-sonic-attack-live/
LOCATION:Salus Space\, via Malvezza 2/2\, Bologna
END:VEVENT
END:VCALENDAR