BEGIN:VCALENDAR
VERSION:2.0
PRODID:-//Saluspace 2.0 - ECPv6.15.20//NONSGML v1.0//EN
CALSCALE:GREGORIAN
METHOD:PUBLISH
X-ORIGINAL-URL:https://saluspace.eu
X-WR-CALDESC:Eventi per Saluspace 2.0
REFRESH-INTERVAL;VALUE=DURATION:PT1H
X-Robots-Tag:noindex
X-PUBLISHED-TTL:PT1H
BEGIN:VTIMEZONE
TZID:UTC
BEGIN:STANDARD
TZOFFSETFROM:+0000
TZOFFSETTO:+0000
TZNAME:UTC
DTSTART:20200101T000000
END:STANDARD
END:VTIMEZONE
BEGIN:VEVENT
DTSTART;TZID=UTC:20211120T150000
DTEND;TZID=UTC:20211120T170000
DTSTAMP:20260420T184715
CREATED:20211104T112630Z
LAST-MODIFIED:20211115T081126Z
UID:1900-1637420400-1637427600@saluspace.eu
SUMMARY:Castagnata con caccia al tesoro
DESCRIPTION:Sabato 20 novembre dalle ore 15 una festa d’autunno a Salus Space con castagne\, vin brulé e una caccia al tesoro per i più piccoli! \nPotremo passare un pomeriggio insieme all’aria aperta\, con giochi\, musica e tante chiacchiere. \nLa Locanda propone la merenda con le sue specialità: crema di castagne e latte speziato per i più ghiotti. \nPoi spazio a bambine e bambini per la grande caccia al tesoro!
URL:https://saluspace.eu/event/castagnata-con-caccia-al-tesoro/
LOCATION:Salus Space\, via Malvezza 2/2\, Bologna
ATTACH;FMTTYPE=image/jpeg:https://saluspace.eu/wp-content/uploads/2021/11/sito.jpg
END:VEVENT
END:VCALENDAR