BEGIN:VCALENDAR
VERSION:2.0
PRODID:-//Saluspace 2.0 - ECPv6.15.20//NONSGML v1.0//EN
CALSCALE:GREGORIAN
METHOD:PUBLISH
X-ORIGINAL-URL:https://saluspace.eu
X-WR-CALDESC:Eventi per Saluspace 2.0
REFRESH-INTERVAL;VALUE=DURATION:PT1H
X-Robots-Tag:noindex
X-PUBLISHED-TTL:PT1H
BEGIN:VTIMEZONE
TZID:UTC
BEGIN:STANDARD
TZOFFSETFROM:+0000
TZOFFSETTO:+0000
TZNAME:UTC
DTSTART:20220101T000000
END:STANDARD
END:VTIMEZONE
BEGIN:VEVENT
DTSTART;TZID=UTC:20230623T213000
DTEND;TZID=UTC:20230623T230000
DTSTAMP:20260421T215804
CREATED:20230620T075436Z
LAST-MODIFIED:20230620T075454Z
UID:4220-1687555800-1687561200@saluspace.eu
SUMMARY:Scompartimento N.6
DESCRIPTION:Venerdì 23 giugno alle 21.30 primo appuntamento con il cinema all’aperto a Salus Space. \nLa rassegna si ispira al tema “treno”\, e lo schermo sarà montato proprio sul nostro “treno del non ritorno”\, opera dei Cantieri Meticci. \nIl film è Scompartimento N. 6\, di Juho Kuosmanen\, Estonia\, Finlandia\, Russia\, Germania\, durata 107′.
URL:https://saluspace.eu/event/scompartimento-n-6/
LOCATION:Salus Space\, via Malvezza 2/2\, Bologna
END:VEVENT
BEGIN:VEVENT
DTSTART;TZID=UTC:20230624T213000
DTEND;TZID=UTC:20230624T230000
DTSTAMP:20260421T215804
CREATED:20230620T081006Z
LAST-MODIFIED:20230620T081006Z
UID:4222-1687642200-1687647600@saluspace.eu
SUMMARY:Assassinio sull'Orient Express
DESCRIPTION:Secondo appuntamento con il cinema all’aperto sabato 24 giugno\, alle 21.30. \nIl film che verrà proiettato sullo schermo montato sul Treno del Ricomincio è Assassinio sull’Orient Express\, di Sidney Lumet\, 1974\, Gran Bretagna\, con Ingrid Bergman\, Lauren Bacall\, Sean Connery e Anthony Perkins.
URL:https://saluspace.eu/event/assassinio-sullorient-express/
LOCATION:Salus Space\, via Malvezza 2/2\, Bologna
END:VEVENT
END:VCALENDAR