BEGIN:VCALENDAR
VERSION:2.0
PRODID:-//Saluspace 2.0 - ECPv6.15.20//NONSGML v1.0//EN
CALSCALE:GREGORIAN
METHOD:PUBLISH
X-ORIGINAL-URL:https://saluspace.eu
X-WR-CALDESC:Eventi per Saluspace 2.0
REFRESH-INTERVAL;VALUE=DURATION:PT1H
X-Robots-Tag:noindex
X-PUBLISHED-TTL:PT1H
BEGIN:VTIMEZONE
TZID:UTC
BEGIN:STANDARD
TZOFFSETFROM:+0000
TZOFFSETTO:+0000
TZNAME:UTC
DTSTART:20210101T000000
END:STANDARD
END:VTIMEZONE
BEGIN:VEVENT
DTSTART;TZID=UTC:20220226T100000
DTEND;TZID=UTC:20220226T233000
DTSTAMP:20260422T074012
CREATED:20220222T102510Z
LAST-MODIFIED:20220222T104716Z
UID:2344-1645869600-1645918200@saluspace.eu
SUMMARY:Corso di coltivazione della canapa
DESCRIPTION:Sabato 26 febbraio\, dalle 10 alle 11.30\, a Salus Space si terrà un corso di formazione dedicato alla coltura della canapa\, a cura di Aquaponic Design.\nE’ un evento gratuito\, organizzato in collaborazione con @saluspace.eu @eufoode e tenuto da @il_giardiniere_errante\n\n\nI posti sono limitati e per iscrivervi potete usare la email info@aquaponicdesign.it.
URL:https://saluspace.eu/event/corso-di-coltivazione-della-canapa/
LOCATION:Salus Space\, via Malvezza 2/2\, Bologna
ATTACH;FMTTYPE=image/jpeg:https://saluspace.eu/wp-content/uploads/2022/02/canapa-1.jpg
END:VEVENT
END:VCALENDAR