BEGIN:VCALENDAR
VERSION:2.0
PRODID:-//Saluspace 2.0 - ECPv6.15.20//NONSGML v1.0//EN
CALSCALE:GREGORIAN
METHOD:PUBLISH
X-ORIGINAL-URL:https://saluspace.eu
X-WR-CALDESC:Eventi per Saluspace 2.0
REFRESH-INTERVAL;VALUE=DURATION:PT1H
X-Robots-Tag:noindex
X-PUBLISHED-TTL:PT1H
BEGIN:VTIMEZONE
TZID:UTC
BEGIN:STANDARD
TZOFFSETFROM:+0000
TZOFFSETTO:+0000
TZNAME:UTC
DTSTART:20200101T000000
END:STANDARD
END:VTIMEZONE
BEGIN:VEVENT
DTSTART;TZID=UTC:20211105T183000
DTEND;TZID=UTC:20211105T200000
DTSTAMP:20260422T154525
CREATED:20211026T104526Z
LAST-MODIFIED:20211026T104526Z
UID:1863-1636137000-1636142400@saluspace.eu
SUMMARY:Convivio\, pluralismo\, tolleranza
DESCRIPTION:Pluralismo\, tolleranza\, religioni. Tutto questo in un ciclo di incontri e letture a cura della Scuola di Pace di Via Lombardia a Forum Salus\, il centro studi di via Malvezza 2/2\, a Bologna\, dal titolo “Convivio\, pluralismo\, tolleranza” \nIl primo incontro: \nMauro Bonaiuti / venerdì 5 novembre\, ore 18:30\nIvan Illich e l’idea di “convivio”
URL:https://saluspace.eu/event/convivio-pluralismo-tolleranza/
LOCATION:Salus Space\, via Malvezza 2/2\, Bologna
ATTACH;FMTTYPE=image/jpeg:https://saluspace.eu/wp-content/uploads/2021/10/platano2.jpg
END:VEVENT
BEGIN:VEVENT
DTSTART;TZID=UTC:20211119T183000
DTEND;TZID=UTC:20211119T200000
DTSTAMP:20260422T154525
CREATED:20211026T104835Z
LAST-MODIFIED:20211026T104835Z
UID:1868-1637346600-1637352000@saluspace.eu
SUMMARY:Convivio\, pluralismo\, tolleranza
DESCRIPTION:Pluralismo\, tolleranza\, religioni. Tutto questo in un ciclo di incontri e letture a cura della Scuola di Pace di Via Lombardia a Forum Salus\, il centro studi di via Malvezza 2/2\, a Bologna\, dal titolo “Convivio\, pluralismo\, tolleranza” \nIl secondo appuntamento: \nSaverio Marchignoli / venerdì 19 novembre\, ore 18:30\nPluralismo e tolleranza religiosa in India. Letture dagli editti di Aśoka
URL:https://saluspace.eu/event/convivio-pluralismo-tolleranza-2/
LOCATION:Salus Space\, via Malvezza 2/2\, Bologna
ATTACH;FMTTYPE=image/jpeg:https://saluspace.eu/wp-content/uploads/2021/10/platano2.jpg
END:VEVENT
END:VCALENDAR