BEGIN:VCALENDAR
VERSION:2.0
PRODID:-//Saluspace 2.0 - ECPv6.15.20//NONSGML v1.0//EN
CALSCALE:GREGORIAN
METHOD:PUBLISH
X-ORIGINAL-URL:https://saluspace.eu
X-WR-CALDESC:Eventi per Saluspace 2.0
REFRESH-INTERVAL;VALUE=DURATION:PT1H
X-Robots-Tag:noindex
X-PUBLISHED-TTL:PT1H
BEGIN:VTIMEZONE
TZID:UTC
BEGIN:STANDARD
TZOFFSETFROM:+0000
TZOFFSETTO:+0000
TZNAME:UTC
DTSTART:20200101T000000
END:STANDARD
END:VTIMEZONE
BEGIN:VEVENT
DTSTART;TZID=UTC:20211203T183000
DTEND;TZID=UTC:20211203T200000
DTSTAMP:20260422T135800
CREATED:20211026T105144Z
LAST-MODIFIED:20211026T105144Z
UID:1870-1638556200-1638561600@saluspace.eu
SUMMARY:Convivio\, pluralismo\, tolleranza
DESCRIPTION:Pluralismo\, tolleranza\, religioni. Tutto questo in un ciclo di incontri e letture a cura della Scuola di Pace di Via Lombardia a Forum Salus\, il centro studi di via Malvezza 2/2\, a Bologna\, dal titolo “Convivio\, pluralismo\, tolleranza” \nL’ultimo incontro: \nSaverio Marchignoli / venerdì 3 dicembre\, ore 18:30\nOltre la “verità” della religione: Nathan il saggio di Lessing e la favola dei tre anelli.
URL:https://saluspace.eu/event/convivio-pluralismo-tolleranza-3/
LOCATION:Salus Space\, via Malvezza 2/2\, Bologna
ATTACH;FMTTYPE=image/jpeg:https://saluspace.eu/wp-content/uploads/2021/10/platano2.jpg
END:VEVENT
END:VCALENDAR