BEGIN:VCALENDAR
VERSION:2.0
PRODID:-//Saluspace 2.0 - ECPv6.15.20//NONSGML v1.0//EN
CALSCALE:GREGORIAN
METHOD:PUBLISH
X-ORIGINAL-URL:https://saluspace.eu
X-WR-CALDESC:Eventi per Saluspace 2.0
REFRESH-INTERVAL;VALUE=DURATION:PT1H
X-Robots-Tag:noindex
X-PUBLISHED-TTL:PT1H
BEGIN:VTIMEZONE
TZID:UTC
BEGIN:STANDARD
TZOFFSETFROM:+0000
TZOFFSETTO:+0000
TZNAME:UTC
DTSTART:20200101T000000
END:STANDARD
END:VTIMEZONE
BEGIN:VEVENT
DTSTART;TZID=UTC:20210723T180000
DTEND;TZID=UTC:20210723T230000
DTSTAMP:20260421T052534
CREATED:20210617T193640Z
LAST-MODIFIED:20210721T083340Z
UID:1215-1627063200-1627081200@saluspace.eu
SUMMARY:Serata global-beats
DESCRIPTION:Venerdì 23 luglio Salus Space si trasforma in un eccezionale palcoscenico: la serata si apre alle 21 con lo showcase dei giovani artisti del corso di formazione musicale One Beat 2021\, che presentano in anteprima i pezzi scritti e composti con l’aiuto di professionisti.\nA seguire dj set global-beats di Giorgio Cencetti – in arte Dj Farrapo – con incursioni di Devon Miles e uno spazio open-mic per chiunque desideri esibirsi. \nh 21.00 – Dj Farrapo \nGiorgio Cencetti – in arte Farrapo – è un musicologo\, dj e producer bolognese. Nell’arco della sua ventennale carriera ha raggiunto le 2000 esibizioni esibizioni nei club e festival di tutta Europa\, Brasile e negli Stati Uniti. Influenzato dalle culture musicali di tutto il mondo\, Farrapo propone una musica poliedrica e coinvolgente\, ricca di suggestioni vintage miscelate con vari stili di musica elettronica per il dancefloor. I suoi brani o remix sono stati pubblicati da major come Sony\, Wagram\, Universal o label leggendarie come la Verve o la londinese Afro Art rec.
URL:https://saluspace.eu/event/dj-farrapo-e-devon-miles/
ATTACH;FMTTYPE=image/jpeg:https://saluspace.eu/wp-content/uploads/2021/06/dj-farrapo.jpg
END:VEVENT
BEGIN:VEVENT
DTSTART;TZID=UTC:20210724T210000
DTEND;TZID=UTC:20210724T233000
DTSTAMP:20260421T052534
CREATED:20210617T194028Z
LAST-MODIFIED:20210624T095352Z
UID:1218-1627160400-1627169400@saluspace.eu
SUMMARY:Diaspore\, Movimenti d’Africa
DESCRIPTION:Sabato 24 luglio alle 21 un’inedita contaminazione tra un ensemble musicale guidato da Devon Miles e Guglielmo Pagnozzi e gli attori africani della compagnia Cantieri Meticci\, per intrecciare racconti di diaspore: le esperienze di chi nel perenne movimento ha saputo intravedere l’occasione per un’incessante sperimentazione nei linguaggi dell’arte: poesie\, narrazioni\, danze\, nate da un costante travaso tra culture musicali e narrative del tutto eterogenee.
URL:https://saluspace.eu/event/concerto-bantubeat-afrofunk-ensemble/
END:VEVENT
END:VCALENDAR