BEGIN:VCALENDAR
VERSION:2.0
PRODID:-//Saluspace 2.0 - ECPv6.15.20//NONSGML v1.0//EN
CALSCALE:GREGORIAN
METHOD:PUBLISH
X-WR-CALNAME:Saluspace 2.0
X-ORIGINAL-URL:https://saluspace.eu
X-WR-CALDESC:Eventi per Saluspace 2.0
REFRESH-INTERVAL;VALUE=DURATION:PT1H
X-Robots-Tag:noindex
X-PUBLISHED-TTL:PT1H
BEGIN:VTIMEZONE
TZID:UTC
BEGIN:STANDARD
TZOFFSETFROM:+0000
TZOFFSETTO:+0000
TZNAME:UTC
DTSTART:20200101T000000
END:STANDARD
END:VTIMEZONE
BEGIN:VEVENT
DTSTART;TZID=UTC:20210924T210000
DTEND;TZID=UTC:20210924T230000
DTSTAMP:20260420T165706
CREATED:20210910T153332Z
LAST-MODIFIED:20210910T153414Z
UID:1648-1632517200-1632524400@saluspace.eu
SUMMARY:Non abbiamo un pianeta B
DESCRIPTION:Venerdì 24 settembre\, alle ore 21\, il gruppo di acquisto solidale Gasbosco invita alla serata di riflessione: “Non abbiamo un pianeta B”\, per un’economia al servizio della giustizia\, della solidarietà e della salvaguardia del pianeta. \nPer partecipare occorre iscriversi inviando una mail a: stefano.carati2@gmail.com\nSono necessari green pass e mascherina
URL:https://saluspace.eu/event/non-abbiamo-un-pianeta-b/
LOCATION:Salus Space\, via Malvezza 2/2\, Bologna
ATTACH;FMTTYPE=image/jpeg:https://saluspace.eu/wp-content/uploads/2021/09/Non-abbiamo-un-Pianeta-B.jpg
END:VEVENT
END:VCALENDAR