BEGIN:VCALENDAR
VERSION:2.0
PRODID:-//Saluspace 2.0 - ECPv6.15.20//NONSGML v1.0//EN
CALSCALE:GREGORIAN
METHOD:PUBLISH
X-ORIGINAL-URL:https://saluspace.eu
X-WR-CALDESC:Eventi per Saluspace 2.0
REFRESH-INTERVAL;VALUE=DURATION:PT1H
X-Robots-Tag:noindex
X-PUBLISHED-TTL:PT1H
BEGIN:VTIMEZONE
TZID:UTC
BEGIN:STANDARD
TZOFFSETFROM:+0000
TZOFFSETTO:+0000
TZNAME:UTC
DTSTART:20210101T000000
END:STANDARD
END:VTIMEZONE
BEGIN:VEVENT
DTSTART;TZID=UTC:20220401T170000
DTEND;TZID=UTC:20220401T193000
DTSTAMP:20260423T213020
CREATED:20220329T122953Z
LAST-MODIFIED:20220329T122953Z
UID:2562-1648832400-1648841400@saluspace.eu
SUMMARY:Geografie della sostenibilità
DESCRIPTION:E’ il titolo di un incontro che si terrà a Salus Space l’1 aprile\, alle ore 17\, frutto di un percorso internazionale: “Night of Geography“\, promosso da EUGEO and IGU. \nAd organizzarlo i Cantieri Meticci\, insieme all’Università di Bologna\, Dipartimento di storia\, culture\, civiltà. A Salus verrà presentato il progetto UIA che ha dato vita agli spazi di via Malvezza.\nLa prima parte dell’evento\, alle ore 16\, si terrà invece in via Guerrazzi 20\, in aula didattica. La sostenibilità verrà affrontata in chiave bolognese\, soprattutto rispetto alle questioni energetiche\, alle condizioni territoriali e alla riqualificazione. Analisi di percezione\, attività di mappatura affettiva e software cartografici (GIS) saranno alla base di riflessioni sulla realtà storica e contemporanea della regione. \nPer maggiori informazioni: https://www.geonight.net/444-2/
URL:https://saluspace.eu/event/geografie-della-sostenibilita/
LOCATION:Salus Space\, via Malvezza 2/2\, Bologna
ATTACH;FMTTYPE=image/jpeg:https://saluspace.eu/wp-content/uploads/2022/03/riunione_comunita.jpg
END:VEVENT
END:VCALENDAR