BEGIN:VCALENDAR
VERSION:2.0
PRODID:-//Saluspace 2.0 - ECPv6.15.20//NONSGML v1.0//EN
CALSCALE:GREGORIAN
METHOD:PUBLISH
X-ORIGINAL-URL:https://saluspace.eu
X-WR-CALDESC:Eventi per Saluspace 2.0
REFRESH-INTERVAL;VALUE=DURATION:PT1H
X-Robots-Tag:noindex
X-PUBLISHED-TTL:PT1H
BEGIN:VTIMEZONE
TZID:UTC
BEGIN:STANDARD
TZOFFSETFROM:+0000
TZOFFSETTO:+0000
TZNAME:UTC
DTSTART:20210101T000000
END:STANDARD
END:VTIMEZONE
BEGIN:VEVENT
DTSTART;TZID=UTC:20220604T123000
DTEND;TZID=UTC:20220604T133000
DTSTAMP:20260422T055049
CREATED:20220530T143413Z
LAST-MODIFIED:20220530T143413Z
UID:2985-1654345800-1654349400@saluspace.eu
SUMMARY:Giuliano Tedeschi fisarmonicista
DESCRIPTION:Sabato 4 giugno alle 12.30 l’appuntamento con la musica dal vivo prevede la performance di Giuliano Tedeschi\,  fisarmonicista autodidatta.\nAmante  dei Beatles e della musica francese d’autore\, si propone in un repertorio  anni 80 new wave\, abbastanza inusuale per la fisarmonica.
URL:https://saluspace.eu/event/giuliano-tedeschi-fisarmonicista/
LOCATION:Salus Space\, via Malvezza 2/2\, Bologna
ATTACH;FMTTYPE=image/jpeg:https://saluspace.eu/wp-content/uploads/2022/05/fisarmonica.jpg
END:VEVENT
END:VCALENDAR