BEGIN:VCALENDAR
VERSION:2.0
PRODID:-//Saluspace 2.0 - ECPv6.15.20//NONSGML v1.0//EN
CALSCALE:GREGORIAN
METHOD:PUBLISH
X-WR-CALNAME:Saluspace 2.0
X-ORIGINAL-URL:https://saluspace.eu
X-WR-CALDESC:Eventi per Saluspace 2.0
REFRESH-INTERVAL;VALUE=DURATION:PT1H
X-Robots-Tag:noindex
X-PUBLISHED-TTL:PT1H
BEGIN:VTIMEZONE
TZID:UTC
BEGIN:STANDARD
TZOFFSETFROM:+0000
TZOFFSETTO:+0000
TZNAME:UTC
DTSTART:20200101T000000
END:STANDARD
END:VTIMEZONE
BEGIN:VEVENT
DTSTART;TZID=UTC:20210730T210000
DTEND;TZID=UTC:20210730T230000
DTSTAMP:20260421T040125
CREATED:20210617T194242Z
LAST-MODIFIED:20210701T090022Z
UID:1220-1627678800-1627686000@saluspace.eu
SUMMARY:Il pranzo di Babette
DESCRIPTION:venerdì 30 luglio\, dalle 21\, uno spettacolo da tavolo\, un gioco di società\, una cena multietnica per spettatori-commensali che prende spunto dalle “carte del destino” disegnate dall’artista iraniana Sara Pour a partire dal capolavoro di Karen Blixen.\n“Il pranzo di Babette” nasce da una domanda semplice\, che ha guidato il progetto fin dai suoi esordi: “quali sono i talenti nascosti di chi arriva in Italia da lontano\, e come scoprirli e valorizzarli?”
URL:https://saluspace.eu/event/il-pranzo-di-babette/
ATTACH;FMTTYPE=image/jpeg:https://saluspace.eu/wp-content/uploads/2021/06/babette.jpg
END:VEVENT
END:VCALENDAR