BEGIN:VCALENDAR
VERSION:2.0
PRODID:-//Saluspace 2.0 - ECPv6.15.20//NONSGML v1.0//EN
CALSCALE:GREGORIAN
METHOD:PUBLISH
X-ORIGINAL-URL:https://saluspace.eu
X-WR-CALDESC:Eventi per Saluspace 2.0
REFRESH-INTERVAL;VALUE=DURATION:PT1H
X-Robots-Tag:noindex
X-PUBLISHED-TTL:PT1H
BEGIN:VTIMEZONE
TZID:UTC
BEGIN:STANDARD
TZOFFSETFROM:+0000
TZOFFSETTO:+0000
TZNAME:UTC
DTSTART:20200101T000000
END:STANDARD
END:VTIMEZONE
BEGIN:VEVENT
DTSTART;TZID=UTC:20211117T150000
DTEND;TZID=UTC:20211117T180000
DTSTAMP:20260422T153716
CREATED:20211117T134507Z
LAST-MODIFIED:20211117T134507Z
UID:1930-1637161200-1637172000@saluspace.eu
SUMMARY:Vi va di ballare insieme?
DESCRIPTION:A Salus Space tre delle tappe dei laboratori gratuiti di danza con Simona Bertozzi e Daniele Ninarello! Sono aperti a qualsiasi età\, fisicità e abilità\, e non è richiesta nessuna esperienza di danza. I posti sono limitati e bisogna prenotare. \nLe date e gli orari a Salus: 17 e 30 novembre\, 15 dicembre; dalle 15 alle 18. \nInfo e iscrizioni: https://bit.ly/3wwKrov • laboratori@genderbender.it \nI workshop i fanno parte di Performing Gender – Dancing In Your Shoes\, a cura di Cassero Lgbti+ Center / Gender Bender International Festival\, Alma Mater Studiorum – Università di Bologna
URL:https://saluspace.eu/event/vi-va-di-ballare-insieme/
LOCATION:Salus Space\, via Malvezza 2/2\, Bologna
ATTACH;FMTTYPE=image/jpeg:https://saluspace.eu/wp-content/uploads/2021/11/ballare-1.jpg
END:VEVENT
BEGIN:VEVENT
DTSTART;TZID=UTC:20211130T150000
DTEND;TZID=UTC:20211130T180000
DTSTAMP:20260422T153716
CREATED:20211117T134707Z
LAST-MODIFIED:20211117T134707Z
UID:1934-1638284400-1638295200@saluspace.eu
SUMMARY:Vi va di ballare insieme?
DESCRIPTION:A Salus Space tre delle tappe dei laboratori gratuiti di danza con Simona Bertozzi e Daniele Ninarello! Sono aperti a qualsiasi età\, fisicità e abilità\, e non è richiesta nessuna esperienza di danza. I posti sono limitati e bisogna prenotare. \nLe date e gli orari a Salus: 17 e 30 novembre\, 15 dicembre; dalle 15 alle 18. \nInfo e iscrizioni: https://bit.ly/3wwKrov • laboratori@genderbender.it \nI workshop i fanno parte di Performing Gender – Dancing In Your Shoes\, a cura di Cassero Lgbti+ Center / Gender Bender International Festival\, Alma Mater Studiorum – Università di Bologna
URL:https://saluspace.eu/event/vi-va-di-ballare-insieme-2/
LOCATION:Salus Space\, via Malvezza 2/2\, Bologna
ATTACH;FMTTYPE=image/jpeg:https://saluspace.eu/wp-content/uploads/2021/11/ballare-1.jpg
END:VEVENT
END:VCALENDAR