BEGIN:VCALENDAR
VERSION:2.0
PRODID:-//Saluspace 2.0 - ECPv6.15.20//NONSGML v1.0//EN
CALSCALE:GREGORIAN
METHOD:PUBLISH
X-ORIGINAL-URL:https://saluspace.eu
X-WR-CALDESC:Eventi per Saluspace 2.0
REFRESH-INTERVAL;VALUE=DURATION:PT1H
X-Robots-Tag:noindex
X-PUBLISHED-TTL:PT1H
BEGIN:VTIMEZONE
TZID:UTC
BEGIN:STANDARD
TZOFFSETFROM:+0000
TZOFFSETTO:+0000
TZNAME:UTC
DTSTART:20220101T000000
END:STANDARD
END:VTIMEZONE
BEGIN:VEVENT
DTSTART;TZID=UTC:20231111T110000
DTEND;TZID=UTC:20231111T133000
DTSTAMP:20260420T223632
CREATED:20231030T074652Z
LAST-MODIFIED:20231030T074652Z
UID:4782-1699700400-1699709400@saluspace.eu
SUMMARY:Citalo Calvino
DESCRIPTION:Grande gioco all’insegna della creatività\, sabato 11 novembre\, aperto a tutte e tutti! e gratuito… Citalo Calvino ci farà divertire insieme\, giochi narrativi\, giochi di interpretazione delle immagini\, cacce al tesoro di dettagli pittorici\, giochi di mimo a indovinare citazioni e giochi di disegno a indovinare le immagini… Dalle ore 11 alle ore 13\, per adulti e bambini! A Salus Space\, ne La Luna\, vicino alla Locanda. \nLa sfida si svolgerà su un campo di gioco quadrato\, una sorta di coloratissimo pavimento/tabellone di 10 metri per 10\, composto da una scacchiera di decine di immagini che l’artista iraniana Sara Pour ha realizzato ispirandosi agli indimenticabili personaggi tratti da “Il visconte dimezzato”\, “Il barone rampante” e “Il cavaliere inesistente”. \nMa possiamo divertirci anche senza aver letto Calvino! \nPer godersi i giochi non è necessario che si siano lette le opere di Calvino\, perché il gioco si basa soprattutto sulle immagini della scacchiera\, ma anche perché le citazioni scelte sono evocative anche senza conoscere il contesto o il personaggio di riferimento… \nLa prenotazione per il laboratorio gratuito Citalo Calvino dell’11 novembre è gradita a info@saluspace.eu
URL:https://saluspace.eu/event/citalo-calvino/
LOCATION:Salus Space\, via Malvezza 2/2\, Bologna
END:VEVENT
END:VCALENDAR