BEGIN:VCALENDAR
VERSION:2.0
PRODID:-//Saluspace 2.0 - ECPv6.15.20//NONSGML v1.0//EN
CALSCALE:GREGORIAN
METHOD:PUBLISH
X-WR-CALNAME:Saluspace 2.0
X-ORIGINAL-URL:https://saluspace.eu
X-WR-CALDESC:Eventi per Saluspace 2.0
REFRESH-INTERVAL;VALUE=DURATION:PT1H
X-Robots-Tag:noindex
X-PUBLISHED-TTL:PT1H
BEGIN:VTIMEZONE
TZID:UTC
BEGIN:STANDARD
TZOFFSETFROM:+0000
TZOFFSETTO:+0000
TZNAME:UTC
DTSTART:20200101T000000
END:STANDARD
END:VTIMEZONE
BEGIN:VEVENT
DTSTART;TZID=UTC:20211202T193000
DTEND;TZID=UTC:20211202T213000
DTSTAMP:20260422T105322
CREATED:20211221T084913Z
LAST-MODIFIED:20211221T084913Z
UID:2095-1638473400-1638480600@saluspace.eu
SUMMARY:Laboratorio teatrale QT
DESCRIPTION:Quartiere Teatrale Salus Space è una tappa dell’avventura del Quartiere Teatrale organizzato da Cantieri Meticci. \nIl Quartiere è un percorso di creazione collettiva in cui si mescolano arti performative\, drammaturgia e sperimentazione musicale: l’obiettivo è quello di fornire a tutti i partecipanti mezzi e linguaggi per esprimersi e confrontarsi creativamente – come individui ma soprattutto come collettivo – intorno alle tematiche più importanti del nostro presente.\nIl laboratorio è aperto a tutti\, non servono esperienze pregresse ed è possibile partecipare gratuitamente alla prima lezione di prova!\n\nQT Salus Space\ndal 4 novembre\, tutti i giovedì dalle 19.30 alle 21.30\, via Malvezza 2/2 Bologna – Quartiere Savena\nper info e iscrizioni: formazione@cantierimeticci.it – 328.6145699\nè possibile anche iscriversi online sul sito dei Cantieri Meticci
URL:https://saluspace.eu/event/laboratorio-teatrale-qt-4/
LOCATION:Salus Space\, via Malvezza 2/2\, Bologna
ATTACH;FMTTYPE=image/jpeg:https://saluspace.eu/wp-content/uploads/2021/10/quartieri-teatrali1.jpg
END:VEVENT
BEGIN:VEVENT
DTSTART;TZID=UTC:20211209T193000
DTEND;TZID=UTC:20211209T213000
DTSTAMP:20260422T105322
CREATED:20211221T085143Z
LAST-MODIFIED:20211221T085143Z
UID:2097-1639078200-1639085400@saluspace.eu
SUMMARY:Laboratorio teatrale QT
DESCRIPTION:Quartiere Teatrale Salus Space è una tappa dell’avventura del Quartiere Teatrale organizzato da Cantieri Meticci. \nIl Quartiere è un percorso di creazione collettiva in cui si mescolano arti performative\, drammaturgia e sperimentazione musicale: l’obiettivo è quello di fornire a tutti i partecipanti mezzi e linguaggi per esprimersi e confrontarsi creativamente – come individui ma soprattutto come collettivo – intorno alle tematiche più importanti del nostro presente.\nIl laboratorio è aperto a tutti\, non servono esperienze pregresse ed è possibile partecipare gratuitamente alla prima lezione di prova!\n\nQT Salus Space\ndal 4 novembre\, tutti i giovedì dalle 19.30 alle 21.30\, via Malvezza 2/2 Bologna – Quartiere Savena\nper info e iscrizioni: formazione@cantierimeticci.it – 328.6145699\nè possibile anche iscriversi online sul sito dei Cantieri Meticci
URL:https://saluspace.eu/event/laboratorio-teatrale-qt-5/
LOCATION:Salus Space\, via Malvezza 2/2\, Bologna
ATTACH;FMTTYPE=image/jpeg:https://saluspace.eu/wp-content/uploads/2021/10/quartieri-teatrali1.jpg
END:VEVENT
BEGIN:VEVENT
DTSTART;TZID=UTC:20211216T193000
DTEND;TZID=UTC:20211216T213000
DTSTAMP:20260422T105322
CREATED:20211221T085349Z
LAST-MODIFIED:20211221T085349Z
UID:2099-1639683000-1639690200@saluspace.eu
SUMMARY:Laboratorio teatrale QT
DESCRIPTION:Quartiere Teatrale Salus Space è una tappa dell’avventura del Quartiere Teatrale organizzato da Cantieri Meticci. \nIl Quartiere è un percorso di creazione collettiva in cui si mescolano arti performative\, drammaturgia e sperimentazione musicale: l’obiettivo è quello di fornire a tutti i partecipanti mezzi e linguaggi per esprimersi e confrontarsi creativamente – come individui ma soprattutto come collettivo – intorno alle tematiche più importanti del nostro presente.\nIl laboratorio è aperto a tutti\, non servono esperienze pregresse ed è possibile partecipare gratuitamente alla prima lezione di prova!\n\nQT Salus Space\ndal 4 novembre\, tutti i giovedì dalle 19.30 alle 21.30\, via Malvezza 2/2 Bologna – Quartiere Savena\nper info e iscrizioni: formazione@cantierimeticci.it – 328.6145699\nè possibile anche iscriversi online sul sito dei Cantieri Meticci
URL:https://saluspace.eu/event/laboratorio-teatrale-qt-6/
LOCATION:Salus Space\, via Malvezza 2/2\, Bologna
ATTACH;FMTTYPE=image/jpeg:https://saluspace.eu/wp-content/uploads/2021/10/quartieri-teatrali1.jpg
END:VEVENT
BEGIN:VEVENT
DTSTART;TZID=UTC:20211230T193000
DTEND;TZID=UTC:20211230T213000
DTSTAMP:20260422T105322
CREATED:20211221T085605Z
LAST-MODIFIED:20211221T085605Z
UID:2101-1640892600-1640899800@saluspace.eu
SUMMARY:Laboratorio teatrale QT
DESCRIPTION:Quartiere Teatrale Salus Space è una tappa dell’avventura del Quartiere Teatrale organizzato da Cantieri Meticci. \nIl Quartiere è un percorso di creazione collettiva in cui si mescolano arti performative\, drammaturgia e sperimentazione musicale: l’obiettivo è quello di fornire a tutti i partecipanti mezzi e linguaggi per esprimersi e confrontarsi creativamente – come individui ma soprattutto come collettivo – intorno alle tematiche più importanti del nostro presente.\nIl laboratorio è aperto a tutti\, non servono esperienze pregresse ed è possibile partecipare gratuitamente alla prima lezione di prova!\n\nQT Salus Space\ndal 4 novembre\, tutti i giovedì dalle 19.30 alle 21.30\, via Malvezza 2/2 Bologna – Quartiere Savena\nper info e iscrizioni: formazione@cantierimeticci.it – 328.6145699\nè possibile anche iscriversi online sul sito dei Cantieri Meticci
URL:https://saluspace.eu/event/laboratorio-teatrale-qt-7/
LOCATION:Salus Space\, via Malvezza 2/2\, Bologna
ATTACH;FMTTYPE=image/jpeg:https://saluspace.eu/wp-content/uploads/2021/10/quartieri-teatrali1.jpg
END:VEVENT
END:VCALENDAR