BEGIN:VCALENDAR
VERSION:2.0
PRODID:-//Saluspace 2.0 - ECPv6.15.20//NONSGML v1.0//EN
CALSCALE:GREGORIAN
METHOD:PUBLISH
X-ORIGINAL-URL:https://saluspace.eu
X-WR-CALDESC:Eventi per Saluspace 2.0
REFRESH-INTERVAL;VALUE=DURATION:PT1H
X-Robots-Tag:noindex
X-PUBLISHED-TTL:PT1H
BEGIN:VTIMEZONE
TZID:UTC
BEGIN:STANDARD
TZOFFSETFROM:+0000
TZOFFSETTO:+0000
TZNAME:UTC
DTSTART:20200101T000000
END:STANDARD
END:VTIMEZONE
BEGIN:VEVENT
DTSTART;TZID=UTC:20211204T083000
DTEND;TZID=UTC:20211204T130000
DTSTAMP:20260420T205524
CREATED:20211026T125352Z
LAST-MODIFIED:20211026T125352Z
UID:1885-1638606600-1638622800@saluspace.eu
SUMMARY:Mercato Contadino
DESCRIPTION:Ogni sabato mattina\, dalle 8.30 alle 13\, al Mercato Contadino di Salus Space si trovano ortaggi\, frutta\, formaggio\, pane e uova\, ma anche prodotti artigianali. Un’offerta di qualità negli ampi spazi aperti di via Malvezza 2/2\, a Bologna. \nDal 9 ottobre\, ogni 15 giorni\, si tiene il Riciclattolo! -mercato di scambio giocattoli e vestiti\, per i bambini (prenotarsi alla mail mercato@saluspace.eu). \nIn alternanza al Riciclattolo\, ogni 15 giorni\, a partire dalle ore 11\, si tengono i laboratori per i bambini curati dai Cantieri Meticci.\nSono intesi come momenti di condivisione di un’esperienza creativa attraverso la lettura di storie\, di giochi teatrali e la costruzione di piccoli oggetti scenici.\nLa partecipazione è aperta e libera\, per permettere alle famiglie che non conoscono l’attività di unirsi ad essa in qualsiasi momento nell’arco della mattinata. Anche i più piccoli possono partecipare\, con l’aiuto e la supervisione dei genitori. \nA Salus Space il sabato è aperta la Locanda\, dove si possono assaggiare i piatti della cucina siriana di Habib e Shaza. \n\nMa la Locanda è aperta anche a pranzo e a cena tutti gli altri giorni dal martedì al sabato.\nPer informazioni e prenotazioni: locanda@saluspace.eu\nQui il menù
URL:https://saluspace.eu/event/mercato-contadino-20/
LOCATION:Salus Space\, via Malvezza 2/2\, Bologna
ATTACH;FMTTYPE=image/jpeg:https://saluspace.eu/wp-content/uploads/2021/09/mercato-1.jpg
END:VEVENT
BEGIN:VEVENT
DTSTART;TZID=UTC:20211218T083000
DTEND;TZID=UTC:20211218T130000
DTSTAMP:20260420T205524
CREATED:20211213T160147Z
LAST-MODIFIED:20211213T160147Z
UID:2043-1639816200-1639832400@saluspace.eu
SUMMARY:Mercato Contadino
DESCRIPTION:Ogni sabato mattina\, dalle 8.30 alle 13\, al Mercato Contadino di Salus Space si trovano ortaggi\, frutta\, formaggio\, pane e uova\, ma anche prodotti artigianali. Un’offerta di qualità negli ampi spazi aperti di via Malvezza 2/2\, a Bologna. \nDal 9 ottobre\, ogni 15 giorni\, si tiene il Riciclattolo! -mercato di scambio giocattoli e vestiti\, per i bambini (prenotarsi alla mail mercato@saluspace.eu). \nIn alternanza al Riciclattolo\, ogni 15 giorni\, a partire dalle ore 11\, si tengono i laboratori per i bambini curati dai Cantieri Meticci.\nSono intesi come momenti di condivisione di un’esperienza creativa attraverso la lettura di storie\, di giochi teatrali e la costruzione di piccoli oggetti scenici.\nLa partecipazione è aperta e libera\, per permettere alle famiglie che non conoscono l’attività di unirsi ad essa in qualsiasi momento nell’arco della mattinata. Anche i più piccoli possono partecipare\, con l’aiuto e la supervisione dei genitori. \nA Salus Space il sabato è aperta la Locanda\, dove si possono assaggiare i piatti della cucina siriana di Habib e Shaza. \n\nMa la Locanda è aperta anche a pranzo e a cena tutti gli altri giorni dal martedì al sabato.\nPer informazioni e prenotazioni: locanda@saluspace.eu\nQui il menù
URL:https://saluspace.eu/event/mercato-contadino-22/
LOCATION:Salus Space\, via Malvezza 2/2\, Bologna
ATTACH;FMTTYPE=image/jpeg:https://saluspace.eu/wp-content/uploads/2021/09/mercato-1.jpg
END:VEVENT
END:VCALENDAR