BEGIN:VCALENDAR
VERSION:2.0
PRODID:-//Saluspace 2.0 - ECPv6.15.20//NONSGML v1.0//EN
CALSCALE:GREGORIAN
METHOD:PUBLISH
X-WR-CALNAME:Saluspace 2.0
X-ORIGINAL-URL:https://saluspace.eu
X-WR-CALDESC:Eventi per Saluspace 2.0
REFRESH-INTERVAL;VALUE=DURATION:PT1H
X-Robots-Tag:noindex
X-PUBLISHED-TTL:PT1H
BEGIN:VTIMEZONE
TZID:UTC
BEGIN:STANDARD
TZOFFSETFROM:+0000
TZOFFSETTO:+0000
TZNAME:UTC
DTSTART:20210101T000000
END:STANDARD
END:VTIMEZONE
BEGIN:VEVENT
DTSTART;TZID=UTC:20220205T083000
DTEND;TZID=UTC:20220205T130000
DTSTAMP:20260420T174834
CREATED:20211221T110842Z
LAST-MODIFIED:20211221T110900Z
UID:2128-1644049800-1644066000@saluspace.eu
SUMMARY:Mercato Contadino
DESCRIPTION:Ogni sabato mattina\, dalle 8.30 alle 13\, al Mercato Contadino di Salus Space si trovano ortaggi\, frutta\, formaggio\, pane e uova\, ma anche prodotti artigianali. \nUn’offerta di qualità negli ampi spazi aperti di via Malvezza 2/2\, a Bologna. \nDa febbraio la Locanda e l’Emporio sono aperti nelle ore di mercato. \nLa Locanda propone i deliziosi piatti della cucina siriana\, qui trovi il menù e gli orari di apertura. \nL’Emporio dello sfuso mette a disposizione di tutta la città prodotti alimentari e artigianali del territorio. Si trovano farine\, pasta\, vino\, birre artigianali\, miele e altro ancora\, il tutto selezionato con grande attenzione alla qualità.\nTrovate inoltre oggetti per la tavola e non solo in vetro di recupero \n 
URL:https://saluspace.eu/event/mercato-contadino-27/
LOCATION:Salus Space\, via Malvezza 2/2\, Bologna
ATTACH;FMTTYPE=image/jpeg:https://saluspace.eu/wp-content/uploads/2021/09/mercato-1.jpg
END:VEVENT
BEGIN:VEVENT
DTSTART;TZID=UTC:20220212T083000
DTEND;TZID=UTC:20220212T130000
DTSTAMP:20260420T174834
CREATED:20211221T111203Z
LAST-MODIFIED:20211221T111203Z
UID:2131-1644654600-1644670800@saluspace.eu
SUMMARY:Mercato Contadino
DESCRIPTION:Ogni sabato mattina\, dalle 8.30 alle 13\, al Mercato Contadino di Salus Space si trovano ortaggi\, frutta\, formaggio\, pane e uova\, ma anche prodotti artigianali. \nUn’offerta di qualità negli ampi spazi aperti di via Malvezza 2/2\, a Bologna. \nDa febbraio la Locanda e l’Emporio sono aperti nelle ore di mercato. \nLa Locanda propone i deliziosi piatti della cucina siriana\, qui trovi il menù e gli orari di apertura. \nL’Emporio dello sfuso mette a disposizione di tutta la città prodotti alimentari e artigianali del territorio. Si trovano farine\, pasta\, vino\, birre artigianali\, miele e altro ancora\, il tutto selezionato con grande attenzione alla qualità.\nTrovate inoltre oggetti per la tavola e non solo in vetro di recupero
URL:https://saluspace.eu/event/mercato-contadino-28/
LOCATION:Salus Space\, via Malvezza 2/2\, Bologna
ATTACH;FMTTYPE=image/jpeg:https://saluspace.eu/wp-content/uploads/2021/09/mercato-1.jpg
END:VEVENT
BEGIN:VEVENT
DTSTART;TZID=UTC:20220219T083000
DTEND;TZID=UTC:20220219T130000
DTSTAMP:20260420T174834
CREATED:20211221T111549Z
LAST-MODIFIED:20211221T111810Z
UID:2135-1645259400-1645275600@saluspace.eu
SUMMARY:Mercato Contadino
DESCRIPTION:Ogni sabato mattina\, dalle 8.30 alle 13\, al Mercato Contadino di Salus Space si trovano ortaggi\, frutta\, formaggio\, pane e uova\, ma anche prodotti artigianali. \nUn’offerta di qualità negli ampi spazi aperti di via Malvezza 2/2\, a Bologna. \nDa febbraio la Locanda e l’Emporio sono aperti nelle ore di mercato. \nLa Locanda propone i deliziosi piatti della cucina siriana\, qui trovi il menù e gli orari di apertura. \nL’Emporio dello sfuso mette a disposizione di tutta la città prodotti alimentari e artigianali del territorio. Si trovano farine\, pasta\, vino\, birre artigianali\, miele e altro ancora\, il tutto selezionato con grande attenzione alla qualità.\nTrovate inoltre oggetti per la tavola e non solo in vetro di recupero
URL:https://saluspace.eu/event/mercato-contadino-29/
LOCATION:Salus Space\, via Malvezza 2/2\, Bologna
ATTACH;FMTTYPE=image/jpeg:https://saluspace.eu/wp-content/uploads/2021/09/mercato-1.jpg
END:VEVENT
BEGIN:VEVENT
DTSTART;TZID=UTC:20220222T080000
DTEND;TZID=UTC:20220222T170000
DTSTAMP:20260420T174834
CREATED:20220222T112238Z
LAST-MODIFIED:20220222T112238Z
UID:2355-1645516800-1645549200@saluspace.eu
SUMMARY:Mercato Contadino
DESCRIPTION:Ogni sabato mattina\, dalle 8.30 alle 13\, al Mercato Contadino di Salus Space si trovano ortaggi\, frutta\, formaggio\, pane e uova\, ma anche prodotti artigianali. \nUn’offerta di qualità negli ampi spazi aperti di via Malvezza 2/2\, a Bologna. \nDa febbraio la Locanda e l’Emporio sono aperti nelle ore di mercato. \nLa Locanda propone i deliziosi piatti della cucina siriana\, qui trovi il menù e gli orari di apertura. \nL’Emporio dello sfuso mette a disposizione di tutta la città prodotti alimentari e artigianali del territorio. Si trovano farine\, pasta\, vino\, birre artigianali\, miele e altro ancora\, il tutto selezionato con grande attenzione alla qualità.\nTrovate inoltre oggetti per la tavola e non solo in vetro di recupero
URL:https://saluspace.eu/event/mercato-contadino-33/
LOCATION:Salus Space\, via Malvezza 2/2\, Bologna
ATTACH;FMTTYPE=image/jpeg:https://saluspace.eu/wp-content/uploads/2022/02/mercato-1.jpg
END:VEVENT
BEGIN:VEVENT
DTSTART;TZID=UTC:20220226T083000
DTEND;TZID=UTC:20220226T130000
DTSTAMP:20260420T174834
CREATED:20211221T111730Z
LAST-MODIFIED:20211221T111730Z
UID:2137-1645864200-1645880400@saluspace.eu
SUMMARY:Mercato Contadino
DESCRIPTION:Ogni sabato mattina\, dalle 8.30 alle 13\, al Mercato Contadino di Salus Space si trovano ortaggi\, frutta\, formaggio\, pane e uova\, ma anche prodotti artigianali. \nUn’offerta di qualità negli ampi spazi aperti di via Malvezza 2/2\, a Bologna. \nDa febbraio la Locanda e l’Emporio sono aperti nelle ore di mercato. \nLa Locanda propone i deliziosi piatti della cucina siriana\, qui trovi il menù e gli orari di apertura. \nL’Emporio dello sfuso mette a disposizione di tutta la città prodotti alimentari e artigianali del territorio. Si trovano farine\, pasta\, vino\, birre artigianali\, miele e altro ancora\, il tutto selezionato con grande attenzione alla qualità.\nTrovate inoltre oggetti per la tavola e non solo in vetro di recupero
URL:https://saluspace.eu/event/mercato-contadino-30/
LOCATION:Salus Space\, via Malvezza 2/2\, Bologna
ATTACH;FMTTYPE=image/jpeg:https://saluspace.eu/wp-content/uploads/2021/09/mercato-1.jpg
END:VEVENT
END:VCALENDAR