BEGIN:VCALENDAR
VERSION:2.0
PRODID:-//Saluspace 2.0 - ECPv6.15.20//NONSGML v1.0//EN
CALSCALE:GREGORIAN
METHOD:PUBLISH
X-WR-CALNAME:Saluspace 2.0
X-ORIGINAL-URL:https://saluspace.eu
X-WR-CALDESC:Eventi per Saluspace 2.0
REFRESH-INTERVAL;VALUE=DURATION:PT1H
X-Robots-Tag:noindex
X-PUBLISHED-TTL:PT1H
BEGIN:VTIMEZONE
TZID:UTC
BEGIN:STANDARD
TZOFFSETFROM:+0000
TZOFFSETTO:+0000
TZNAME:UTC
DTSTART:20210101T000000
END:STANDARD
END:VTIMEZONE
BEGIN:VEVENT
DTSTART;TZID=UTC:20220305T083000
DTEND;TZID=UTC:20220305T130000
DTSTAMP:20260420T161825
CREATED:20211221T112010Z
LAST-MODIFIED:20211221T112010Z
UID:2139-1646469000-1646485200@saluspace.eu
SUMMARY:Mercato Contadino
DESCRIPTION:Ogni sabato mattina\, dalle 8.30 alle 13\, al Mercato Contadino di Salus Space si trovano ortaggi\, frutta\, formaggio\, pane e uova\, ma anche prodotti artigianali. \nUn’offerta di qualità negli ampi spazi aperti di via Malvezza 2/2\, a Bologna. \nDa febbraio la Locanda e l’Emporio sono aperti nelle ore di mercato. \nLa Locanda propone i deliziosi piatti della cucina siriana\, qui trovi il menù e gli orari di apertura. \nL’Emporio dello sfuso mette a disposizione di tutta la città prodotti alimentari e artigianali del territorio. Si trovano farine\, pasta\, vino\, birre artigianali\, miele e altro ancora\, il tutto selezionato con grande attenzione alla qualità.\nTrovate inoltre oggetti per la tavola e non solo in vetro di recupero
URL:https://saluspace.eu/event/mercato-contadino-31/
LOCATION:Salus Space\, via Malvezza 2/2\, Bologna
ATTACH;FMTTYPE=image/jpeg:https://saluspace.eu/wp-content/uploads/2021/09/mercato-1.jpg
END:VEVENT
BEGIN:VEVENT
DTSTART;TZID=UTC:20220312T083000
DTEND;TZID=UTC:20220312T130000
DTSTAMP:20260420T161825
CREATED:20220222T111647Z
LAST-MODIFIED:20220222T111923Z
UID:2350-1647073800-1647090000@saluspace.eu
SUMMARY:Mercato Contadino
DESCRIPTION:Ogni sabato mattina\, dalle 8.30 alle 13\, al Mercato Contadino di Salus Space si trovano ortaggi\, frutta\, formaggio\, pane e uova\, ma anche prodotti artigianali. \nUn’offerta di qualità negli ampi spazi aperti di via Malvezza 2/2\, a Bologna. \nDa febbraio la Locanda e l’Emporio sono aperti nelle ore di mercato. \nLa Locanda propone i deliziosi piatti della cucina siriana\, qui trovi il menù e gli orari di apertura. \nL’Emporio dello sfuso mette a disposizione di tutta la città prodotti alimentari e artigianali del territorio. Si trovano farine\, pasta\, vino\, birre artigianali\, miele e altro ancora\, il tutto selezionato con grande attenzione alla qualità.\nTrovate inoltre oggetti per la tavola e non solo in vetro di recupero
URL:https://saluspace.eu/event/mercato-contadino-26/
LOCATION:Salus Space\, via Malvezza 2/2\, Bologna
ATTACH;FMTTYPE=image/jpeg:https://saluspace.eu/wp-content/uploads/2022/02/mercato-1.jpg
END:VEVENT
BEGIN:VEVENT
DTSTART;TZID=UTC:20220319T083000
DTEND;TZID=UTC:20220319T130000
DTSTAMP:20260420T161825
CREATED:20220222T112109Z
LAST-MODIFIED:20220222T112109Z
UID:2353-1647678600-1647694800@saluspace.eu
SUMMARY:Mercato Contadino
DESCRIPTION:Ogni sabato mattina\, dalle 8.30 alle 13\, al Mercato Contadino di Salus Space si trovano ortaggi\, frutta\, formaggio\, pane e uova\, ma anche prodotti artigianali. \nUn’offerta di qualità negli ampi spazi aperti di via Malvezza 2/2\, a Bologna. \nDa febbraio la Locanda e l’Emporio sono aperti nelle ore di mercato. \nLa Locanda propone i deliziosi piatti della cucina siriana\, qui trovi il menù e gli orari di apertura. \nL’Emporio dello sfuso mette a disposizione di tutta la città prodotti alimentari e artigianali del territorio. Si trovano farine\, pasta\, vino\, birre artigianali\, miele e altro ancora\, il tutto selezionato con grande attenzione alla qualità.\nTrovate inoltre oggetti per la tavola e non solo in vetro di recupero
URL:https://saluspace.eu/event/mercato-contadino-32/
LOCATION:Salus Space\, via Malvezza 2/2\, Bologna
ATTACH;FMTTYPE=image/jpeg:https://saluspace.eu/wp-content/uploads/2022/02/mercato-1.jpg
END:VEVENT
BEGIN:VEVENT
DTSTART;TZID=UTC:20220326T083000
DTEND;TZID=UTC:20220326T130000
DTSTAMP:20260420T161825
CREATED:20220222T112501Z
LAST-MODIFIED:20220222T112501Z
UID:2357-1648283400-1648299600@saluspace.eu
SUMMARY:Mercato Contadino
DESCRIPTION:Ogni sabato mattina\, dalle 8.30 alle 13\, al Mercato Contadino di Salus Space si trovano ortaggi\, frutta\, formaggio\, pane e uova\, ma anche prodotti artigianali. \nUn’offerta di qualità negli ampi spazi aperti di via Malvezza 2/2\, a Bologna. \nDa febbraio la Locanda e l’Emporio sono aperti nelle ore di mercato. \nLa Locanda propone i deliziosi piatti della cucina siriana\, qui trovi il menù e gli orari di apertura. \nL’Emporio dello sfuso mette a disposizione di tutta la città prodotti alimentari e artigianali del territorio. Si trovano farine\, pasta\, vino\, birre artigianali\, miele e altro ancora\, il tutto selezionato con grande attenzione alla qualità.\nTrovate inoltre oggetti per la tavola e non solo in vetro di recupero
URL:https://saluspace.eu/event/mercato-contadino-34/
LOCATION:Salus Space\, via Malvezza 2/2\, Bologna
ATTACH;FMTTYPE=image/jpeg:https://saluspace.eu/wp-content/uploads/2022/02/mercato-1.jpg
END:VEVENT
END:VCALENDAR