BEGIN:VCALENDAR
VERSION:2.0
PRODID:-//Saluspace 2.0 - ECPv6.15.20//NONSGML v1.0//EN
CALSCALE:GREGORIAN
METHOD:PUBLISH
X-ORIGINAL-URL:https://saluspace.eu
X-WR-CALDESC:Eventi per Saluspace 2.0
REFRESH-INTERVAL;VALUE=DURATION:PT1H
X-Robots-Tag:noindex
X-PUBLISHED-TTL:PT1H
BEGIN:VTIMEZONE
TZID:UTC
BEGIN:STANDARD
TZOFFSETFROM:+0000
TZOFFSETTO:+0000
TZNAME:UTC
DTSTART:20210101T000000
END:STANDARD
END:VTIMEZONE
BEGIN:VEVENT
DTSTART;TZID=UTC:20220528T180000
DTEND;TZID=UTC:20220528T230000
DTSTAMP:20260420T034318
CREATED:20220516T135647Z
LAST-MODIFIED:20220516T135647Z
UID:2874-1653760800-1653778800@saluspace.eu
SUMMARY:China Night!
DESCRIPTION:Sabato 28 maggio puoi trovare musica dal vivo a entrata libera anche in serata: dalle ore 18.30 China Night!\nComincia Ilenia Fu Al Guzheng\, alle 20 Ensemble du Sud\nCena alla Locanda siriana di Salus con menù fisso a 18 euro bevanda inclusa. \nPrenotazioni a: locanda@saluspace.eu
URL:https://saluspace.eu/event/china-night/
LOCATION:Salus Space\, via Malvezza 2/2\, Bologna
ATTACH;FMTTYPE=image/jpeg:https://saluspace.eu/wp-content/uploads/2022/05/cina2.jpg
END:VEVENT
END:VCALENDAR