BEGIN:VCALENDAR
VERSION:2.0
PRODID:-//Saluspace 2.0 - ECPv6.15.20//NONSGML v1.0//EN
CALSCALE:GREGORIAN
METHOD:PUBLISH
X-WR-CALNAME:Saluspace 2.0
X-ORIGINAL-URL:https://saluspace.eu
X-WR-CALDESC:Eventi per Saluspace 2.0
REFRESH-INTERVAL;VALUE=DURATION:PT1H
X-Robots-Tag:noindex
X-PUBLISHED-TTL:PT1H
BEGIN:VTIMEZONE
TZID:UTC
BEGIN:STANDARD
TZOFFSETFROM:+0000
TZOFFSETTO:+0000
TZNAME:UTC
DTSTART:20210101T000000
END:STANDARD
END:VTIMEZONE
BEGIN:VEVENT
DTSTART;TZID=UTC:20220507T003000
DTEND;TZID=UTC:20220507T130000
DTSTAMP:20260419T190234
CREATED:20220413T100405Z
LAST-MODIFIED:20220422T073555Z
UID:2726-1651883400-1651928400@saluspace.eu
SUMMARY:TaiPaz vs Poteriforti
DESCRIPTION:Sabato 7 maggio appuntamento alle ore 12 con  TaiPaz vs Poteriforti. \nRitmi e testi originali e trasversali ispirati dai viaggi in dentro e in fuori\, in lungo e in largo\, per smuovere l’animo e il bacino in una chiave danzereccia e ironica\, senza rinunciare a una buona dose di saudade sognante.\nTaipaz (basso e voce) suona con i Poteri Forti\, oligarchi ed oligarchesse del suono di qualità:\nLorenzo Brighi: chitarra elettrica\nDiana Parva Cruz: Batteria\nAnna Corazza: cori \nCome sempre tutt* sono benvenut* \, a partire dal mattino alle 8.30 quando prende il via il mercato contadino\, che chiude alle 13 circa. La musica arriva alle 12\, l’ingresso è gratuito.\nAd accogliere chi viene a trovarci\, il bar e la locanda siriana.
URL:https://saluspace.eu/event/taipaz-vs-poteriforti/
LOCATION:Salus Space\, via Malvezza 2/2\, Bologna
END:VEVENT
BEGIN:VEVENT
DTSTART;TZID=UTC:20220514T000000
DTEND;TZID=UTC:20220514T130000
DTSTAMP:20260419T190234
CREATED:20220413T101457Z
LAST-MODIFIED:20220413T101457Z
UID:2730-1652486400-1652533200@saluspace.eu
SUMMARY:Semplice Complesso Acustico e paranza sociale
DESCRIPTION:Sabato 14 maggio\, alle ore 12\, due gruppi musicali che vi coinvolgeranno! \nSemplice Complesso Acustico\n \n \nE’ un gruppo acustico costituito da tre amici\, che suonano insieme da lungo tempo\, accomunati dalla passione per il folk americano e la musica country. La formazione è anomala\, con una chitarra (più voce)\, un banjo (più voce) e un sax basso al posto del basso elettrico\, che permette al trio di esibirsi come buskers.\nGuidoriccio Bonvicini (chitarra e voce)\, Massimo Evangelisti (banjo e voce)\, Andrea Scorzoni (sax basso) \nParanza sociale “Allargate il cerchio!”\nMusica inclusiva \nCome sempre tutt* sono benvenut* \, a partire dal mattino alle 8.30 quando prende il via il mercato contadino\, che chiude alle 13 circa. La musica arriva alle 12\, l’ingresso è gratuito.\nAd accogliere chi viene a trovarci\, il bar e la locanda siriana.
URL:https://saluspace.eu/event/semplice-complesso-acustico-e-paranza-sociale/
LOCATION:Salus Space\, via Malvezza 2/2\, Bologna
ATTACH;FMTTYPE=image/jpeg:https://saluspace.eu/wp-content/uploads/2022/04/paranza.jpg
END:VEVENT
BEGIN:VEVENT
DTSTART;TZID=UTC:20220521T000000
DTEND;TZID=UTC:20220521T130000
DTSTAMP:20260419T190234
CREATED:20220413T110156Z
LAST-MODIFIED:20220413T110156Z
UID:2735-1653091200-1653138000@saluspace.eu
SUMMARY:OmmiodDuo in Quartet
DESCRIPTION:Sabato 21 maggio\, alle ore 12\, torna la musica a Salus Space con OmmiodDuo in Quartet. \nCome sempre tutt* sono benvenut* \, a partire dal mattino alle 8.30 quando prende il via il mercato contadino\, che chiude alle 13 circa. La musica arriva alle 12\, l’ingresso è gratuito.\nAd accogliere chi viene a trovarci\, il bar e la locanda siriana. \n 
URL:https://saluspace.eu/event/ommiodduo-in-quartet/
LOCATION:Salus Space\, via Malvezza 2/2\, Bologna
END:VEVENT
BEGIN:VEVENT
DTSTART;TZID=UTC:20220528T000000
DTEND;TZID=UTC:20220528T130000
DTSTAMP:20260419T190234
CREATED:20220413T111105Z
LAST-MODIFIED:20220413T111105Z
UID:2737-1653696000-1653742800@saluspace.eu
SUMMARY:Danza africana con Careca Bangoura
DESCRIPTION:Sabato 28 maggio\, alle ore 12\, torna la danza tradizionale africana con Mohamed Careca Bangoura! \nOriginario della Guinea Conakry\, Mohamed ha uno stile energico e intriso di pura tradizione della Guinea. Cresce immerso nella musica e la sua formazione artistica professionale comincia molto presto. Conakry è la capitale dei grandi balletti\, dove gli artisti vengono plasmati attraverso una formazione dura e severa. Nel 2002\, è già coreografo dell “Balletto Folonko” che lo porta prima in Gambia e poi in Mali. Arriva in Francia dove viene immediatamente notato dal grande coreografo Moustapha Bangoura che lo vuole nel suo progetto “Ballet Wontanara”. Da allora Mohamed continua il suo percorso di ricerca artistica e tiene stage e corsi in tutta Europa. \nMohamed con percussionisti e ballerini/e  ha già portato la sua energia a Salus Space il 26 marzo. \nQui le immagini dello spettacolo. \nCome sempre tutt* sono benvenut* \, a partire dal mattino alle 8.30 quando prende il via il mercato contadino\, che chiude alle 13 circa. La musica arriva alle 12\, l’ingresso è gratuito.\nAd accogliere chi viene a trovarci\, il bar e la locanda siriana. \n 
URL:https://saluspace.eu/event/danza-africana-con-careca-bangoura/
LOCATION:Salus Space\, via Malvezza 2/2\, Bologna
ATTACH;FMTTYPE=image/jpeg:https://saluspace.eu/wp-content/uploads/2022/04/danza3.jpg
END:VEVENT
END:VCALENDAR