BEGIN:VCALENDAR
VERSION:2.0
PRODID:-//Saluspace 2.0 - ECPv6.15.20//NONSGML v1.0//EN
CALSCALE:GREGORIAN
METHOD:PUBLISH
X-ORIGINAL-URL:https://saluspace.eu
X-WR-CALDESC:Eventi per Saluspace 2.0
REFRESH-INTERVAL;VALUE=DURATION:PT1H
X-Robots-Tag:noindex
X-PUBLISHED-TTL:PT1H
BEGIN:VTIMEZONE
TZID:UTC
BEGIN:STANDARD
TZOFFSETFROM:+0000
TZOFFSETTO:+0000
TZNAME:UTC
DTSTART:20200101T000000
END:STANDARD
END:VTIMEZONE
BEGIN:VEVENT
DTSTART;TZID=UTC:20210928T200000
DTEND;TZID=UTC:20210928T230000
DTSTAMP:20260422T205808
CREATED:20210712T075440Z
LAST-MODIFIED:20210903T091209Z
UID:1431-1632859200-1632870000@saluspace.eu
SUMMARY:Serata Manai
DESCRIPTION:Una serata dedicata al pittore Piero Manai a 70 anni dalla sua morte\, in cui sarà presentato un libro\, curato da Galileo Dallolio e Emanuele Grieco\, a lui dedicato dal titolo “Piero Manai. Il Villaggio\, l’uomo\, l’artista”.\nSi terrà all’interno del Forum di Salus Space\, martedì 28 settembre 2021\, dalle ore 20 fino alle 23\, grazie all’organizzazione di uno degli animatori dell’Angolo della storia di Salus e autore del libro\, Emanuele Grieco. \nManai nacque a Bologna nel 1951\, cominciò il suo percorso artistico giovanissimo\, alla fine degli anni ’70. Morì nel 1988 e la sua figura è ancora troppo poco conosciuta. \nSaranno esposti disegni e manifesti dell’artista\, conservati da Italo Ragni\, e a fine serata verrà distribuito gratuitamente il libro. \nL’ingresso è libero.
URL:https://saluspace.eu/event/serata-manai/
LOCATION:Salus Space\, via Malvezza 2/2\, Bologna
END:VEVENT
END:VCALENDAR