BEGIN:VCALENDAR
VERSION:2.0
PRODID:-//Saluspace 2.0 - ECPv6.15.20//NONSGML v1.0//EN
CALSCALE:GREGORIAN
METHOD:PUBLISH
X-ORIGINAL-URL:https://saluspace.eu
X-WR-CALDESC:Eventi per Saluspace 2.0
REFRESH-INTERVAL;VALUE=DURATION:PT1H
X-Robots-Tag:noindex
X-PUBLISHED-TTL:PT1H
BEGIN:VTIMEZONE
TZID:UTC
BEGIN:STANDARD
TZOFFSETFROM:+0000
TZOFFSETTO:+0000
TZNAME:UTC
DTSTART:20200101T000000
END:STANDARD
END:VTIMEZONE
BEGIN:VEVENT
DTSTART;TZID=UTC:20210515T103000
DTEND;TZID=UTC:20210515T123000
DTSTAMP:20260422T234249
CREATED:20210527T104107Z
LAST-MODIFIED:20210527T104107Z
UID:823-1621074600-1621081800@saluspace.eu
SUMMARY:Laboratorio per bambini
DESCRIPTION:Alle 10.30 appuntamento nell’area di via Malvezza 2/2 al treno del Ricomincio per il laboratorio per bambini (dai 5 anni in su). \nMomenti per costruire storie\, giochi e arte! Con la guida degli operatori dei Cantieri Meticci.
URL:https://saluspace.eu/event/laboratorio-per-bambini-4/
LOCATION:Salus Space\, via Malvezza 2/2\, Bologna
ATTACH;FMTTYPE=image/jpeg:https://saluspace.eu/wp-content/uploads/2021/05/laboratori_bambini2.jpg
END:VEVENT
BEGIN:VEVENT
DTSTART;TZID=UTC:20210522T103000
DTEND;TZID=UTC:20210522T133000
DTSTAMP:20260422T234249
CREATED:20210527T103947Z
LAST-MODIFIED:20210527T104204Z
UID:821-1621679400-1621690200@saluspace.eu
SUMMARY:Laboratorio per bambini
DESCRIPTION:Alle 10.30 appuntamento nell’area di via Malvezza 2/2 al treno del Ricomincio per il laboratorio per bambini (dai 5 anni in su). \nMomenti per costruire storie\, giochi e arte! Con la guida degli operatori dei Cantieri Meticci.
URL:https://saluspace.eu/event/laboratorio-per-bambini-3/
LOCATION:Salus Space\, via Malvezza 2/2\, Bologna
ATTACH;FMTTYPE=image/jpeg:https://saluspace.eu/wp-content/uploads/2021/05/laboratori_bambini2.jpg
END:VEVENT
BEGIN:VEVENT
DTSTART;TZID=UTC:20210529T193000
DTEND;TZID=UTC:20210529T203000
DTSTAMP:20260422T234249
CREATED:20210527T075726Z
LAST-MODIFIED:20210527T080704Z
UID:787-1622316600-1622320200@saluspace.eu
SUMMARY:Inaugurazione mostra
DESCRIPTION:Verrà inaugurata la mostra “Le città della nostra vita\, percorso visivo\, sonoro e sensoriale dentro agli scompartimenti di un treno”. \nE’ l’esito finale di uno dei laboratori parte del progetto Auser  Dalle parole agli atti. Idee per la longevità\, curato dai Cantieri Meticci. Per saperne di più: https://www.auserbologna.it/dalleparoleagliatti/ \nPer partecipare all’inaugurazione è necessaria la prenotazione a info@cantierimeticci.it\, tel 339.5972782
URL:https://saluspace.eu/event/inaugurazione-mostra/
LOCATION:Salus Space\, via Malvezza 2/2\, Bologna
ATTACH;FMTTYPE=image/jpeg:https://saluspace.eu/wp-content/uploads/2021/05/Laboratorio-viaggio2-1536x788-1.jpg
END:VEVENT
BEGIN:VEVENT
DTSTART;TZID=UTC:20210530T110000
DTEND;TZID=UTC:20210530T130000
DTSTAMP:20260422T234249
CREATED:20210527T080133Z
LAST-MODIFIED:20210527T081229Z
UID:789-1622372400-1622379600@saluspace.eu
SUMMARY:Laboratorio per bambini
DESCRIPTION:Seguire il canto della balena in un bosco? Succederà in un laboratorio che fa parte del percorso verso la Par Tot Parata. \nDalle 11 alle 13 “Giochiamo! Nel bosco magico delle balene”\, giochi teatrali per bambini dai 5 ai 10 anni. Lo stesso laboratorio si terrà anche domenica 13 giugno. \nPer iscrizioni: seran.vrana@gmail.com\, 347 038 1749
URL:https://saluspace.eu/event/laboratorio-per-bambini-2/
LOCATION:Salus Space\, via Malvezza 2/2\, Bologna
ATTACH;FMTTYPE=image/jpeg:https://saluspace.eu/wp-content/uploads/2021/05/balena.jpg
END:VEVENT
BEGIN:VEVENT
DTSTART;TZID=UTC:20210530T180000
DTEND;TZID=UTC:20210530T220000
DTSTAMP:20260422T234249
CREATED:20210531T130203Z
LAST-MODIFIED:20210531T130203Z
UID:892-1622397600-1622412000@saluspace.eu
SUMMARY:Laboratorio sociale musicale
DESCRIPTION:Il laboratorio diretto e coordinato da Guglielmo Pagnozzi e Reda Zine è aperto a tutti gli strumenti\, non è necessario saper leggere la musica ed è a frequentazione libera. E’ aperto anche a chi si occupa di teatro\, poesia\, danza\, arti visive e qualunque altra attività creativa. \nGli incontri si articolano in momenti teorici di ascolto e discussione sul mondo dell’afrobeat e in lunghi momenti di pratica musicale. \nTramite la pratica diretta e il lavoro musicale su alcuni brani di Fela Kuti verranno analizzate le ritmiche afrobeat per batteria e percussioni\, gli intrecci ritmici per basso e due chitarre\, il ruolo della voce solista e del coro\, la sezione fiati e l’improvvisazione.
URL:https://saluspace.eu/event/laboratorio-sociale-musicale/
LOCATION:Salus Space\, via Malvezza 2/2\, Bologna
ATTACH;FMTTYPE=image/jpeg:https://saluspace.eu/wp-content/uploads/2021/05/afrobeat.jpg
END:VEVENT
END:VCALENDAR