BEGIN:VCALENDAR
VERSION:2.0
PRODID:-//Saluspace 2.0 - ECPv6.15.20//NONSGML v1.0//EN
CALSCALE:GREGORIAN
METHOD:PUBLISH
X-ORIGINAL-URL:https://saluspace.eu
X-WR-CALDESC:Eventi per Saluspace 2.0
REFRESH-INTERVAL;VALUE=DURATION:PT1H
X-Robots-Tag:noindex
X-PUBLISHED-TTL:PT1H
BEGIN:VTIMEZONE
TZID:UTC
BEGIN:STANDARD
TZOFFSETFROM:+0000
TZOFFSETTO:+0000
TZNAME:UTC
DTSTART:20200101T000000
END:STANDARD
END:VTIMEZONE
BEGIN:VEVENT
DTSTART;TZID=UTC:20210605T083000
DTEND;TZID=UTC:20210605T133000
DTSTAMP:20260422T220031
CREATED:20210527T102926Z
LAST-MODIFIED:20210527T102926Z
UID:812-1622881800-1622899800@saluspace.eu
SUMMARY:Mercato Contadino
DESCRIPTION:Mercato settimanale di prodotti locali alimentari e artigianali. \nUova\, ortaggi\, frutta\, miele\, pane e focacce\, birre artigianali e molto altro. \nSono aperti anche l’emporio e la Locanda per spuntini\, colazioni e acquisti di qualità.
URL:https://saluspace.eu/event/mercato-contadino-6/
LOCATION:Salus Space\, via Malvezza 2/2\, Bologna
ATTACH;FMTTYPE=image/jpeg:https://saluspace.eu/wp-content/uploads/2021/05/Mercato_Contadino.jpg
END:VEVENT
BEGIN:VEVENT
DTSTART;TZID=UTC:20210605T103000
DTEND;TZID=UTC:20210605T133000
DTSTAMP:20260422T220031
CREATED:20210527T104344Z
LAST-MODIFIED:20210527T104344Z
UID:825-1622889000-1622899800@saluspace.eu
SUMMARY:Laboratorio per bambini
DESCRIPTION:Alle 10.30 appuntamento nell’area di via Malvezza 2/2 al treno del Ricomincio per il laboratorio per bambini (dai 5 anni in su). \nMomenti per costruire storie\, giochi e arte! Con la guida degli operatori dei Cantieri Meticci.
URL:https://saluspace.eu/event/laboratorio-per-bambini-5/
LOCATION:Salus Space\, via Malvezza 2/2\, Bologna
ATTACH;FMTTYPE=image/jpeg:https://saluspace.eu/wp-content/uploads/2021/05/laboratori_bambini2.jpg
END:VEVENT
BEGIN:VEVENT
DTSTART;TZID=UTC:20210606T180000
DTEND;TZID=UTC:20210606T220000
DTSTAMP:20260422T220031
CREATED:20210531T130336Z
LAST-MODIFIED:20210531T130336Z
UID:895-1623002400-1623016800@saluspace.eu
SUMMARY:Laboratorio sociale musicale
DESCRIPTION:Il laboratorio diretto e coordinato da Guglielmo Pagnozzi e Reda Zine è aperto a tutti gli strumenti\, non è necessario saper leggere la musica ed è a frequentazione libera. E’ aperto anche a chi si occupa di teatro\, poesia\, danza\, arti visive e qualunque altra attività creativa. \nGli incontri si articolano in momenti teorici di ascolto e discussione sul mondo dell’afrobeat e in lunghi momenti di pratica musicale. \nTramite la pratica diretta e il lavoro musicale su alcuni brani di Fela Kuti verranno analizzate le ritmiche afrobeat per batteria e percussioni\, gli intrecci ritmici per basso e due chitarre\, il ruolo della voce solista e del coro\, la sezione fiati e l’improvvisazione.
URL:https://saluspace.eu/event/laboratorio-sociale-musicale-2/
LOCATION:Salus Space\, via Malvezza 2/2\, Bologna
ATTACH;FMTTYPE=image/jpeg:https://saluspace.eu/wp-content/uploads/2021/05/afrobeat.jpg
END:VEVENT
BEGIN:VEVENT
DTSTART;TZID=UTC:20210612T083000
DTEND;TZID=UTC:20210612T133000
DTSTAMP:20260422T220031
CREATED:20210527T103103Z
LAST-MODIFIED:20210527T103103Z
UID:814-1623486600-1623504600@saluspace.eu
SUMMARY:Mercato Contadino
DESCRIPTION:Mercato settimanale di prodotti locali alimentari e artigianali. \nUova\, ortaggi\, frutta\, miele\, pane e focacce\, birre artigianali e molto altro. \nSono aperti anche l’emporio e la Locanda per spuntini\, colazioni e acquisti di qualità.
URL:https://saluspace.eu/event/mercato-contadino-7/
LOCATION:Salus Space\, via Malvezza 2/2\, Bologna
ATTACH;FMTTYPE=image/jpeg:https://saluspace.eu/wp-content/uploads/2021/05/Mercato_Contadino.jpg
END:VEVENT
BEGIN:VEVENT
DTSTART;TZID=UTC:20210613T180000
DTEND;TZID=UTC:20210613T220000
DTSTAMP:20260422T220031
CREATED:20210531T130501Z
LAST-MODIFIED:20210531T130501Z
UID:897-1623607200-1623621600@saluspace.eu
SUMMARY:Laboratorio sociale musicale
DESCRIPTION:Il laboratorio diretto e coordinato da Guglielmo Pagnozzi e Reda Zine è aperto a tutti gli strumenti\, non è necessario saper leggere la musica ed è a frequentazione libera. E’ aperto anche a chi si occupa di teatro\, poesia\, danza\, arti visive e qualunque altra attività creativa. \nGli incontri si articolano in momenti teorici di ascolto e discussione sul mondo dell’afrobeat e in lunghi momenti di pratica musicale. \nTramite la pratica diretta e il lavoro musicale su alcuni brani di Fela Kuti verranno analizzate le ritmiche afrobeat per batteria e percussioni\, gli intrecci ritmici per basso e due chitarre\, il ruolo della voce solista e del coro\, la sezione fiati e l’improvvisazione.
URL:https://saluspace.eu/event/laboratorio-sociale-musicale-3/
LOCATION:Salus Space\, via Malvezza 2/2\, Bologna
ATTACH;FMTTYPE=image/jpeg:https://saluspace.eu/wp-content/uploads/2021/05/afrobeat.jpg
END:VEVENT
BEGIN:VEVENT
DTSTART;TZID=UTC:20210619T193000
DTEND;TZID=UTC:20210619T233000
DTSTAMP:20260422T220031
CREATED:20210614T132049Z
LAST-MODIFIED:20210617T192658Z
UID:1097-1624131000-1624145400@saluspace.eu
SUMMARY:Hotel Balbeeck
DESCRIPTION:Laboratorio spettacolo in occasione della Giornata Mondiale del Rifugiato\, in collaborazione con il Comune di Bologna\, ASP Città di Bologna\, BolognaCares!\, i gestori del Sistema Integrato di accoglienza\, i Comuni aderenti al progetto\, Città Metropolitana e Caritas.\nA cura di Anna Autiero\, Nicola Gencarelli\, Pietro Floridia\nCon Marco Cottignoli\, Sun Elmi\, Hamed Fofana\, Matilde Gosetti\, Seit Kibja\, Katussia Lavezzo\, Jumana Maana\, Tecla Mancino\, Federico Marabini\, Moussa Molla\, Paz Pugliese\, Gina Succi\, Teresa Vignoli\, Maria Teresa Vinella\, Seran Vrana.\nMarsiglia 1942: una città meravigliosa e corrotta\, immersa in un clima di esaltazione e di terrore\, in cui confluiscono migliaia di profughi provenienti da tutt’Europa nella speranza di sfuggire alla persecuzione nazista. Uno degli approdi degli esuli è il Baalbeck\, albergo labirintico\, nei cui corridoi si susseguono le voci: è vero che i tedeschi stanno occupando il resto della Francia? E che una nave piena di profughi ha fatto naufragio? Le voci si moltiplicano\, e così i personaggi\, in una galleria di storie che collegano il passato dell’Europa ad un presente ancora alle prese con un’umanità disperatamente in cerca di varcare le frontiere.
URL:https://saluspace.eu/event/hotel-balbeeck/
LOCATION:Salus Space\, via Malvezza 2/2\, Bologna
ATTACH;FMTTYPE=image/jpeg:https://saluspace.eu/wp-content/uploads/2021/06/prove.jpg
END:VEVENT
BEGIN:VEVENT
DTSTART;TZID=UTC:20210626T163000
DTEND;TZID=UTC:20210626T193000
DTSTAMP:20260422T220031
CREATED:20210531T133104Z
LAST-MODIFIED:20210531T133104Z
UID:900-1624725000-1624735800@saluspace.eu
SUMMARY:Inaugurazione Angolo della Storia
DESCRIPTION:Sabato 26 giugno nel pomeriggio alle 17 sarà inaugurato a Salus Space “L’Angolo della Storia”. \nUn angolo del centro studi è stato infatti dedicato alla storia di Villa Salus\, clinica ortopedica del Professor Oscar Scaglietti\, luminare e precursore nelle cure e negli studi di quel settore della medicina. Sono stati recuperati e restaurati alcuni mobili dell’antica Villa\, oggetti e libri e documenti che ne testimoniano l’esperienza. \nL’iniziativa è curata e voluta da un piccolo gruppo di cittadini.\nVengono presentati due libri sul tema\, di cui uno della collana “Quaderni di Villa Salus”.
URL:https://saluspace.eu/event/inaugurazione-angolo-della-storia/
LOCATION:Salus Space\, via Malvezza 2/2\, Bologna
ATTACH;FMTTYPE=image/jpeg:https://saluspace.eu/wp-content/uploads/2021/05/anni-50.jpg
END:VEVENT
BEGIN:VEVENT
DTSTART;TZID=UTC:20210629T180000
DTEND;TZID=UTC:20210629T190000
DTSTAMP:20260422T220031
CREATED:20210628T090820Z
LAST-MODIFIED:20210701T083601Z
UID:1277-1624989600-1624993200@saluspace.eu
SUMMARY:La sostenibilità in agricoltura urbana
DESCRIPTION:Martedì 29 giugno alle 18 si svolgerà a Salus Space la presentazione del progetto FoodE – La sostenibilità in agricoltura urbana coordinato da Inti Bertocchi del Comune di Bologna.\nL’appuntamento è aperto a tutti.\nVerranno presentati i progetti su Salus Space nella challenge universitaria UrbanFarm21 in relazione poi alle finalità delle azioni pilota di FoodE. \nIn particolare\, durante la serata si parlerà:\n\n\ndel futuro del sistema alimentare dell’Unione Europea insieme a Antonella Samoggia (Dipartimento di Scienze e Tecnologie Agro-alimentari\, Università di Bologna)\ndi agricoltura urbana in Europa e in FoodE insieme a Francesco Orsini e a Giuseppina Pennisi (Dipartimento di Scienze e Tecnologie Agro-alimentari\, Università di Bologna)\ndelle azioni pilota su Salus Space nella rete europea dei sistemi agricoli urbani e regionali con Francesco Lombardo e Luca Settanni di Aquaponic Design\ndi innovazione tecnologica nell’agricoltura urbana insieme a Giovanni Bazzocchi e a Francesca Monticone del Dipartimento di Scienze e Tecnologie Agro-alimentari dell’Università di Bologna.
URL:https://saluspace.eu/event/la-sostenibilita-in-agricoltura-urbana/
LOCATION:Salus Space\, via Malvezza 2/2\, Bologna
ATTACH;FMTTYPE=image/jpeg:https://saluspace.eu/wp-content/uploads/2021/06/agricoltura-1.jpg
END:VEVENT
END:VCALENDAR